BEGIN:VCALENDAR
VERSION:2.0
PRODID:-//Gurnee Park District - ECPv6.15.20//NONSGML v1.0//EN
CALSCALE:GREGORIAN
METHOD:PUBLISH
X-ORIGINAL-URL:https://www.gurneeparkdistrict.com
X-WR-CALDESC:Events for Gurnee Park District
REFRESH-INTERVAL;VALUE=DURATION:PT1H
X-Robots-Tag:noindex
X-PUBLISHED-TTL:PT1H
BEGIN:VTIMEZONE
TZID:America/Chicago
BEGIN:DAYLIGHT
TZOFFSETFROM:-0600
TZOFFSETTO:-0500
TZNAME:CDT
DTSTART:20240310T080000
END:DAYLIGHT
BEGIN:STANDARD
TZOFFSETFROM:-0500
TZOFFSETTO:-0600
TZNAME:CST
DTSTART:20241103T070000
END:STANDARD
BEGIN:DAYLIGHT
TZOFFSETFROM:-0600
TZOFFSETTO:-0500
TZNAME:CDT
DTSTART:20250309T080000
END:DAYLIGHT
BEGIN:STANDARD
TZOFFSETFROM:-0500
TZOFFSETTO:-0600
TZNAME:CST
DTSTART:20251102T070000
END:STANDARD
BEGIN:DAYLIGHT
TZOFFSETFROM:-0600
TZOFFSETTO:-0500
TZNAME:CDT
DTSTART:20260308T080000
END:DAYLIGHT
BEGIN:STANDARD
TZOFFSETFROM:-0500
TZOFFSETTO:-0600
TZNAME:CST
DTSTART:20261101T070000
END:STANDARD
END:VTIMEZONE
BEGIN:VEVENT
DTSTART;TZID=America/Chicago:20251115T090000
DTEND;TZID=America/Chicago:20251115T090000
DTSTAMP:20260421T221508
CREATED:20250605T163107Z
LAST-MODIFIED:20250605T163208Z
UID:10003036-1763197200-1763197200@www.gurneeparkdistrict.com
SUMMARY:GO Gurnee Walking Club
DESCRIPTION:Join the GO Gurnee Walking Club at Des Plaines River Trail: Adler Park Disc Golf Course / Toboggan Run (1500 N. Milwaukee Avenue\, Libertyville)! \nView map location here! \nDirections/Walk Details: Take Milwaukee Avenue South to the traffic light at the Libertyville Fire Station\, turn left into the Adler Park. The Adler Park Disc Golf Course / Toboggan Run is BEHIND the municipal pool so just keep driving around (even PAST THE PLAYGROUND). This trail is an access point to the Des Plaines River Trail. It is packed gravel. The beginning and end of the walk will be a decent size hill\, after that\, it will be mostly flat. Pets allowed. No restrooms. We’ll walk South for 20 or so minutes and then will turn around and head back to the parking lot. If we go to Oak Spring Road & back\, it will be roughly a 3-mile trip. On the return trip if you hit Route 137 (or Gurnee)\, you went too far. \nNot a Walking Club member? Join for FREE today!
URL:https://www.gurneeparkdistrict.com/event/go-gurnee-walking-club-97/
LOCATION:Adler Park Disc Golf Course/ Toboggan Run\, 1500 N. Milwaukee Avenue\, Libertyville\, IL\, 60031\, United States
CATEGORIES:GO Gurnee
ATTACH;FMTTYPE=image/png:https://www.gurneeparkdistrict.com/wp-content/uploads/2025/06/FN2022-Fall-Square.png
END:VEVENT
END:VCALENDAR