BEGIN:VCALENDAR
VERSION:2.0
PRODID:-//Gurnee Park District - ECPv6.15.20//NONSGML v1.0//EN
CALSCALE:GREGORIAN
METHOD:PUBLISH
X-ORIGINAL-URL:https://www.gurneeparkdistrict.com
X-WR-CALDESC:Events for Gurnee Park District
REFRESH-INTERVAL;VALUE=DURATION:PT1H
X-Robots-Tag:noindex
X-PUBLISHED-TTL:PT1H
BEGIN:VTIMEZONE
TZID:America/Chicago
BEGIN:DAYLIGHT
TZOFFSETFROM:-0600
TZOFFSETTO:-0500
TZNAME:CDT
DTSTART:20250309T080000
END:DAYLIGHT
BEGIN:STANDARD
TZOFFSETFROM:-0500
TZOFFSETTO:-0600
TZNAME:CST
DTSTART:20251102T070000
END:STANDARD
BEGIN:DAYLIGHT
TZOFFSETFROM:-0600
TZOFFSETTO:-0500
TZNAME:CDT
DTSTART:20260308T080000
END:DAYLIGHT
BEGIN:STANDARD
TZOFFSETFROM:-0500
TZOFFSETTO:-0600
TZNAME:CST
DTSTART:20261101T070000
END:STANDARD
BEGIN:DAYLIGHT
TZOFFSETFROM:-0600
TZOFFSETTO:-0500
TZNAME:CDT
DTSTART:20270314T080000
END:DAYLIGHT
BEGIN:STANDARD
TZOFFSETFROM:-0500
TZOFFSETTO:-0600
TZNAME:CST
DTSTART:20271107T070000
END:STANDARD
END:VTIMEZONE
BEGIN:VEVENT
DTSTART;TZID=America/Chicago:20260712T130000
DTEND;TZID=America/Chicago:20260712T150000
DTSTAMP:20260423T212913
CREATED:20260423T203900Z
LAST-MODIFIED:20260423T203900Z
UID:10007770-1783861200-1783868400@www.gurneeparkdistrict.com
SUMMARY:Pop Culture Party - Ocean Wayfinder
DESCRIPTION:Get ready for sunshine and sparkle at our summer dance parties! Each party includes a snack and features upbeat dancing\, interactive games\, and themed activities that keep everyone moving and smiling. It’s the\nperfect way to celebrate summer with friends and high-energy fun on the dance floor! \nOCEAN WAYFINDER: Set sail on an ocean-inspired wayfinding adventure filled with island beats\, imagination\, and high-energy dancing! \nSunday\, July 12\n1:00-3:00pm\nHunt Club Park Community Center \nSave your spot! 
URL:https://www.gurneeparkdistrict.com/event/pop-culture-party-ocean-wayfinder/
LOCATION:Hunt Club Park Community Center\, 920 North Hunt Club Road\, Gurnee\, IL\, 60031\, United States
CATEGORIES:Special Events
ATTACH;FMTTYPE=image/png:https://www.gurneeparkdistrict.com/wp-content/uploads/2026/04/GPD2026-CA-Pop-Culture-Parties_Calendar-1080-x-1080-scaled.png
END:VEVENT
BEGIN:VEVENT
DTSTART;TZID=America/Chicago:20260715T173000
DTEND;TZID=America/Chicago:20260715T193000
DTSTAMP:20260423T212913
CREATED:20260416T205444Z
LAST-MODIFIED:20260416T205444Z
UID:10007705-1784136600-1784143800@www.gurneeparkdistrict.com
SUMMARY:Neighborhood Nights - Shaw Park
DESCRIPTION:Join us at Shaw Park for FREE family fun close to home!\nThere will be games & crafts for ages 4-10 years old! In addition\, our friends from Warren-Newport Public Library will be on-site with the Bookmobile!\n \nWednesday\, July 155:30-7:30 pm\n \nRemember to check Rainout Line for inclement weather updates.
URL:https://www.gurneeparkdistrict.com/event/neighborhood-nights-shaw-park/
LOCATION:Shaw Park\, Belle Plaine Avenue and Lee Avenue\, Gurnee\, IL\, 60031\, United States
CATEGORIES:Special Events
ATTACH;FMTTYPE=image/png:https://www.gurneeparkdistrict.com/wp-content/uploads/2026/04/GPD2026-Neighborhood-Nights_Social_Calendar-1080-x-1080-scaled.png
END:VEVENT
BEGIN:VEVENT
DTSTART;TZID=America/Chicago:20260718T090000
DTEND;TZID=America/Chicago:20260718T090000
DTSTAMP:20260423T212913
CREATED:20260416T171552Z
LAST-MODIFIED:20260416T171831Z
UID:10007698-1784365200-1784365200@www.gurneeparkdistrict.com
SUMMARY:GO Gurnee Walking Club
DESCRIPTION:Join the GO Gurnee Walking Club at Vicki Paddock Park (235 O’Plaine Road\, Gurnee)! \nView map location here! \nDirections/Walk Details: Paved path. From the park\, we’ll walk along the nature path (entrance on the South side of VPP/O’Plaine Park) to Route 120 and back\, for a nice 2.5-mile walk. Pets allowed. Restrooms available. Mostly shaded. \nNot a Walking Club member? Join for FREE today!
URL:https://www.gurneeparkdistrict.com/event/go-gurnee-walking-club-131/
LOCATION:Vicki Paddock Park\, 235 O'Plaine Rd\, Gurnee\, IL\, 60031\, United States
CATEGORIES:GO Gurnee
ATTACH;FMTTYPE=image/jpeg:https://www.gurneeparkdistrict.com/wp-content/uploads/2024/01/GoGurnee-Spring_Summer_Walks-square.jpg
GEO:42.355819869296;-87.913762274853
X-APPLE-STRUCTURED-LOCATION;VALUE=URI;X-ADDRESS=Vicki Paddock Park 235 O'Plaine Rd Gurnee IL 60031 United States;X-APPLE-RADIUS=500;X-TITLE=235 O'Plaine Rd:geo:-87.913762274853,42.355819869296
END:VEVENT
BEGIN:VEVENT
DTSTART;TZID=America/Chicago:20260718T130000
DTEND;TZID=America/Chicago:20260718T150000
DTSTAMP:20260423T212913
CREATED:20260423T203053Z
LAST-MODIFIED:20260423T203053Z
UID:10007767-1784379600-1784386800@www.gurneeparkdistrict.com
SUMMARY:Summer Soiree - Discover the Arts
DESCRIPTION:Join us for a relaxed\, welcoming afternoon designed to help families explore the creative opportunities within our Cultural Arts programs. From dance and theatre to creative writing and sewing\, it is the perfect chance for all ages to see what’s available – and what’s coming next. Enjoy mini-class rotations\, meet our talented instructors\, visit information and registration stations\, and share your ideas about the types of programs you’d love to see in our community. \nLight refreshments will be provided as you mix\, mingle\, and discover the arts in a fun\, low-pressure setting. \nWhether you’re new to our programs or looking to try something different\, Summer Soirée is your opportunity to connect\, create\, and help shape the future of Cultural Arts!\nThis event is FREE to attend\, however\, pre-registration is strongly encouraged! \nLet us know you’re planning to attend here! 
URL:https://www.gurneeparkdistrict.com/event/summer-soiree-discover-the-arts/
LOCATION:Hunt Club Park Community Center\, 920 North Hunt Club Road\, Gurnee\, IL\, 60031\, United States
CATEGORIES:Special Events
ATTACH;FMTTYPE=image/png:https://www.gurneeparkdistrict.com/wp-content/uploads/2026/04/GPD2026-CA-Summer-Soiree_Calendar-1080-x-1080-scaled.png
END:VEVENT
END:VCALENDAR