BEGIN:VCALENDAR
VERSION:2.0
PRODID:-//Gurnee Park District - ECPv6.15.20//NONSGML v1.0//EN
CALSCALE:GREGORIAN
METHOD:PUBLISH
X-WR-CALNAME:Gurnee Park District
X-ORIGINAL-URL:https://www.gurneeparkdistrict.com
X-WR-CALDESC:Events for Gurnee Park District
REFRESH-INTERVAL;VALUE=DURATION:PT1H
X-Robots-Tag:noindex
X-PUBLISHED-TTL:PT1H
BEGIN:VTIMEZONE
TZID:America/Chicago
BEGIN:DAYLIGHT
TZOFFSETFROM:-0600
TZOFFSETTO:-0500
TZNAME:CDT
DTSTART:20250309T080000
END:DAYLIGHT
BEGIN:STANDARD
TZOFFSETFROM:-0500
TZOFFSETTO:-0600
TZNAME:CST
DTSTART:20251102T070000
END:STANDARD
BEGIN:DAYLIGHT
TZOFFSETFROM:-0600
TZOFFSETTO:-0500
TZNAME:CDT
DTSTART:20260308T080000
END:DAYLIGHT
BEGIN:STANDARD
TZOFFSETFROM:-0500
TZOFFSETTO:-0600
TZNAME:CST
DTSTART:20261101T070000
END:STANDARD
BEGIN:DAYLIGHT
TZOFFSETFROM:-0600
TZOFFSETTO:-0500
TZNAME:CDT
DTSTART:20270314T080000
END:DAYLIGHT
BEGIN:STANDARD
TZOFFSETFROM:-0500
TZOFFSETTO:-0600
TZNAME:CST
DTSTART:20271107T070000
END:STANDARD
END:VTIMEZONE
BEGIN:VEVENT
DTSTART;VALUE=DATE:20260601
DTEND;VALUE=DATE:20260802
DTSTAMP:20260425T105740
CREATED:20250506T193932Z
LAST-MODIFIED:20260424T202425Z
UID:10002653-1780272000-1785628799@www.gurneeparkdistrict.com
SUMMARY:GO Gurnee StoryWalk
DESCRIPTION:Lace up your sneakers\, bring your strollers\, and join us for a storywalk at Hunt Club Park. Families are invited to read a story as they enjoy a leisurely walk around the pond. Brought to you in partnership with the Warren-Newport Public Library and Gurnee Park District.  \nJune 1 – August 1\nBook: Surf’s Up/¡Vamos a surfear! By Kwame Alexander\nHunt Club Park Pond \nFREE!
URL:https://www.gurneeparkdistrict.com/event/go-gurnee-storywalk/
LOCATION:Hunt Club Park\, 900 N. Hunt Club Road\, Gurnee\, IL\, 60031\, United States
CATEGORIES:GO Gurnee,Special Events
ATTACH;FMTTYPE=image/jpeg:https://www.gurneeparkdistrict.com/wp-content/uploads/2025/05/GPD2021_Storywalks_Social-Square-Ad-scaled.jpg
END:VEVENT
BEGIN:VEVENT
DTSTART;TZID=America/Chicago:20260610T173000
DTEND;TZID=America/Chicago:20260610T193000
DTSTAMP:20260425T105740
CREATED:20260416T204815Z
LAST-MODIFIED:20260416T204815Z
UID:10007701-1781112600-1781119800@www.gurneeparkdistrict.com
SUMMARY:Neighborhood Nights - Village Park
DESCRIPTION:Join us at Village Park for FREE family fun close to home!\nThere will be games & crafts for ages 4-10 years old! In addition\, our friends from Warren-Newport Public Library will be on-site with the Bookmobile!\n \nWednesday\, June 105:30-7:30 pm\n \nRemember to check Rainout Line for inclement weather updates.
URL:https://www.gurneeparkdistrict.com/event/neighborhood-nights-village-park/
LOCATION:Village Park\, Village Park Drive & Continental Drive\, Gurnee\, IL\, 60031\, United States
CATEGORIES:Special Events
ATTACH;FMTTYPE=image/png:https://www.gurneeparkdistrict.com/wp-content/uploads/2026/04/GPD2026-Neighborhood-Nights_Social_Calendar-1080-x-1080-scaled.png
END:VEVENT
BEGIN:VEVENT
DTSTART;TZID=America/Chicago:20260610T190000
DTEND;TZID=America/Chicago:20260610T200000
DTSTAMP:20260425T105740
CREATED:20260219T221618Z
LAST-MODIFIED:20260331T195254Z
UID:10006923-1781118000-1781121600@www.gurneeparkdistrict.com
SUMMARY:NEW! Sound Healing and Meditation (18+)
DESCRIPTION:Release stress\, reset your nervous system\, and feel restored! Each guided meditation session utilizes sound healing techniques and instruments such as singing bowls\, tuning forks\, chimes\, wave drums and gongs. These sessions are designed to create a calming environment that promotes emotional balance\, mindfulness\, and stress relief. Each session will include an introductory segment\, the sound bath experience\, and a brief reflection or Q&A. \nSave your spot!
URL:https://www.gurneeparkdistrict.com/event/new-sound-healing-and-mediation-18/2026-06-10/
LOCATION:Viking Park Community Center\, 4374 Old Grand Avenue\, Gurnee\, IL\, 60031\, United States
CATEGORIES:Special Events
ATTACH;FMTTYPE=image/png:https://www.gurneeparkdistrict.com/wp-content/uploads/2026/02/GPD26_Sound-Healing-Meditation-Square-1.png
END:VEVENT
BEGIN:VEVENT
DTSTART;TZID=America/Chicago:20260611T190000
DTEND;TZID=America/Chicago:20260611T203000
DTSTAMP:20260425T105740
CREATED:20260417T194415Z
LAST-MODIFIED:20260424T141413Z
UID:10007709-1781204400-1781209800@www.gurneeparkdistrict.com
SUMMARY:Sounds of Summer Concert - Latin Swing Factor (FREE)
DESCRIPTION:Join us for Sounds of Summer\, our FREE summer concert series! “Latin Swing Factor” will be performing!\n \nThursday\, June 117:00pmViking Park Band Shell | 4374 Old Grand Avenue\, GurneeAll ages welcome!FREE!\n \nBe sure to bring blankets or chairs.\nDogs are welcome and should be well-behaved and remain on a leash at all times.\n \nRemember to check Rainout Line for inclement weather updates: https://rainoutline.com/gurneeparkdistrict
URL:https://www.gurneeparkdistrict.com/event/sounds-of-summer-concert-latin-swing-factor-free/
LOCATION:Viking Park\, 4374 Old Grand Avenue\, Gurnee\, IL\, 60031\, United States
CATEGORIES:Special Events
ATTACH;FMTTYPE=image/png:https://www.gurneeparkdistrict.com/wp-content/uploads/2026/04/GPD2026-Sounds-of-Summer-Adult-Social-Campaign_Calendar-1-1080-x-1080--scaled.png
END:VEVENT
BEGIN:VEVENT
DTSTART;TZID=America/Chicago:20260612T113000
DTEND;TZID=America/Chicago:20260612T130000
DTSTAMP:20260425T105740
CREATED:20260424T201104Z
LAST-MODIFIED:20260424T201104Z
UID:10007829-1781263800-1781269200@www.gurneeparkdistrict.com
SUMMARY:Monthly Mixer - Summer Luau (55+)
DESCRIPTION:Monthly Mixers are back for June and July at our summer location: Gurnee Community Church | 4555 Old Grand Avenue\, Gurnee\, IL.  \nJoin us for a tropical escape as we transform our luncheon into a lively island celebration! Wear your brightest prints\, embrace the island vibes\, and get ready to hula the afternoon away. Enjoy vibrant Polynesian-style entertainment that brings the spirit of the islands to life. Lunch will include a half ham sandwich from The Honey Baked Ham Company\, served with a side of potato chips and dessert. \nRegistration deadline: 6/7 \nSave your seat!
URL:https://www.gurneeparkdistrict.com/event/monthly-mixer-summer-luau-55/
LOCATION:Gurnee Community Church at Welton Plaza\, 4555 Old Grand Avenue\, Gurnee\, IL\, 60031\, United States
CATEGORIES:Special Events
ATTACH;FMTTYPE=image/png:https://www.gurneeparkdistrict.com/wp-content/uploads/2026/04/GPD2026-Monthly-Mixers_Calendar-1080-x-1080-Summer-scaled.png
END:VEVENT
BEGIN:VEVENT
DTSTART;TZID=America/Chicago:20260612T190000
DTEND;TZID=America/Chicago:20260612T210000
DTSTAMP:20260425T105740
CREATED:20260219T215504Z
LAST-MODIFIED:20260227T143921Z
UID:10006915-1781290800-1781298000@www.gurneeparkdistrict.com
SUMMARY:Families On The Fairway
DESCRIPTION:Swing into fun at our FREE Families on the Fairway event! Located at Bittersweet Golf Club\, Families on the Fairway will include a variety of activities for all ages to enjoy\, including bounce houses\, mini-golf games\, DJ and photo booth\, as well as take home crafts\, courtesy of our friends from the Warren Newport Public Library. \nAdding to the party will be the open driving and putting ranges\, where guests can try to perfect their golf skills! \nDrinks and snacks will be available for purchase during the event from the Bittersweet Golf Club bar and grill. \nThis event is brought to you in partnership with the Village of Gurnee and Bittersweet Golf Club.  \nFriday\, June 12\n7:00-9:00pm\nBittersweet Golf Club \n¡Disfruta de nuestro evento GRATUITO “Familias en el Fairway”! Ubicado en el Club de Golf Bittersweet\, “Familias en el Fairway” incluirá una variedad de actividades para todas las edades\, como castillos inflables\, minigolf\, DJ y fotomatón\, además de manualidades para llevar\, cortesía de nuestros amigos de la Biblioteca Pública Warren Newport. \nPara completar la fiesta\, habrá campos de práctica y putting abiertos\, donde los invitados podrán perfeccionar sus habilidades de golf. \nSe podrán comprar bebidas y refrigerios durante el evento en el bar y parrilla del Club de Golf Bittersweet. \nEste evento se realiza en colaboración con la Villa de Gurnee y el Club de Golf Bittersweet. \nViernes 12 de Junio\n7:00-9:00pm\nClub de Golf Bittersweet
URL:https://www.gurneeparkdistrict.com/event/families-on-the-fairway-3/
LOCATION:Bittersweet Golf Course\, 875 Almond Road\, Gurnee\, IL\, 60031\, United States
CATEGORIES:Special Events
ATTACH;FMTTYPE=image/png:https://www.gurneeparkdistrict.com/wp-content/uploads/2026/02/GPD2026-Families_on_the_Fairway-Socials_Instagram-Post-1080-x-1080-scaled.png
END:VEVENT
END:VCALENDAR