BEGIN:VCALENDAR
VERSION:2.0
PRODID:-//Gurnee Park District - ECPv6.15.20//NONSGML v1.0//EN
CALSCALE:GREGORIAN
METHOD:PUBLISH
X-ORIGINAL-URL:https://www.gurneeparkdistrict.com
X-WR-CALDESC:Events for Gurnee Park District
REFRESH-INTERVAL;VALUE=DURATION:PT1H
X-Robots-Tag:noindex
X-PUBLISHED-TTL:PT1H
BEGIN:VTIMEZONE
TZID:America/Chicago
BEGIN:DAYLIGHT
TZOFFSETFROM:-0600
TZOFFSETTO:-0500
TZNAME:CDT
DTSTART:20250309T080000
END:DAYLIGHT
BEGIN:STANDARD
TZOFFSETFROM:-0500
TZOFFSETTO:-0600
TZNAME:CST
DTSTART:20251102T070000
END:STANDARD
BEGIN:DAYLIGHT
TZOFFSETFROM:-0600
TZOFFSETTO:-0500
TZNAME:CDT
DTSTART:20260308T080000
END:DAYLIGHT
BEGIN:STANDARD
TZOFFSETFROM:-0500
TZOFFSETTO:-0600
TZNAME:CST
DTSTART:20261101T070000
END:STANDARD
BEGIN:DAYLIGHT
TZOFFSETFROM:-0600
TZOFFSETTO:-0500
TZNAME:CDT
DTSTART:20270314T080000
END:DAYLIGHT
BEGIN:STANDARD
TZOFFSETFROM:-0500
TZOFFSETTO:-0600
TZNAME:CST
DTSTART:20271107T070000
END:STANDARD
END:VTIMEZONE
BEGIN:VEVENT
DTSTART;TZID=America/Chicago:20260531T070000
DTEND;TZID=America/Chicago:20260531T183000
DTSTAMP:20260424T211357
CREATED:20260423T165350Z
LAST-MODIFIED:20260423T165350Z
UID:10007766-1780210800-1780252200@www.gurneeparkdistrict.com
SUMMARY:Member Lap Swim
DESCRIPTION:Reserved for FitNation members or day pass visitors. Lifeguards WILL NOT be on duty during member lap swim. View FitNation Pool Rules and Regulations
URL:https://www.gurneeparkdistrict.com/event/member-lap-swim-1624/
LOCATION:FitNation\, 1655 Nations Drive\, Gurnee\, IL\, 60031\, United States
CATEGORIES:FitNation Lap Swim
ATTACH;FMTTYPE=image/png:https://www.gurneeparkdistrict.com/wp-content/uploads/2024/02/Lap-Swim.png
END:VEVENT
BEGIN:VEVENT
DTSTART;TZID=America/Chicago:20260531T070000
DTEND;TZID=America/Chicago:20260531T190000
DTSTAMP:20260424T211357
CREATED:20260424T134017Z
LAST-MODIFIED:20260424T134017Z
UID:10007822-1780210800-1780254000@www.gurneeparkdistrict.com
SUMMARY:FitNation Pickleball - Reservations Required
DESCRIPTION:1) Pickleball is reserved for FitNation members only.\n2) All pickleball players must check-in at the front desk prior to entering the Flex Studio.\n3) Reservations for pickleball play must be made online via our website and will only be held for 15 minutes past the start time of the reservation. The court will be released if the players donâ€™t show by that time.\n4) Reservations made can be no longer than 1 hour per person/group. Multiple people in the same group cannot reserve the court for each person for 1 hour\n5) All group members need to be listed when the reservation is made.\n6) Paddles must be checked out from the front desk and a photo id is required in exchange for the equipment.\n7) Inappropriate language and fighting are prohibited at all times.
URL:https://www.gurneeparkdistrict.com/event/fitnation-pickleball-reservations-required-1156/
LOCATION:FitNation\, 1655 Nations Drive\, Gurnee\, IL\, 60031\, United States
CATEGORIES:FitNation Pickleball
ATTACH;FMTTYPE=image/png:https://www.gurneeparkdistrict.com/wp-content/uploads/2024/04/FN-Pickleball_1.png
END:VEVENT
BEGIN:VEVENT
DTSTART;VALUE=DATE:20260601
DTEND;VALUE=DATE:20260802
DTSTAMP:20260424T211357
CREATED:20250506T193932Z
LAST-MODIFIED:20260424T202425Z
UID:10002653-1780272000-1785628799@www.gurneeparkdistrict.com
SUMMARY:GO Gurnee StoryWalk
DESCRIPTION:Lace up your sneakers\, bring your strollers\, and join us for a storywalk at Hunt Club Park. Families are invited to read a story as they enjoy a leisurely walk around the pond. Brought to you in partnership with the Warren-Newport Public Library and Gurnee Park District.  \nJune 1 – August 1\nBook: Surf’s Up/¡Vamos a surfear! By Kwame Alexander\nHunt Club Park Pond \nFREE!
URL:https://www.gurneeparkdistrict.com/event/go-gurnee-storywalk/
LOCATION:Hunt Club Park\, 900 N. Hunt Club Road\, Gurnee\, IL\, 60031\, United States
CATEGORIES:GO Gurnee,Special Events
ATTACH;FMTTYPE=image/jpeg:https://www.gurneeparkdistrict.com/wp-content/uploads/2025/05/GPD2021_Storywalks_Social-Square-Ad-scaled.jpg
END:VEVENT
BEGIN:VEVENT
DTSTART;TZID=America/Chicago:20260603T173000
DTEND;TZID=America/Chicago:20260603T193000
DTSTAMP:20260424T211357
CREATED:20260416T204552Z
LAST-MODIFIED:20260416T204552Z
UID:10007700-1780507800-1780515000@www.gurneeparkdistrict.com
SUMMARY:Neighborhood Nights - Betty Russell Park
DESCRIPTION:Join us at Betty Russell Park for FREE family fun close to home!\nThere will be games & crafts for ages 4-10 years old! In addition\, our friends from Warren-Newport Public Library will be on-site with the Bookmobile!\n \nWednesday\, June 35:30-7:30 pm\n \nRemember to check Rainout Line for inclement weather updates.
URL:https://www.gurneeparkdistrict.com/event/neighborhood-nights-betty-russell-park-3/
LOCATION:Betty Russell Park\, 5300 Pinewood Road\, Gurnee\, IL\, 60031\, United States
CATEGORIES:Special Events
ATTACH;FMTTYPE=image/png:https://www.gurneeparkdistrict.com/wp-content/uploads/2026/04/GPD2026-Neighborhood-Nights_Social_Calendar-1080-x-1080-scaled.png
END:VEVENT
BEGIN:VEVENT
DTSTART;TZID=America/Chicago:20260605T193000
DTEND;TZID=America/Chicago:20260605T213000
DTSTAMP:20260424T211357
CREATED:20250423T200509Z
LAST-MODIFIED:20260424T202718Z
UID:10007834-1780687800-1780695000@www.gurneeparkdistrict.com
SUMMARY:Jr. High Night
DESCRIPTION:Join your friends for a night at the pool!  \nFriday\, June 5\n7:30-9:30pm\nAges 11-14 \n$10R/$12NR\n*food package available for purchase \nSave your spot!
URL:https://www.gurneeparkdistrict.com/event/jr-high-night-2/2026-06-05/
LOCATION:Hunt Club Park Aquatic Center\, 900 N. Hunt Club Road\, Gurnee\, IL\, 60031\, United States
CATEGORIES:Aquatic Center Events
ATTACH;FMTTYPE=image/png:https://www.gurneeparkdistrict.com/wp-content/uploads/2025/04/HCPAC2025_Junior-High-Night_Calendar-1080-x-1080.png
END:VEVENT
BEGIN:VEVENT
DTSTART;TZID=America/Chicago:20260606T090000
DTEND;TZID=America/Chicago:20260606T090000
DTSTAMP:20260424T211357
CREATED:20260414T205129Z
LAST-MODIFIED:20260414T205137Z
UID:10007692-1780736400-1780736400@www.gurneeparkdistrict.com
SUMMARY:GO Gurnee Walking Club
DESCRIPTION:Join the GO Gurnee Walking Club at Grandwood Park Park District Trails (36630 N. Hutchins Road\, Gurnee)! \nView map location here! \nDirections/Walk Details: The parking lot is just North of their rec center. Several interconnected trails from 1.2 miles – 3.7 miles. Paved & gravel. Pets welcome. Sorry\, no restrooms. \nNot a Walking Club member? Join for FREE today!
URL:https://www.gurneeparkdistrict.com/event/go-gurnee-walking-club-125/
LOCATION:Grandwood Park Park District\, 36630 N. Hutchins Road\, Gurnee\, IL\, 60031\, United States
CATEGORIES:GO Gurnee
ATTACH;FMTTYPE=image/jpeg:https://www.gurneeparkdistrict.com/wp-content/uploads/2024/01/GoGurnee-Spring_Summer_Walks-square.jpg
END:VEVENT
END:VCALENDAR