BEGIN:VCALENDAR
VERSION:2.0
PRODID:-//Gurnee Park District - ECPv6.15.20//NONSGML v1.0//EN
CALSCALE:GREGORIAN
METHOD:PUBLISH
X-ORIGINAL-URL:https://www.gurneeparkdistrict.com
X-WR-CALDESC:Events for Gurnee Park District
REFRESH-INTERVAL;VALUE=DURATION:PT1H
X-Robots-Tag:noindex
X-PUBLISHED-TTL:PT1H
BEGIN:VTIMEZONE
TZID:America/Chicago
BEGIN:DAYLIGHT
TZOFFSETFROM:-0600
TZOFFSETTO:-0500
TZNAME:CDT
DTSTART:20250309T080000
END:DAYLIGHT
BEGIN:STANDARD
TZOFFSETFROM:-0500
TZOFFSETTO:-0600
TZNAME:CST
DTSTART:20251102T070000
END:STANDARD
BEGIN:DAYLIGHT
TZOFFSETFROM:-0600
TZOFFSETTO:-0500
TZNAME:CDT
DTSTART:20260308T080000
END:DAYLIGHT
BEGIN:STANDARD
TZOFFSETFROM:-0500
TZOFFSETTO:-0600
TZNAME:CST
DTSTART:20261101T070000
END:STANDARD
BEGIN:DAYLIGHT
TZOFFSETFROM:-0600
TZOFFSETTO:-0500
TZNAME:CDT
DTSTART:20270314T080000
END:DAYLIGHT
BEGIN:STANDARD
TZOFFSETFROM:-0500
TZOFFSETTO:-0600
TZNAME:CST
DTSTART:20271107T070000
END:STANDARD
END:VTIMEZONE
BEGIN:VEVENT
DTSTART;TZID=America/Chicago:20260524T070000
DTEND;TZID=America/Chicago:20260524T183000
DTSTAMP:20260423T182530
CREATED:20260423T165334Z
LAST-MODIFIED:20260423T165334Z
UID:10007757-1779606000-1779647400@www.gurneeparkdistrict.com
SUMMARY:Member Lap Swim
DESCRIPTION:Reserved for FitNation members or day pass visitors. Lifeguards WILL NOT be on duty during member lap swim. View FitNation Pool Rules and Regulations
URL:https://www.gurneeparkdistrict.com/event/member-lap-swim-1615/
LOCATION:FitNation\, 1655 Nations Drive\, Gurnee\, IL\, 60031\, United States
CATEGORIES:FitNation Lap Swim
ATTACH;FMTTYPE=image/png:https://www.gurneeparkdistrict.com/wp-content/uploads/2024/02/Lap-Swim.png
END:VEVENT
BEGIN:VEVENT
DTSTART;TZID=America/Chicago:20260525T070000
DTEND;TZID=America/Chicago:20260525T113000
DTSTAMP:20260423T182530
CREATED:20260423T165336Z
LAST-MODIFIED:20260423T165336Z
UID:10007758-1779692400-1779708600@www.gurneeparkdistrict.com
SUMMARY:Member Lap Swim
DESCRIPTION:Reserved for FitNation members or day pass visitors. Lifeguards WILL NOT be on duty during member lap swim. View FitNation Pool Rules and Regulations
URL:https://www.gurneeparkdistrict.com/event/member-lap-swim-1616/
LOCATION:FitNation\, 1655 Nations Drive\, Gurnee\, IL\, 60031\, United States
CATEGORIES:FitNation Lap Swim
ATTACH;FMTTYPE=image/png:https://www.gurneeparkdistrict.com/wp-content/uploads/2024/02/Lap-Swim.png
END:VEVENT
BEGIN:VEVENT
DTSTART;TZID=America/Chicago:20260526T050000
DTEND;TZID=America/Chicago:20260526T084500
DTSTAMP:20260423T182530
CREATED:20260423T165338Z
LAST-MODIFIED:20260423T165338Z
UID:10007759-1779771600-1779785100@www.gurneeparkdistrict.com
SUMMARY:Member Lap Swim
DESCRIPTION:Reserved for FitNation members or day pass visitors. Lifeguards WILL NOT be on duty during member lap swim. View FitNation Pool Rules and Regulations
URL:https://www.gurneeparkdistrict.com/event/member-lap-swim-1617/
LOCATION:FitNation\, 1655 Nations Drive\, Gurnee\, IL\, 60031\, United States
CATEGORIES:FitNation Lap Swim
ATTACH;FMTTYPE=image/png:https://www.gurneeparkdistrict.com/wp-content/uploads/2024/02/Lap-Swim.png
END:VEVENT
BEGIN:VEVENT
DTSTART;TZID=America/Chicago:20260526T100000
DTEND;TZID=America/Chicago:20260526T213000
DTSTAMP:20260423T182530
CREATED:20260423T165340Z
LAST-MODIFIED:20260423T165340Z
UID:10007760-1779789600-1779831000@www.gurneeparkdistrict.com
SUMMARY:Member Lap Swim
DESCRIPTION:Reserved for FitNation members or day pass visitors. Lifeguards WILL NOT be on duty during member lap swim. View FitNation Pool Rules and Regulations
URL:https://www.gurneeparkdistrict.com/event/member-lap-swim-1618/
LOCATION:FitNation\, 1655 Nations Drive\, Gurnee\, IL\, 60031\, United States
CATEGORIES:FitNation Lap Swim
ATTACH;FMTTYPE=image/png:https://www.gurneeparkdistrict.com/wp-content/uploads/2024/02/Lap-Swim.png
END:VEVENT
BEGIN:VEVENT
DTSTART;TZID=America/Chicago:20260527T050000
DTEND;TZID=America/Chicago:20260527T213000
DTSTAMP:20260423T182530
CREATED:20260423T165342Z
LAST-MODIFIED:20260423T165342Z
UID:10007761-1779858000-1779917400@www.gurneeparkdistrict.com
SUMMARY:Member Lap Swim
DESCRIPTION:Reserved for FitNation members or day pass visitors. Lifeguards WILL NOT be on duty during member lap swim. View FitNation Pool Rules and Regulations
URL:https://www.gurneeparkdistrict.com/event/member-lap-swim-1619/
LOCATION:FitNation\, 1655 Nations Drive\, Gurnee\, IL\, 60031\, United States
CATEGORIES:FitNation Lap Swim
ATTACH;FMTTYPE=image/png:https://www.gurneeparkdistrict.com/wp-content/uploads/2024/02/Lap-Swim.png
END:VEVENT
BEGIN:VEVENT
DTSTART;TZID=America/Chicago:20260527T190000
DTEND;TZID=America/Chicago:20260527T200000
DTSTAMP:20260423T182530
CREATED:20260219T221618Z
LAST-MODIFIED:20260331T195254Z
UID:10006922-1779908400-1779912000@www.gurneeparkdistrict.com
SUMMARY:NEW! Sound Healing and Meditation (18+)
DESCRIPTION:Release stress\, reset your nervous system\, and feel restored! Each guided meditation session utilizes sound healing techniques and instruments such as singing bowls\, tuning forks\, chimes\, wave drums and gongs. These sessions are designed to create a calming environment that promotes emotional balance\, mindfulness\, and stress relief. Each session will include an introductory segment\, the sound bath experience\, and a brief reflection or Q&A. \nSave your spot!
URL:https://www.gurneeparkdistrict.com/event/new-sound-healing-and-mediation-18/2026-05-27/
LOCATION:Viking Park Community Center\, 4374 Old Grand Avenue\, Gurnee\, IL\, 60031\, United States
CATEGORIES:Special Events
ATTACH;FMTTYPE=image/png:https://www.gurneeparkdistrict.com/wp-content/uploads/2026/02/GPD26_Sound-Healing-Meditation-Square-1.png
END:VEVENT
BEGIN:VEVENT
DTSTART;TZID=America/Chicago:20260528T050000
DTEND;TZID=America/Chicago:20260528T084500
DTSTAMP:20260423T182530
CREATED:20260423T165343Z
LAST-MODIFIED:20260423T165343Z
UID:10007762-1779944400-1779957900@www.gurneeparkdistrict.com
SUMMARY:Member Lap Swim
DESCRIPTION:Reserved for FitNation members or day pass visitors. Lifeguards WILL NOT be on duty during member lap swim. View FitNation Pool Rules and Regulations
URL:https://www.gurneeparkdistrict.com/event/member-lap-swim-1620/
LOCATION:FitNation\, 1655 Nations Drive\, Gurnee\, IL\, 60031\, United States
CATEGORIES:FitNation Lap Swim
ATTACH;FMTTYPE=image/png:https://www.gurneeparkdistrict.com/wp-content/uploads/2024/02/Lap-Swim.png
END:VEVENT
BEGIN:VEVENT
DTSTART;TZID=America/Chicago:20260528T100000
DTEND;TZID=America/Chicago:20260528T213000
DTSTAMP:20260423T182530
CREATED:20260423T165344Z
LAST-MODIFIED:20260423T165344Z
UID:10007763-1779962400-1780003800@www.gurneeparkdistrict.com
SUMMARY:Member Lap Swim
DESCRIPTION:Reserved for FitNation members or day pass visitors. Lifeguards WILL NOT be on duty during member lap swim. View FitNation Pool Rules and Regulations
URL:https://www.gurneeparkdistrict.com/event/member-lap-swim-1621/
LOCATION:FitNation\, 1655 Nations Drive\, Gurnee\, IL\, 60031\, United States
CATEGORIES:FitNation Lap Swim
ATTACH;FMTTYPE=image/png:https://www.gurneeparkdistrict.com/wp-content/uploads/2024/02/Lap-Swim.png
END:VEVENT
BEGIN:VEVENT
DTSTART;TZID=America/Chicago:20260529T050000
DTEND;TZID=America/Chicago:20260529T203000
DTSTAMP:20260423T182530
CREATED:20260423T165347Z
LAST-MODIFIED:20260423T165347Z
UID:10007764-1780030800-1780086600@www.gurneeparkdistrict.com
SUMMARY:Member Lap Swim
DESCRIPTION:Reserved for FitNation members or day pass visitors. Lifeguards WILL NOT be on duty during member lap swim. View FitNation Pool Rules and Regulations
URL:https://www.gurneeparkdistrict.com/event/member-lap-swim-1622/
LOCATION:FitNation\, 1655 Nations Drive\, Gurnee\, IL\, 60031\, United States
CATEGORIES:FitNation Lap Swim
ATTACH;FMTTYPE=image/png:https://www.gurneeparkdistrict.com/wp-content/uploads/2024/02/Lap-Swim.png
END:VEVENT
BEGIN:VEVENT
DTSTART;TZID=America/Chicago:20260530T070000
DTEND;TZID=America/Chicago:20260530T183000
DTSTAMP:20260423T182530
CREATED:20260423T165348Z
LAST-MODIFIED:20260423T165348Z
UID:10007765-1780124400-1780165800@www.gurneeparkdistrict.com
SUMMARY:Member Lap Swim
DESCRIPTION:Reserved for FitNation members or day pass visitors. Lifeguards WILL NOT be on duty during member lap swim. View FitNation Pool Rules and Regulations
URL:https://www.gurneeparkdistrict.com/event/member-lap-swim-1623/
LOCATION:FitNation\, 1655 Nations Drive\, Gurnee\, IL\, 60031\, United States
CATEGORIES:FitNation Lap Swim
ATTACH;FMTTYPE=image/png:https://www.gurneeparkdistrict.com/wp-content/uploads/2024/02/Lap-Swim.png
END:VEVENT
BEGIN:VEVENT
DTSTART;TZID=America/Chicago:20260530T090000
DTEND;TZID=America/Chicago:20260530T090000
DTSTAMP:20260423T182530
CREATED:20260129T160314Z
LAST-MODIFIED:20260129T160324Z
UID:10006905-1780131600-1780131600@www.gurneeparkdistrict.com
SUMMARY:GO Gurnee Walking Club
DESCRIPTION:Join the GO Gurnee Walking Club at Raven Glen East (41080 Route 45\, Antioch)! \nView map location here! \nDirections/Walk Details: This is an open\, gravel trail. Not much shade. The primary loop is 1.4 miles but if you take the spur to Miller Road you can add another 1.1 miles to the trip for a nice 2.5-mile walk. Those really adventurous can walk to Ethel Woods and back for roughly 5 miles total. Pet friendly. Outhouse by the parking lot. \nNot a Walking Club member? Join for FREE today!
URL:https://www.gurneeparkdistrict.com/event/go-gurnee-walking-club-124/
LOCATION:Raven Glen East\, 41080 Route 45\, Antioch\, IL\, 60002\, United States
CATEGORIES:GO Gurnee
ATTACH;FMTTYPE=image/jpeg:https://www.gurneeparkdistrict.com/wp-content/uploads/2024/01/GoGurnee-Spring_Summer_Walks-square.jpg
END:VEVENT
BEGIN:VEVENT
DTSTART;TZID=America/Chicago:20260530T173000
DTEND;TZID=America/Chicago:20260530T193000
DTSTAMP:20260423T182530
CREATED:20260227T143643Z
LAST-MODIFIED:20260305T175826Z
UID:10007321-1780162200-1780169400@www.gurneeparkdistrict.com
SUMMARY:Under the Stars Family Dance
DESCRIPTION:Calling all moms\, dads\, daughters and/or sons\, you’re invited to a night filled with music\, food\, dancing\, and games you’ll never forget! The evening begins with pictures of you and your date in the photo booth\, supplied by Janelle Rominski Photography\, followed by a dinner of chicken fingers\, Italian beef\, mostaccioli\, salad\, fruit\, and dessert.  \nAfter dinner\, put on your dancing shoes and grab a partner as our DJ spins today’s popular dance songs.  \nRegistration deadline is Tuesday\, 5/15/26.  \nSaturday\, May 30\n5:30-7:30pm\nViking Park Community Center\n$25R/$30NR (per person) \nSave a spot!
URL:https://www.gurneeparkdistrict.com/event/under-the-stars-family-dance/
LOCATION:Viking Park\, 4374 Old Grand Avenue\, Gurnee\, IL\, 60031\, United States
CATEGORIES:Special Events
ATTACH;FMTTYPE=image/png:https://www.gurneeparkdistrict.com/wp-content/uploads/2026/02/GPD2026-Under-the-Stars-Socials_Calendar-1080-x-1080-scaled.png
END:VEVENT
END:VCALENDAR