BEGIN:VCALENDAR
VERSION:2.0
PRODID:-//Gurnee Park District - ECPv6.15.20//NONSGML v1.0//EN
CALSCALE:GREGORIAN
METHOD:PUBLISH
X-WR-CALNAME:Gurnee Park District
X-ORIGINAL-URL:https://www.gurneeparkdistrict.com
X-WR-CALDESC:Events for Gurnee Park District
REFRESH-INTERVAL;VALUE=DURATION:PT1H
X-Robots-Tag:noindex
X-PUBLISHED-TTL:PT1H
BEGIN:VTIMEZONE
TZID:America/Chicago
BEGIN:DAYLIGHT
TZOFFSETFROM:-0600
TZOFFSETTO:-0500
TZNAME:CDT
DTSTART:20250309T080000
END:DAYLIGHT
BEGIN:STANDARD
TZOFFSETFROM:-0500
TZOFFSETTO:-0600
TZNAME:CST
DTSTART:20251102T070000
END:STANDARD
BEGIN:DAYLIGHT
TZOFFSETFROM:-0600
TZOFFSETTO:-0500
TZNAME:CDT
DTSTART:20260308T080000
END:DAYLIGHT
BEGIN:STANDARD
TZOFFSETFROM:-0500
TZOFFSETTO:-0600
TZNAME:CST
DTSTART:20261101T070000
END:STANDARD
BEGIN:DAYLIGHT
TZOFFSETFROM:-0600
TZOFFSETTO:-0500
TZNAME:CDT
DTSTART:20270314T080000
END:DAYLIGHT
BEGIN:STANDARD
TZOFFSETFROM:-0500
TZOFFSETTO:-0600
TZNAME:CST
DTSTART:20271107T070000
END:STANDARD
END:VTIMEZONE
BEGIN:VEVENT
DTSTART;TZID=America/Chicago:20260215T090000
DTEND;TZID=America/Chicago:20260215T120000
DTSTAMP:20260422T165347
CREATED:20251106T184929Z
LAST-MODIFIED:20251106T184929Z
UID:10005529-1771146000-1771156800@www.gurneeparkdistrict.com
SUMMARY:Adult Learn to Sew Workshop - Storage Baskets
DESCRIPTION:Sew a set of nesting baskets – perfect for organizing or as reusable gift bags. \nSunday\, February 15\n9:00am-12:00pm\nHunt Club Park Community Center\nAges 14+ \nSave your spot! \nLearn to Sew Workshops with Loopy Connections – Discover the joy of sewing in a relaxed\, project-based format led by Loopy Connections\, Northern Illinois’ community fiber-arts nonprofit. Adult workshops will provide hands-on guidance in learning the basics of a sewing machine\, understanding the parts\, threading\, loading a bobbin\, and sewing simple seams.  \nEach class features a different\, fun\, beginner-friendly project to take home\, so you can sign up for just one or return for multiple workshops to continue building skills\, confidence\, and creativity at your own page.  \nNo prior sewing experience required.\nAll materials and equipment provided. 
URL:https://www.gurneeparkdistrict.com/event/adult-learn-to-sew-workshop-storage-baskets/
LOCATION:Hunt Club Park Community Center\, 920 North Hunt Club Road\, Gurnee\, IL\, 60031\, United States
CATEGORIES:Special Events
ATTACH;FMTTYPE=image/png:https://www.gurneeparkdistrict.com/wp-content/uploads/2025/11/GPD2026_Learn_to_Sew_Workshops.png
END:VEVENT
BEGIN:VEVENT
DTSTART;TZID=America/Chicago:20260216T063000
DTEND;TZID=America/Chicago:20260216T180000
DTSTAMP:20260422T165347
CREATED:20251104T212543Z
LAST-MODIFIED:20251104T212543Z
UID:10005491-1771223400-1771264800@www.gurneeparkdistrict.com
SUMMARY:Days Off School - "Talent Show"
DESCRIPTION:From singing and dancing to jokes and skits\, kids will enjoy a fun-filled day of talent and teamwork. \nPlease bring a sack lunch\, water bottle\, and dress for the weather (some activities may be held outside\, weather permitting). \nSave a spot!
URL:https://www.gurneeparkdistrict.com/event/days-off-school-talent-show/
LOCATION:Hunt Club Park Community Center\, 920 North Hunt Club Road\, Gurnee\, IL\, 60031\, United States
CATEGORIES:Special Events
ATTACH;FMTTYPE=image/png:https://www.gurneeparkdistrict.com/wp-content/uploads/2024/07/GPD-2024-Days-Off-School_Calendar-District-50-56-1080-x-1080.png
END:VEVENT
BEGIN:VEVENT
DTSTART;TZID=America/Chicago:20260217T090000
DTEND;TZID=America/Chicago:20260217T103000
DTSTAMP:20260422T165347
CREATED:20251117T205415Z
LAST-MODIFIED:20260123T181305Z
UID:10006630-1771318800-1771324200@www.gurneeparkdistrict.com
SUMMARY:Toddler Open Gym
DESCRIPTION:$4 R / $5 NR | children under 12 months are free\n$35 R / $44 NR | 10 count punch pass\nPayment is per child. \nToddler Open Gym is available from November – March. \nGreat opportunity for parents\, guardians\, and children to play in a social environment. We ask that a parent(s)/guardian(s) remain with their child(ren) to supervise play.\nPlease note the following safety requests prior to participating in Toddler Open Gym: \n1. Designed for toddlers 0 – 5 years of age\n2. All children must be accompanied by an adult\n3. Please have payment and proof of residency available for our customer service team\n4. Gym shoes must be worn on the court\n5. Street shoes\, roller shoes\, and Heelys are not permitted\n6. Proper\, active attire must be worn\n7. Bottled water is the only food/beverage permitted\n8. Foul/abusive language\, and attempted or physical confrontation are not permitted\n9. Gurnee Park District reserves the right to cancel and/or change Toddler Open Gym schedule at any time.\n10. Failure to adhere to any rule can result in expulsion from the facility\, revocation of membership\, suspension or banning from Toddler Open Gym \n\n\n\n Add to calendar 
URL:https://www.gurneeparkdistrict.com/event/toddler-open-gym-21-2/2026-02-17/
LOCATION:Hunt Club Park Community Center\, 920 North Hunt Club Road\, Gurnee\, IL\, 60031\, United States
CATEGORIES:Special Events,Toddler Open Gym
ATTACH;FMTTYPE=image/png:https://www.gurneeparkdistrict.com/wp-content/uploads/2024/10/GPD24_ToddlerOG.png
END:VEVENT
BEGIN:VEVENT
DTSTART;TZID=America/Chicago:20260218T090000
DTEND;TZID=America/Chicago:20260218T103000
DTSTAMP:20260422T165347
CREATED:20251117T205415Z
LAST-MODIFIED:20260123T181305Z
UID:10006631-1771405200-1771410600@www.gurneeparkdistrict.com
SUMMARY:Toddler Open Gym
DESCRIPTION:$4 R / $5 NR | children under 12 months are free\n$35 R / $44 NR | 10 count punch pass\nPayment is per child. \nToddler Open Gym is available from November – March. \nGreat opportunity for parents\, guardians\, and children to play in a social environment. We ask that a parent(s)/guardian(s) remain with their child(ren) to supervise play.\nPlease note the following safety requests prior to participating in Toddler Open Gym: \n1. Designed for toddlers 0 – 5 years of age\n2. All children must be accompanied by an adult\n3. Please have payment and proof of residency available for our customer service team\n4. Gym shoes must be worn on the court\n5. Street shoes\, roller shoes\, and Heelys are not permitted\n6. Proper\, active attire must be worn\n7. Bottled water is the only food/beverage permitted\n8. Foul/abusive language\, and attempted or physical confrontation are not permitted\n9. Gurnee Park District reserves the right to cancel and/or change Toddler Open Gym schedule at any time.\n10. Failure to adhere to any rule can result in expulsion from the facility\, revocation of membership\, suspension or banning from Toddler Open Gym \n\n\n\n Add to calendar 
URL:https://www.gurneeparkdistrict.com/event/toddler-open-gym-21-2/2026-02-18/
LOCATION:Hunt Club Park Community Center\, 920 North Hunt Club Road\, Gurnee\, IL\, 60031\, United States
CATEGORIES:Special Events,Toddler Open Gym
ATTACH;FMTTYPE=image/png:https://www.gurneeparkdistrict.com/wp-content/uploads/2024/10/GPD24_ToddlerOG.png
END:VEVENT
BEGIN:VEVENT
DTSTART;TZID=America/Chicago:20260219T090000
DTEND;TZID=America/Chicago:20260219T103000
DTSTAMP:20260422T165347
CREATED:20251117T205415Z
LAST-MODIFIED:20260123T181305Z
UID:10006632-1771491600-1771497000@www.gurneeparkdistrict.com
SUMMARY:Toddler Open Gym
DESCRIPTION:$4 R / $5 NR | children under 12 months are free\n$35 R / $44 NR | 10 count punch pass\nPayment is per child. \nToddler Open Gym is available from November – March. \nGreat opportunity for parents\, guardians\, and children to play in a social environment. We ask that a parent(s)/guardian(s) remain with their child(ren) to supervise play.\nPlease note the following safety requests prior to participating in Toddler Open Gym: \n1. Designed for toddlers 0 – 5 years of age\n2. All children must be accompanied by an adult\n3. Please have payment and proof of residency available for our customer service team\n4. Gym shoes must be worn on the court\n5. Street shoes\, roller shoes\, and Heelys are not permitted\n6. Proper\, active attire must be worn\n7. Bottled water is the only food/beverage permitted\n8. Foul/abusive language\, and attempted or physical confrontation are not permitted\n9. Gurnee Park District reserves the right to cancel and/or change Toddler Open Gym schedule at any time.\n10. Failure to adhere to any rule can result in expulsion from the facility\, revocation of membership\, suspension or banning from Toddler Open Gym \n\n\n\n Add to calendar 
URL:https://www.gurneeparkdistrict.com/event/toddler-open-gym-21-2/2026-02-19/
LOCATION:Hunt Club Park Community Center\, 920 North Hunt Club Road\, Gurnee\, IL\, 60031\, United States
CATEGORIES:Special Events,Toddler Open Gym
ATTACH;FMTTYPE=image/png:https://www.gurneeparkdistrict.com/wp-content/uploads/2024/10/GPD24_ToddlerOG.png
END:VEVENT
BEGIN:VEVENT
DTSTART;TZID=America/Chicago:20260219T180000
DTEND;TZID=America/Chicago:20260219T193000
DTSTAMP:20260422T165347
CREATED:20260219T214514Z
LAST-MODIFIED:20260219T214514Z
UID:10006913-1771524000-1771529400@www.gurneeparkdistrict.com
SUMMARY:Lights\, Camera\, SPLASH!
DESCRIPTION:Everyone is invited to dive into a Hollywood-themed pool night filled with swimming\, music\, and simple movie-inspired activities. \nEach swimmer will make a grand entrance down the red carpet\, strike a pose at a fun photo-op spot\, and enjoy a bright\, movie atmosphere throughout the facility. It’s an evening of spotlight fun for all ages—perfect for families looking to add a little movie magic to their night at the pool! \n Children under 3 are free\, all children under the age of 12 must be accompanied by an adult\, and everyone attending must register. \nFriday\, April 24\n6:00-7:30pm\nFitNation’s Indoor Pool | 1655 Nations Drive \nSave your spot!
URL:https://www.gurneeparkdistrict.com/event/lights-camera-splash/
LOCATION:FitNation\, 1655 Nations Drive\, Gurnee\, IL\, 60031\, United States
CATEGORIES:Special Events
ATTACH;FMTTYPE=image/png:https://www.gurneeparkdistrict.com/wp-content/uploads/2026/02/GPD2026-Lights-Camera-Splash_Calendar-1080-x-1080-scaled.png
END:VEVENT
BEGIN:VEVENT
DTSTART;TZID=America/Chicago:20260220T170000
DTEND;TZID=America/Chicago:20260220T183000
DTSTAMP:20260422T165347
CREATED:20251106T180155Z
LAST-MODIFIED:20251111T202114Z
UID:10005521-1771606800-1771612200@www.gurneeparkdistrict.com
SUMMARY:Thief of Hearts - Performing Arts Workshop
DESCRIPTION:After some very special valentines go missing\, our young detectives will have to follow the clues and solve the mystery.  \nThis event is part of our “Famously Fun Performing Arts Workshops” series! Each workshop will provide a snack and offer fun\, themed activities such as crafts\, stories\, and games\, as well as introduce a variety of performance elements\, including signing\, dancing\, acting\, and improvisation. \nFriday\, February 20\n5:00-6:30pm\nHunt Club Park Community Center\nAges 5-12 \nSave your spot!
URL:https://www.gurneeparkdistrict.com/event/thief-of-hearts/
LOCATION:Hunt Club Park Community Center\, 920 North Hunt Club Road\, Gurnee\, IL\, 60031\, United States
CATEGORIES:Special Events
ATTACH;FMTTYPE=image/png:https://www.gurneeparkdistrict.com/wp-content/uploads/2025/07/2.png
END:VEVENT
END:VCALENDAR