BEGIN:VCALENDAR
VERSION:2.0
PRODID:-//Gurnee Park District - ECPv6.15.20//NONSGML v1.0//EN
CALSCALE:GREGORIAN
METHOD:PUBLISH
X-ORIGINAL-URL:https://www.gurneeparkdistrict.com
X-WR-CALDESC:Events for Gurnee Park District
REFRESH-INTERVAL;VALUE=DURATION:PT1H
X-Robots-Tag:noindex
X-PUBLISHED-TTL:PT1H
BEGIN:VTIMEZONE
TZID:America/Chicago
BEGIN:DAYLIGHT
TZOFFSETFROM:-0600
TZOFFSETTO:-0500
TZNAME:CDT
DTSTART:20250309T080000
END:DAYLIGHT
BEGIN:STANDARD
TZOFFSETFROM:-0500
TZOFFSETTO:-0600
TZNAME:CST
DTSTART:20251102T070000
END:STANDARD
BEGIN:DAYLIGHT
TZOFFSETFROM:-0600
TZOFFSETTO:-0500
TZNAME:CDT
DTSTART:20260308T080000
END:DAYLIGHT
BEGIN:STANDARD
TZOFFSETFROM:-0500
TZOFFSETTO:-0600
TZNAME:CST
DTSTART:20261101T070000
END:STANDARD
BEGIN:DAYLIGHT
TZOFFSETFROM:-0600
TZOFFSETTO:-0500
TZNAME:CDT
DTSTART:20270314T080000
END:DAYLIGHT
BEGIN:STANDARD
TZOFFSETFROM:-0500
TZOFFSETTO:-0600
TZNAME:CST
DTSTART:20271107T070000
END:STANDARD
END:VTIMEZONE
BEGIN:VEVENT
DTSTART;TZID=America/Chicago:20260215T070000
DTEND;TZID=America/Chicago:20260215T080000
DTSTAMP:20260420T015934
CREATED:20260121T144053Z
LAST-MODIFIED:20260121T144053Z
UID:10006568-1771138800-1771142400@www.gurneeparkdistrict.com
SUMMARY:POOL CLOSED FOR STAFF TRAINING
DESCRIPTION:
URL:https://www.gurneeparkdistrict.com/event/pool-closed-for-staff-training-3/
LOCATION:FitNation\, 1655 Nations Drive\, Gurnee\, IL\, 60031\, United States
CATEGORIES:FitNation Lap Swim
ATTACH;FMTTYPE=image/png:https://www.gurneeparkdistrict.com/wp-content/uploads/2024/02/Lap-Swim.png
END:VEVENT
BEGIN:VEVENT
DTSTART;TZID=America/Chicago:20260215T070000
DTEND;TZID=America/Chicago:20260215T090000
DTSTAMP:20260420T015934
CREATED:20260123T181029Z
LAST-MODIFIED:20260123T181029Z
UID:10006620-1771138800-1771146000@www.gurneeparkdistrict.com
SUMMARY:Open Pickleball
DESCRIPTION:FREE for FitNation Members\n$5 Fee at Hunt Club and $15 Fee at Nations Drive for Non Members\nPickleball nets will be set up for those who would like to drop-in to practices or play with a group.  Equipment is available to rent and return.  \nPlease note the following safety requests prior to participating:  \n1. Children 8 years and under must be accompanied by an adult\n2. Children 9-11 years old must have a parent or guardian present in the facility\n3. Proof of FitNation membership or payment must be made prior to participating\n4. Only those Gym Drop-In participants are allowed to participate.\n5. Gym shoes must be worn on the court\n6. Street shoes\, roller shoes and Heelys are not permitted\n7. Proper athletic attire must be worn\n8. Bottled water is the only food/beverage permitted\n9. Foul or abusive language or physical confrontation will result in immediate expulsion from the facility\n10. No person or team can own a specific pickleball court\n11. If only one pickleball court is available\, side courts might be required based on age\, skill level and the number of participants\n12. Teaching private lessons and conducting team practices are not permitted\n13. Hunt Club Park Community Center reserves the right to cancel and/or change the Drop-In schedule at any time \nFailure to adhere to any rule can lead to being asked to leave the facility and could result in revocation of FitNation membership\, suspension or banning from Gurnee Park District locations. Thank you for your cooperation.
URL:https://www.gurneeparkdistrict.com/event/open-pickleball-269/
LOCATION:Hunt Club Park Community Center\, 920 North Hunt Club Road\, Gurnee\, IL\, 60031\, United States
CATEGORIES:Hunt Club Pickleball
ATTACH;FMTTYPE=image/png:https://www.gurneeparkdistrict.com/wp-content/uploads/2024/02/HC-Pickleball.png
END:VEVENT
BEGIN:VEVENT
DTSTART;TZID=America/Chicago:20260215T070000
DTEND;TZID=America/Chicago:20260215T190000
DTSTAMP:20260420T015934
CREATED:20260123T183745Z
LAST-MODIFIED:20260123T183745Z
UID:10006658-1771138800-1771182000@www.gurneeparkdistrict.com
SUMMARY:FitNation Pickleball - Reservations Required
DESCRIPTION:1) Pickleball is reserved for FitNation members only.\n2) All pickleball players must check-in at the front desk prior to entering the Flex Studio.\n3) Reservations for pickleball play must be made online via our website and will only be held for 15 minutes past the start time of the reservation. The court will be released if the players do not show by that time.\n4) Reservations made can be no longer than 1 hour per person/group. Multiple people in the same group cannot reserve the court for each person for 1 hour\n5) All group members need to be listed when the reservation is made.\n6) Paddles must be checked out from the front desk and a photo id is required in exchange for the equipment.\n7) Inappropriate language and fighting are prohibited at all times.
URL:https://www.gurneeparkdistrict.com/event/fitnation-pickleball-reservations-required-995/
LOCATION:FitNation\, 1655 Nations Drive\, Gurnee\, IL\, 60031\, United States
CATEGORIES:FitNation Pickleball
ATTACH;FMTTYPE=image/png:https://www.gurneeparkdistrict.com/wp-content/uploads/2024/04/FN-Pickleball_1.png
END:VEVENT
BEGIN:VEVENT
DTSTART;TZID=America/Chicago:20260215T083000
DTEND;TZID=America/Chicago:20260215T092000
DTSTAMP:20260420T015934
CREATED:20260126T181108Z
LAST-MODIFIED:20260126T181108Z
UID:10006788-1771144200-1771147200@www.gurneeparkdistrict.com
SUMMARY:Cycle with Tiffany
DESCRIPTION:An awesome indoor cycling class that provides fun and a challenging cardiovascular workout for all fitness levels. \nDue to limited space\, this class is available to 23 members on a first come\, first serve basis.
URL:https://www.gurneeparkdistrict.com/event/cycle-with-tiffany-199/
LOCATION:FitNation\, 1655 Nations Drive\, Gurnee\, IL\, 60031\, United States
CATEGORIES:Group Exercise
ATTACH;FMTTYPE=image/png:https://www.gurneeparkdistrict.com/wp-content/uploads/2024/01/FitN2020_Group_Ex_Square_1.png
END:VEVENT
BEGIN:VEVENT
DTSTART;TZID=America/Chicago:20260215T084500
DTEND;TZID=America/Chicago:20260215T094000
DTSTAMP:20260420T015934
CREATED:20260126T181109Z
LAST-MODIFIED:20260126T181109Z
UID:10006789-1771145100-1771148400@www.gurneeparkdistrict.com
SUMMARY:Body Balance with Amy
DESCRIPTION:A Yoga\, Tai Chi\, Pilates workout that builds flexibility\, strength and leaves you feeling centered and calm.
URL:https://www.gurneeparkdistrict.com/event/body-balance-with-amy-92/
LOCATION:FitNation\, 1655 Nations Drive\, Gurnee\, IL\, 60031\, United States
CATEGORIES:Group Exercise
ATTACH;FMTTYPE=image/png:https://www.gurneeparkdistrict.com/wp-content/uploads/2024/01/FitN2020_Group_Ex_Square_1.png
END:VEVENT
BEGIN:VEVENT
DTSTART;TZID=America/Chicago:20260215T090000
DTEND;TZID=America/Chicago:20260215T120000
DTSTAMP:20260420T015934
CREATED:20251106T184929Z
LAST-MODIFIED:20251106T184929Z
UID:10005529-1771146000-1771156800@www.gurneeparkdistrict.com
SUMMARY:Adult Learn to Sew Workshop - Storage Baskets
DESCRIPTION:Sew a set of nesting baskets – perfect for organizing or as reusable gift bags. \nSunday\, February 15\n9:00am-12:00pm\nHunt Club Park Community Center\nAges 14+ \nSave your spot! \nLearn to Sew Workshops with Loopy Connections – Discover the joy of sewing in a relaxed\, project-based format led by Loopy Connections\, Northern Illinois’ community fiber-arts nonprofit. Adult workshops will provide hands-on guidance in learning the basics of a sewing machine\, understanding the parts\, threading\, loading a bobbin\, and sewing simple seams.  \nEach class features a different\, fun\, beginner-friendly project to take home\, so you can sign up for just one or return for multiple workshops to continue building skills\, confidence\, and creativity at your own page.  \nNo prior sewing experience required.\nAll materials and equipment provided. 
URL:https://www.gurneeparkdistrict.com/event/adult-learn-to-sew-workshop-storage-baskets/
LOCATION:Hunt Club Park Community Center\, 920 North Hunt Club Road\, Gurnee\, IL\, 60031\, United States
CATEGORIES:Special Events
ATTACH;FMTTYPE=image/png:https://www.gurneeparkdistrict.com/wp-content/uploads/2025/11/GPD2026_Learn_to_Sew_Workshops.png
END:VEVENT
BEGIN:VEVENT
DTSTART;TZID=America/Chicago:20260215T093000
DTEND;TZID=America/Chicago:20260215T100000
DTSTAMP:20260420T015934
CREATED:20260126T181109Z
LAST-MODIFIED:20260126T181109Z
UID:10006790-1771147800-1771149600@www.gurneeparkdistrict.com
SUMMARY:Core and More with Elizabeth
DESCRIPTION:Core & More: 30 or 45 minutes of Core Blast training combined with multi muscular strength moves.
URL:https://www.gurneeparkdistrict.com/event/core-and-more-with-elizabeth-96/
LOCATION:FitNation\, 1655 Nations Drive\, Gurnee\, IL\, 60031\, United States
CATEGORIES:Group Exercise
ATTACH;FMTTYPE=image/png:https://www.gurneeparkdistrict.com/wp-content/uploads/2024/01/FitN2020_Group_Ex_Square_1.png
END:VEVENT
BEGIN:VEVENT
DTSTART;TZID=America/Chicago:20260215T100000
DTEND;TZID=America/Chicago:20260215T110000
DTSTAMP:20260420T015934
CREATED:20260126T181110Z
LAST-MODIFIED:20260126T181110Z
UID:10006791-1771149600-1771153200@www.gurneeparkdistrict.com
SUMMARY:Body Combat with Elizabeth
DESCRIPTION:This fiercely energetic cardio program is inspired by martial arts and draws from a wide array of disciplines such as Karate\, Tae Kwon Do\, Tai Chi and Muay Thai\, supported by powerful music.
URL:https://www.gurneeparkdistrict.com/event/body-combat-with-elizabeth-391/
LOCATION:FitNation\, 1655 Nations Drive\, Gurnee\, IL\, 60031\, United States
CATEGORIES:Group Exercise
ATTACH;FMTTYPE=image/png:https://www.gurneeparkdistrict.com/wp-content/uploads/2024/01/FitN2020_Group_Ex_Square_1.png
END:VEVENT
BEGIN:VEVENT
DTSTART;TZID=America/Chicago:20260215T123000
DTEND;TZID=America/Chicago:20260215T183000
DTSTAMP:20260420T015934
CREATED:20260121T144054Z
LAST-MODIFIED:20260121T144054Z
UID:10006569-1771158600-1771180200@www.gurneeparkdistrict.com
SUMMARY:Member Lap Swim
DESCRIPTION:Reserved for FitNation members or day pass visitors. Lifeguards WILL NOT be on duty during member lap swim. View FitNation Pool Rules and Regulations
URL:https://www.gurneeparkdistrict.com/event/member-lap-swim-1411/
LOCATION:FitNation\, 1655 Nations Drive\, Gurnee\, IL\, 60031\, United States
CATEGORIES:FitNation Lap Swim
ATTACH;FMTTYPE=image/png:https://www.gurneeparkdistrict.com/wp-content/uploads/2024/02/Lap-Swim.png
END:VEVENT
BEGIN:VEVENT
DTSTART;TZID=America/Chicago:20260216T050000
DTEND;TZID=America/Chicago:20260216T084500
DTSTAMP:20260420T015934
CREATED:20260121T144055Z
LAST-MODIFIED:20260121T144055Z
UID:10006570-1771218000-1771231500@www.gurneeparkdistrict.com
SUMMARY:Member Lap Swim
DESCRIPTION:Reserved for FitNation members or day pass visitors. Lifeguards WILL NOT be on duty during member lap swim. View FitNation Pool Rules and Regulations
URL:https://www.gurneeparkdistrict.com/event/member-lap-swim-1412/
LOCATION:FitNation\, 1655 Nations Drive\, Gurnee\, IL\, 60031\, United States
CATEGORIES:FitNation Lap Swim
ATTACH;FMTTYPE=image/png:https://www.gurneeparkdistrict.com/wp-content/uploads/2024/02/Lap-Swim.png
END:VEVENT
BEGIN:VEVENT
DTSTART;TZID=America/Chicago:20260216T050000
DTEND;TZID=America/Chicago:20260216T220000
DTSTAMP:20260420T015934
CREATED:20260123T183746Z
LAST-MODIFIED:20260123T183746Z
UID:10006659-1771218000-1771279200@www.gurneeparkdistrict.com
SUMMARY:FitNation Pickleball - Reservations Required
DESCRIPTION:1) Pickleball is reserved for FitNation members only.\n2) All pickleball players must check-in at the front desk prior to entering the Flex Studio.\n3) Reservations for pickleball play must be made online via our website and will only be held for 15 minutes past the start time of the reservation. The court will be released if the players do not show by that time.\n4) Reservations made can be no longer than 1 hour per person/group. Multiple people in the same group cannot reserve the court for each person for 1 hour\n5) All group members need to be listed when the reservation is made.\n6) Paddles must be checked out from the front desk and a photo id is required in exchange for the equipment.\n7) Inappropriate language and fighting are prohibited at all times.
URL:https://www.gurneeparkdistrict.com/event/fitnation-pickleball-reservations-required-996/
LOCATION:FitNation\, 1655 Nations Drive\, Gurnee\, IL\, 60031\, United States
CATEGORIES:FitNation Pickleball
ATTACH;FMTTYPE=image/png:https://www.gurneeparkdistrict.com/wp-content/uploads/2024/04/FN-Pickleball_1.png
END:VEVENT
BEGIN:VEVENT
DTSTART;TZID=America/Chicago:20260216T063000
DTEND;TZID=America/Chicago:20260216T180000
DTSTAMP:20260420T015934
CREATED:20251104T212543Z
LAST-MODIFIED:20251104T212543Z
UID:10005491-1771223400-1771264800@www.gurneeparkdistrict.com
SUMMARY:Days Off School - "Talent Show"
DESCRIPTION:From singing and dancing to jokes and skits\, kids will enjoy a fun-filled day of talent and teamwork. \nPlease bring a sack lunch\, water bottle\, and dress for the weather (some activities may be held outside\, weather permitting). \nSave a spot!
URL:https://www.gurneeparkdistrict.com/event/days-off-school-talent-show/
LOCATION:Hunt Club Park Community Center\, 920 North Hunt Club Road\, Gurnee\, IL\, 60031\, United States
CATEGORIES:Special Events
ATTACH;FMTTYPE=image/png:https://www.gurneeparkdistrict.com/wp-content/uploads/2024/07/GPD-2024-Days-Off-School_Calendar-District-50-56-1080-x-1080.png
END:VEVENT
BEGIN:VEVENT
DTSTART;TZID=America/Chicago:20260216T083000
DTEND;TZID=America/Chicago:20260216T090000
DTSTAMP:20260420T015934
CREATED:20260126T181158Z
LAST-MODIFIED:20260126T181158Z
UID:10006792-1771230600-1771232400@www.gurneeparkdistrict.com
SUMMARY:Sculpt Series with Mandi
DESCRIPTION:Using a variety of equipment\, this 30 minute strength class will define and sculpt your muscles.  Each week will focus on a different muscle group.
URL:https://www.gurneeparkdistrict.com/event/sculpt-series-with-mandi-72/
LOCATION:FitNation\, 1655 Nations Drive\, Gurnee\, IL\, 60031\, United States
CATEGORIES:Group Exercise
ATTACH;FMTTYPE=image/png:https://www.gurneeparkdistrict.com/wp-content/uploads/2024/01/FitN2020_Group_Ex_Square_1.png
END:VEVENT
BEGIN:VEVENT
DTSTART;TZID=America/Chicago:20260216T084500
DTEND;TZID=America/Chicago:20260216T093500
DTSTAMP:20260420T015934
CREATED:20260126T181158Z
LAST-MODIFIED:20260126T181158Z
UID:10006793-1771231500-1771234500@www.gurneeparkdistrict.com
SUMMARY:Cycle with Tiffany
DESCRIPTION:An awesome indoor cycling class that provides fun and a challenging cardiovascular workout for all fitness levels. \nDue to limited space\, this class is available to 23 members on a first come\, first serve basis.
URL:https://www.gurneeparkdistrict.com/event/cycle-with-tiffany-200/
LOCATION:FitNation\, 1655 Nations Drive\, Gurnee\, IL\, 60031\, United States
CATEGORIES:Group Exercise
ATTACH;FMTTYPE=image/png:https://www.gurneeparkdistrict.com/wp-content/uploads/2024/01/FitN2020_Group_Ex_Square_1.png
END:VEVENT
BEGIN:VEVENT
DTSTART;TZID=America/Chicago:20260216T090000
DTEND;TZID=America/Chicago:20260216T094500
DTSTAMP:20260420T015934
CREATED:20260126T181159Z
LAST-MODIFIED:20260126T181159Z
UID:10006795-1771232400-1771235100@www.gurneeparkdistrict.com
SUMMARY:Body Attack Express with Kristin
DESCRIPTION:A high energy\, sports-inspired interval training cardio workout for building strength and endurance. Fun and powerful music help to motivate everyone towards their fitness goals.
URL:https://www.gurneeparkdistrict.com/event/body-attack-express-with-kristin-92/
LOCATION:FitNation\, 1655 Nations Drive\, Gurnee\, IL\, 60031\, United States
CATEGORIES:Group Exercise
ATTACH;FMTTYPE=image/png:https://www.gurneeparkdistrict.com/wp-content/uploads/2024/01/FitN2020_Group_Ex_Square_1.png
END:VEVENT
BEGIN:VEVENT
DTSTART;TZID=America/Chicago:20260216T090000
DTEND;TZID=America/Chicago:20260216T094500
DTSTAMP:20260420T015934
CREATED:20260126T181200Z
LAST-MODIFIED:20260126T181200Z
UID:10006796-1771232400-1771235100@www.gurneeparkdistrict.com
SUMMARY:Booty Burn with Mandi
DESCRIPTION:Build up your back side with this 45 minutes all glutes and quads class.  A variety of equipment will be used and your booty will be on fire when you are done.
URL:https://www.gurneeparkdistrict.com/event/booty-burn-with-mandi-97/
LOCATION:FitNation\, 1655 Nations Drive\, Gurnee\, IL\, 60031\, United States
CATEGORIES:Group Exercise
ATTACH;FMTTYPE=image/png:https://www.gurneeparkdistrict.com/wp-content/uploads/2024/01/FitN2020_Group_Ex_Square_1.png
END:VEVENT
BEGIN:VEVENT
DTSTART;TZID=America/Chicago:20260216T090000
DTEND;TZID=America/Chicago:20260216T100000
DTSTAMP:20260420T015934
CREATED:20260126T181159Z
LAST-MODIFIED:20260126T181159Z
UID:10006794-1771232400-1771236000@www.gurneeparkdistrict.com
SUMMARY:HydroFit with Diane
DESCRIPTION:Hydro classes use the water’s resistance for an aerobic\, strengthening and ROM workout.  The water allows for less joint impact and an increase in hydrostatic pressure. A great option for active aging members or members returning back to fitness after an injury.
URL:https://www.gurneeparkdistrict.com/event/hydrofit-with-diane-179/
LOCATION:FitNation\, 1655 Nations Drive\, Gurnee\, IL\, 60031\, United States
CATEGORIES:Group Exercise
ATTACH;FMTTYPE=image/png:https://www.gurneeparkdistrict.com/wp-content/uploads/2024/01/FitN2020_Group_Ex_Square_1.png
END:VEVENT
BEGIN:VEVENT
DTSTART;TZID=America/Chicago:20260216T100000
DTEND;TZID=America/Chicago:20260216T105500
DTSTAMP:20260420T015934
CREATED:20260126T181200Z
LAST-MODIFIED:20260126T181200Z
UID:10006797-1771236000-1771239300@www.gurneeparkdistrict.com
SUMMARY:Body Pump with Gina/Elizabeth
DESCRIPTION:A choreographed strength and conditioning classes that uses high repetition with lower weights. Fun and inspiring music is used to motivate participants through 10 powerful tracks. (Please note\, express classes will complete less than 10 tracks.)
URL:https://www.gurneeparkdistrict.com/event/body-pump-with-gina-elizabeth-97/
LOCATION:FitNation\, 1655 Nations Drive\, Gurnee\, IL\, 60031\, United States
CATEGORIES:Group Exercise
ATTACH;FMTTYPE=image/png:https://www.gurneeparkdistrict.com/wp-content/uploads/2024/01/FitN2020_Group_Ex_Square_1.png
END:VEVENT
BEGIN:VEVENT
DTSTART;TZID=America/Chicago:20260216T100000
DTEND;TZID=America/Chicago:20260216T161500
DTSTAMP:20260420T015934
CREATED:20260121T144056Z
LAST-MODIFIED:20260121T144056Z
UID:10006571-1771236000-1771258500@www.gurneeparkdistrict.com
SUMMARY:Member Lap Swim
DESCRIPTION:Reserved for FitNation members or day pass visitors. Lifeguards WILL NOT be on duty during member lap swim. View FitNation Pool Rules and Regulations
URL:https://www.gurneeparkdistrict.com/event/member-lap-swim-1413/
LOCATION:FitNation\, 1655 Nations Drive\, Gurnee\, IL\, 60031\, United States
CATEGORIES:FitNation Lap Swim
ATTACH;FMTTYPE=image/png:https://www.gurneeparkdistrict.com/wp-content/uploads/2024/02/Lap-Swim.png
END:VEVENT
BEGIN:VEVENT
DTSTART;TZID=America/Chicago:20260216T101500
DTEND;TZID=America/Chicago:20260216T110000
DTSTAMP:20260420T015934
CREATED:20260126T181201Z
LAST-MODIFIED:20260126T181201Z
UID:10006798-1771236900-1771239600@www.gurneeparkdistrict.com
SUMMARY:Zumba Gold with Elizabeth/Gina
DESCRIPTION:Zumba moves designed for the active older adult or those looking for a low impact workout.
URL:https://www.gurneeparkdistrict.com/event/zumba-gold-with-elizabeth-gina-97/
LOCATION:FitNation\, 1655 Nations Drive\, Gurnee\, IL\, 60031\, United States
CATEGORIES:Group Exercise
ATTACH;FMTTYPE=image/png:https://www.gurneeparkdistrict.com/wp-content/uploads/2024/01/FitN2020_Group_Ex_Square_1.png
END:VEVENT
BEGIN:VEVENT
DTSTART;TZID=America/Chicago:20260216T173000
DTEND;TZID=America/Chicago:20260216T181500
DTSTAMP:20260420T015934
CREATED:20260126T181202Z
LAST-MODIFIED:20260126T181202Z
UID:10006799-1771263000-1771265700@www.gurneeparkdistrict.com
SUMMARY:Muscle Mashup and Core with Ilona
DESCRIPTION:This class will keep your mind and your muscles guessing what comes next. This strength class will use a variety of training equipment and great music to build muscle and tone your body.
URL:https://www.gurneeparkdistrict.com/event/muscle-mashup-and-core-with-ilona-12/
LOCATION:FitNation\, 1655 Nations Drive\, Gurnee\, IL\, 60031\, United States
CATEGORIES:Group Exercise
ATTACH;FMTTYPE=image/png:https://www.gurneeparkdistrict.com/wp-content/uploads/2024/01/FitN2020_Group_Ex_Square_1.png
END:VEVENT
BEGIN:VEVENT
DTSTART;TZID=America/Chicago:20260216T173000
DTEND;TZID=America/Chicago:20260216T182000
DTSTAMP:20260420T015934
CREATED:20260126T181202Z
LAST-MODIFIED:20260126T181202Z
UID:10006800-1771263000-1771266000@www.gurneeparkdistrict.com
SUMMARY:Zumba with April
DESCRIPTION:A fun\, Latin\, cardio dance class that combines all styles of Latin dance/music.
URL:https://www.gurneeparkdistrict.com/event/zumba-with-april-93/
LOCATION:FitNation\, 1655 Nations Drive\, Gurnee\, IL\, 60031\, United States
CATEGORIES:Group Exercise
ATTACH;FMTTYPE=image/png:https://www.gurneeparkdistrict.com/wp-content/uploads/2024/01/FitN2020_Group_Ex_Square_1.png
END:VEVENT
BEGIN:VEVENT
DTSTART;TZID=America/Chicago:20260216T174500
DTEND;TZID=America/Chicago:20260216T183500
DTSTAMP:20260420T015934
CREATED:20260126T181203Z
LAST-MODIFIED:20260126T181203Z
UID:10006801-1771263900-1771266900@www.gurneeparkdistrict.com
SUMMARY:Cycle with Linda
DESCRIPTION:An awesome indoor cycling class that provides fun and a challenging cardiovascular workout for all fitness levels. \nDue to limited space\, this class is available to 23 members on a first come\, first serve basis.
URL:https://www.gurneeparkdistrict.com/event/cycle-with-linda-100/
LOCATION:FitNation\, 1655 Nations Drive\, Gurnee\, IL\, 60031\, United States
CATEGORIES:Group Exercise
ATTACH;FMTTYPE=image/png:https://www.gurneeparkdistrict.com/wp-content/uploads/2024/01/FitN2020_Group_Ex_Square_1.png
END:VEVENT
BEGIN:VEVENT
DTSTART;TZID=America/Chicago:20260216T183000
DTEND;TZID=America/Chicago:20260216T192500
DTSTAMP:20260420T015934
CREATED:20260126T181203Z
LAST-MODIFIED:20260126T181203Z
UID:10006802-1771266600-1771269900@www.gurneeparkdistrict.com
SUMMARY:Body Balance with Erica
DESCRIPTION:A Yoga\, Tai Chi\, Pilates workout that builds flexibility\, strength and leaves you feeling centered and calm.
URL:https://www.gurneeparkdistrict.com/event/body-balance-with-erica-99/
LOCATION:FitNation\, 1655 Nations Drive\, Gurnee\, IL\, 60031\, United States
CATEGORIES:Group Exercise
ATTACH;FMTTYPE=image/png:https://www.gurneeparkdistrict.com/wp-content/uploads/2024/01/FitN2020_Group_Ex_Square_1.png
END:VEVENT
BEGIN:VEVENT
DTSTART;TZID=America/Chicago:20260216T190000
DTEND;TZID=America/Chicago:20260216T213000
DTSTAMP:20260420T015934
CREATED:20260121T144057Z
LAST-MODIFIED:20260121T144057Z
UID:10006572-1771268400-1771277400@www.gurneeparkdistrict.com
SUMMARY:Member Lap Swim
DESCRIPTION:Reserved for FitNation members or day pass visitors. Lifeguards WILL NOT be on duty during member lap swim. View FitNation Pool Rules and Regulations
URL:https://www.gurneeparkdistrict.com/event/member-lap-swim-1414/
LOCATION:FitNation\, 1655 Nations Drive\, Gurnee\, IL\, 60031\, United States
CATEGORIES:FitNation Lap Swim
ATTACH;FMTTYPE=image/png:https://www.gurneeparkdistrict.com/wp-content/uploads/2024/02/Lap-Swim.png
END:VEVENT
BEGIN:VEVENT
DTSTART;TZID=America/Chicago:20260217T050000
DTEND;TZID=America/Chicago:20260217T084500
DTSTAMP:20260420T015934
CREATED:20260121T144058Z
LAST-MODIFIED:20260121T144058Z
UID:10006573-1771304400-1771317900@www.gurneeparkdistrict.com
SUMMARY:Member Lap Swim
DESCRIPTION:Reserved for FitNation members or day pass visitors. Lifeguards WILL NOT be on duty during member lap swim. View FitNation Pool Rules and Regulations
URL:https://www.gurneeparkdistrict.com/event/member-lap-swim-1415/
LOCATION:FitNation\, 1655 Nations Drive\, Gurnee\, IL\, 60031\, United States
CATEGORIES:FitNation Lap Swim
ATTACH;FMTTYPE=image/png:https://www.gurneeparkdistrict.com/wp-content/uploads/2024/02/Lap-Swim.png
END:VEVENT
BEGIN:VEVENT
DTSTART;TZID=America/Chicago:20260217T050000
DTEND;TZID=America/Chicago:20260217T220000
DTSTAMP:20260420T015934
CREATED:20260123T183747Z
LAST-MODIFIED:20260123T183747Z
UID:10006660-1771304400-1771365600@www.gurneeparkdistrict.com
SUMMARY:FitNation Pickleball - Reservations Required
DESCRIPTION:1) Pickleball is reserved for FitNation members only.\n2) All pickleball players must check-in at the front desk prior to entering the Flex Studio.\n3) Reservations for pickleball play must be made online via our website and will only be held for 15 minutes past the start time of the reservation. The court will be released if the players do not show by that time.\n4) Reservations made can be no longer than 1 hour per person/group. Multiple people in the same group cannot reserve the court for each person for 1 hour\n5) All group members need to be listed when the reservation is made.\n6) Paddles must be checked out from the front desk and a photo id is required in exchange for the equipment.\n7) Inappropriate language and fighting are prohibited at all times.
URL:https://www.gurneeparkdistrict.com/event/fitnation-pickleball-reservations-required-997/
LOCATION:FitNation\, 1655 Nations Drive\, Gurnee\, IL\, 60031\, United States
CATEGORIES:FitNation Pickleball
ATTACH;FMTTYPE=image/png:https://www.gurneeparkdistrict.com/wp-content/uploads/2024/04/FN-Pickleball_1.png
END:VEVENT
BEGIN:VEVENT
DTSTART;TZID=America/Chicago:20260217T073000
DTEND;TZID=America/Chicago:20260217T082000
DTSTAMP:20260420T015934
CREATED:20260126T181204Z
LAST-MODIFIED:20260126T181204Z
UID:10006803-1771313400-1771316400@www.gurneeparkdistrict.com
SUMMARY:TBS with Joy
DESCRIPTION:A class consisting of multi-muscular\, functional strength and balance exercises using a variety of equipment and your own body resistance to build strength and to shape and tone the total body.
URL:https://www.gurneeparkdistrict.com/event/tbs-with-joy-113/
LOCATION:FitNation\, 1655 Nations Drive\, Gurnee\, IL\, 60031\, United States
CATEGORIES:Group Exercise
ATTACH;FMTTYPE=image/png:https://www.gurneeparkdistrict.com/wp-content/uploads/2024/01/FitN2020_Group_Ex_Square_1.png
END:VEVENT
BEGIN:VEVENT
DTSTART;TZID=America/Chicago:20260217T083000
DTEND;TZID=America/Chicago:20260217T090000
DTSTAMP:20260420T015934
CREATED:20260126T181204Z
LAST-MODIFIED:20260126T181204Z
UID:10006804-1771317000-1771318800@www.gurneeparkdistrict.com
SUMMARY:Tabata Cardio with Gina
DESCRIPTION:An intense HIIT cardio workout with 4 minute sets of work consisting of 8 20 sec rounds per set w/ a 10 sec rest.
URL:https://www.gurneeparkdistrict.com/event/tabata-cardio-with-gina-100/
LOCATION:FitNation\, 1655 Nations Drive\, Gurnee\, IL\, 60031\, United States
CATEGORIES:Group Exercise
ATTACH;FMTTYPE=image/png:https://www.gurneeparkdistrict.com/wp-content/uploads/2024/01/FitN2020_Group_Ex_Square_1.png
END:VEVENT
BEGIN:VEVENT
DTSTART;TZID=America/Chicago:20260217T090000
DTEND;TZID=America/Chicago:20260217T094500
DTSTAMP:20260420T015934
CREATED:20260126T181205Z
LAST-MODIFIED:20260126T181205Z
UID:10006806-1771318800-1771321500@www.gurneeparkdistrict.com
SUMMARY:Core and More with Gina
DESCRIPTION:Core & More: 30 or 45 minutes of Core Blast training combined with multi muscular strength moves.
URL:https://www.gurneeparkdistrict.com/event/core-and-more-with-gina-96/
LOCATION:FitNation\, 1655 Nations Drive\, Gurnee\, IL\, 60031\, United States
CATEGORIES:Group Exercise
ATTACH;FMTTYPE=image/png:https://www.gurneeparkdistrict.com/wp-content/uploads/2024/01/FitN2020_Group_Ex_Square_1.png
END:VEVENT
END:VCALENDAR