BEGIN:VCALENDAR
VERSION:2.0
PRODID:-//Gurnee Park District - ECPv6.15.20//NONSGML v1.0//EN
CALSCALE:GREGORIAN
METHOD:PUBLISH
X-ORIGINAL-URL:https://www.gurneeparkdistrict.com
X-WR-CALDESC:Events for Gurnee Park District
REFRESH-INTERVAL;VALUE=DURATION:PT1H
X-Robots-Tag:noindex
X-PUBLISHED-TTL:PT1H
BEGIN:VTIMEZONE
TZID:America/Chicago
BEGIN:DAYLIGHT
TZOFFSETFROM:-0600
TZOFFSETTO:-0500
TZNAME:CDT
DTSTART:20250309T080000
END:DAYLIGHT
BEGIN:STANDARD
TZOFFSETFROM:-0500
TZOFFSETTO:-0600
TZNAME:CST
DTSTART:20251102T070000
END:STANDARD
BEGIN:DAYLIGHT
TZOFFSETFROM:-0600
TZOFFSETTO:-0500
TZNAME:CDT
DTSTART:20260308T080000
END:DAYLIGHT
BEGIN:STANDARD
TZOFFSETFROM:-0500
TZOFFSETTO:-0600
TZNAME:CST
DTSTART:20261101T070000
END:STANDARD
BEGIN:DAYLIGHT
TZOFFSETFROM:-0600
TZOFFSETTO:-0500
TZNAME:CDT
DTSTART:20270314T080000
END:DAYLIGHT
BEGIN:STANDARD
TZOFFSETFROM:-0500
TZOFFSETTO:-0600
TZNAME:CST
DTSTART:20271107T070000
END:STANDARD
END:VTIMEZONE
BEGIN:VEVENT
DTSTART;TZID=America/Chicago:20260208T070000
DTEND;TZID=America/Chicago:20260208T080000
DTSTAMP:20260423T005351
CREATED:20260121T144039Z
LAST-MODIFIED:20260121T144039Z
UID:10006551-1770534000-1770537600@www.gurneeparkdistrict.com
SUMMARY:Member Lap Swim
DESCRIPTION:Reserved for FitNation members or day pass visitors. Lifeguards WILL NOT be on duty during member lap swim. View FitNation Pool Rules and Regulations
URL:https://www.gurneeparkdistrict.com/event/member-lap-swim-1395/
LOCATION:FitNation\, 1655 Nations Drive\, Gurnee\, IL\, 60031\, United States
CATEGORIES:FitNation Lap Swim
ATTACH;FMTTYPE=image/png:https://www.gurneeparkdistrict.com/wp-content/uploads/2024/02/Lap-Swim.png
END:VEVENT
BEGIN:VEVENT
DTSTART;TZID=America/Chicago:20260208T070000
DTEND;TZID=America/Chicago:20260208T090000
DTSTAMP:20260423T005351
CREATED:20260123T181028Z
LAST-MODIFIED:20260123T181028Z
UID:10006618-1770534000-1770541200@www.gurneeparkdistrict.com
SUMMARY:Open Pickleball
DESCRIPTION:FREE for FitNation Members\n$5 Fee at Hunt Club and $15 Fee at Nations Drive for Non Members\nPickleball nets will be set up for those who would like to drop-in to practices or play with a group.  Equipment is available to rent and return.  \nPlease note the following safety requests prior to participating:  \n1. Children 8 years and under must be accompanied by an adult\n2. Children 9-11 years old must have a parent or guardian present in the facility\n3. Proof of FitNation membership or payment must be made prior to participating\n4. Only those Gym Drop-In participants are allowed to participate.\n5. Gym shoes must be worn on the court\n6. Street shoes\, roller shoes and Heelys are not permitted\n7. Proper athletic attire must be worn\n8. Bottled water is the only food/beverage permitted\n9. Foul or abusive language or physical confrontation will result in immediate expulsion from the facility\n10. No person or team can own a specific pickleball court\n11. If only one pickleball court is available\, side courts might be required based on age\, skill level and the number of participants\n12. Teaching private lessons and conducting team practices are not permitted\n13. Hunt Club Park Community Center reserves the right to cancel and/or change the Drop-In schedule at any time \nFailure to adhere to any rule can lead to being asked to leave the facility and could result in revocation of FitNation membership\, suspension or banning from Gurnee Park District locations. Thank you for your cooperation.
URL:https://www.gurneeparkdistrict.com/event/open-pickleball-267/
LOCATION:Hunt Club Park Community Center\, 920 North Hunt Club Road\, Gurnee\, IL\, 60031\, United States
CATEGORIES:Hunt Club Pickleball
ATTACH;FMTTYPE=image/png:https://www.gurneeparkdistrict.com/wp-content/uploads/2024/02/HC-Pickleball.png
END:VEVENT
BEGIN:VEVENT
DTSTART;TZID=America/Chicago:20260208T070000
DTEND;TZID=America/Chicago:20260208T190000
DTSTAMP:20260423T005351
CREATED:20260123T183735Z
LAST-MODIFIED:20260123T183735Z
UID:10006647-1770534000-1770577200@www.gurneeparkdistrict.com
SUMMARY:FitNation Pickleball - Reservations Required
DESCRIPTION:1) Pickleball is reserved for FitNation members only.\n2) All pickleball players must check-in at the front desk prior to entering the Flex Studio.\n3) Reservations for pickleball play must be made online via our website and will only be held for 15 minutes past the start time of the reservation. The court will be released if the players do not show by that time.\n4) Reservations made can be no longer than 1 hour per person/group. Multiple people in the same group cannot reserve the court for each person for 1 hour\n5) All group members need to be listed when the reservation is made.\n6) Paddles must be checked out from the front desk and a photo id is required in exchange for the equipment.\n7) Inappropriate language and fighting are prohibited at all times.
URL:https://www.gurneeparkdistrict.com/event/fitnation-pickleball-reservations-required-984/
LOCATION:FitNation\, 1655 Nations Drive\, Gurnee\, IL\, 60031\, United States
CATEGORIES:FitNation Pickleball
ATTACH;FMTTYPE=image/png:https://www.gurneeparkdistrict.com/wp-content/uploads/2024/04/FN-Pickleball_1.png
END:VEVENT
BEGIN:VEVENT
DTSTART;TZID=America/Chicago:20260208T083000
DTEND;TZID=America/Chicago:20260208T092000
DTSTAMP:20260423T005351
CREATED:20260126T181036Z
LAST-MODIFIED:20260126T181036Z
UID:10006733-1770539400-1770542400@www.gurneeparkdistrict.com
SUMMARY:Cycle with Tiffany
DESCRIPTION:An awesome indoor cycling class that provides fun and a challenging cardiovascular workout for all fitness levels. \nDue to limited space\, this class is available to 23 members on a first come\, first serve basis.
URL:https://www.gurneeparkdistrict.com/event/cycle-with-tiffany-197/
LOCATION:FitNation\, 1655 Nations Drive\, Gurnee\, IL\, 60031\, United States
CATEGORIES:Group Exercise
ATTACH;FMTTYPE=image/png:https://www.gurneeparkdistrict.com/wp-content/uploads/2024/01/FitN2020_Group_Ex_Square_1.png
END:VEVENT
BEGIN:VEVENT
DTSTART;TZID=America/Chicago:20260208T084500
DTEND;TZID=America/Chicago:20260208T094000
DTSTAMP:20260423T005351
CREATED:20260126T181037Z
LAST-MODIFIED:20260126T181037Z
UID:10006734-1770540300-1770543600@www.gurneeparkdistrict.com
SUMMARY:Body Balance with Amy
DESCRIPTION:A Yoga\, Tai Chi\, Pilates workout that builds flexibility\, strength and leaves you feeling centered and calm.
URL:https://www.gurneeparkdistrict.com/event/body-balance-with-amy-91/
LOCATION:FitNation\, 1655 Nations Drive\, Gurnee\, IL\, 60031\, United States
CATEGORIES:Group Exercise
ATTACH;FMTTYPE=image/png:https://www.gurneeparkdistrict.com/wp-content/uploads/2024/01/FitN2020_Group_Ex_Square_1.png
END:VEVENT
BEGIN:VEVENT
DTSTART;TZID=America/Chicago:20260208T093000
DTEND;TZID=America/Chicago:20260208T100000
DTSTAMP:20260423T005351
CREATED:20260126T181038Z
LAST-MODIFIED:20260126T181038Z
UID:10006735-1770543000-1770544800@www.gurneeparkdistrict.com
SUMMARY:Core and More with Elizabeth
DESCRIPTION:Core & More: 30 or 45 minutes of Core Blast training combined with multi muscular strength moves.
URL:https://www.gurneeparkdistrict.com/event/core-and-more-with-elizabeth-95/
LOCATION:FitNation\, 1655 Nations Drive\, Gurnee\, IL\, 60031\, United States
CATEGORIES:Group Exercise
ATTACH;FMTTYPE=image/png:https://www.gurneeparkdistrict.com/wp-content/uploads/2024/01/FitN2020_Group_Ex_Square_1.png
END:VEVENT
BEGIN:VEVENT
DTSTART;TZID=America/Chicago:20260208T100000
DTEND;TZID=America/Chicago:20260208T110000
DTSTAMP:20260423T005351
CREATED:20260126T181038Z
LAST-MODIFIED:20260126T181038Z
UID:10006736-1770544800-1770548400@www.gurneeparkdistrict.com
SUMMARY:Body Combat with Elizabeth
DESCRIPTION:This fiercely energetic cardio program is inspired by martial arts and draws from a wide array of disciplines such as Karate\, Tae Kwon Do\, Tai Chi and Muay Thai\, supported by powerful music.
URL:https://www.gurneeparkdistrict.com/event/body-combat-with-elizabeth-387/
LOCATION:FitNation\, 1655 Nations Drive\, Gurnee\, IL\, 60031\, United States
CATEGORIES:Group Exercise
ATTACH;FMTTYPE=image/png:https://www.gurneeparkdistrict.com/wp-content/uploads/2024/01/FitN2020_Group_Ex_Square_1.png
END:VEVENT
BEGIN:VEVENT
DTSTART;TZID=America/Chicago:20260208T123000
DTEND;TZID=America/Chicago:20260208T143000
DTSTAMP:20260423T005351
CREATED:20251104T175751Z
LAST-MODIFIED:20251104T175751Z
UID:10005480-1770553800-1770561000@www.gurneeparkdistrict.com
SUMMARY:Family Swim
DESCRIPTION:Gather the family and get ready to make a SPLASH at Family Swim! \n$6 (R) | $8 (NR) \nAll participants are required to pay admission\, which can be completed at the front desk upon arrival.
URL:https://www.gurneeparkdistrict.com/event/family-swim/2026-02-08/
LOCATION:IL
CATEGORIES:FitNation Lap Swim,Special Events
ATTACH;FMTTYPE=image/png:https://www.gurneeparkdistrict.com/wp-content/uploads/2025/11/GPD25_Family_Swim.png
END:VEVENT
BEGIN:VEVENT
DTSTART;TZID=America/Chicago:20260208T123000
DTEND;TZID=America/Chicago:20260208T143000
DTSTAMP:20260423T005351
CREATED:20260121T144040Z
LAST-MODIFIED:20260121T144040Z
UID:10006552-1770553800-1770561000@www.gurneeparkdistrict.com
SUMMARY:Member Lap and Family Swim Time
DESCRIPTION:Reserved for FitNation members or families that currently have their children enrolled at Swim School. Children under the age of 16 must be accompanied by an adult 18 years of age or older.
URL:https://www.gurneeparkdistrict.com/event/member-lap-and-family-swim-time-10/
LOCATION:FitNation\, 1655 Nations Drive\, Gurnee\, IL\, 60031\, United States
CATEGORIES:FitNation Lap Swim
ATTACH;FMTTYPE=image/png:https://www.gurneeparkdistrict.com/wp-content/uploads/2024/02/Lap-Swim.png
END:VEVENT
BEGIN:VEVENT
DTSTART;TZID=America/Chicago:20260208T143000
DTEND;TZID=America/Chicago:20260208T183000
DTSTAMP:20260423T005351
CREATED:20260121T144040Z
LAST-MODIFIED:20260121T144040Z
UID:10006553-1770561000-1770575400@www.gurneeparkdistrict.com
SUMMARY:Member Lap Swim
DESCRIPTION:Reserved for FitNation members or day pass visitors. Lifeguards WILL NOT be on duty during member lap swim. View FitNation Pool Rules and Regulations
URL:https://www.gurneeparkdistrict.com/event/member-lap-swim-1396/
LOCATION:FitNation\, 1655 Nations Drive\, Gurnee\, IL\, 60031\, United States
CATEGORIES:FitNation Lap Swim
ATTACH;FMTTYPE=image/png:https://www.gurneeparkdistrict.com/wp-content/uploads/2024/02/Lap-Swim.png
END:VEVENT
BEGIN:VEVENT
DTSTART;TZID=America/Chicago:20260209T050000
DTEND;TZID=America/Chicago:20260209T084500
DTSTAMP:20260423T005351
CREATED:20260121T144041Z
LAST-MODIFIED:20260121T144041Z
UID:10006554-1770613200-1770626700@www.gurneeparkdistrict.com
SUMMARY:Member Lap Swim
DESCRIPTION:Reserved for FitNation members or day pass visitors. Lifeguards WILL NOT be on duty during member lap swim. View FitNation Pool Rules and Regulations
URL:https://www.gurneeparkdistrict.com/event/member-lap-swim-1397/
LOCATION:FitNation\, 1655 Nations Drive\, Gurnee\, IL\, 60031\, United States
CATEGORIES:FitNation Lap Swim
ATTACH;FMTTYPE=image/png:https://www.gurneeparkdistrict.com/wp-content/uploads/2024/02/Lap-Swim.png
END:VEVENT
BEGIN:VEVENT
DTSTART;TZID=America/Chicago:20260209T050000
DTEND;TZID=America/Chicago:20260209T220000
DTSTAMP:20260423T005351
CREATED:20260123T183736Z
LAST-MODIFIED:20260123T183736Z
UID:10006648-1770613200-1770674400@www.gurneeparkdistrict.com
SUMMARY:FitNation Pickleball - Reservations Required
DESCRIPTION:1) Pickleball is reserved for FitNation members only.\n2) All pickleball players must check-in at the front desk prior to entering the Flex Studio.\n3) Reservations for pickleball play must be made online via our website and will only be held for 15 minutes past the start time of the reservation. The court will be released if the players do not show by that time.\n4) Reservations made can be no longer than 1 hour per person/group. Multiple people in the same group cannot reserve the court for each person for 1 hour\n5) All group members need to be listed when the reservation is made.\n6) Paddles must be checked out from the front desk and a photo id is required in exchange for the equipment.\n7) Inappropriate language and fighting are prohibited at all times.
URL:https://www.gurneeparkdistrict.com/event/fitnation-pickleball-reservations-required-985/
LOCATION:FitNation\, 1655 Nations Drive\, Gurnee\, IL\, 60031\, United States
CATEGORIES:FitNation Pickleball
ATTACH;FMTTYPE=image/png:https://www.gurneeparkdistrict.com/wp-content/uploads/2024/04/FN-Pickleball_1.png
END:VEVENT
BEGIN:VEVENT
DTSTART;TZID=America/Chicago:20260209T083000
DTEND;TZID=America/Chicago:20260209T090000
DTSTAMP:20260423T005351
CREATED:20260126T181039Z
LAST-MODIFIED:20260126T181039Z
UID:10006737-1770625800-1770627600@www.gurneeparkdistrict.com
SUMMARY:Sculpt Series with Mandi
DESCRIPTION:Using a variety of equipment\, this 30 minute strength class will define and sculpt your muscles.  Each week will focus on a different muscle group.
URL:https://www.gurneeparkdistrict.com/event/sculpt-series-with-mandi-71/
LOCATION:FitNation\, 1655 Nations Drive\, Gurnee\, IL\, 60031\, United States
CATEGORIES:Group Exercise
ATTACH;FMTTYPE=image/png:https://www.gurneeparkdistrict.com/wp-content/uploads/2024/01/FitN2020_Group_Ex_Square_1.png
END:VEVENT
BEGIN:VEVENT
DTSTART;TZID=America/Chicago:20260209T084500
DTEND;TZID=America/Chicago:20260209T093500
DTSTAMP:20260423T005351
CREATED:20260126T181039Z
LAST-MODIFIED:20260126T181039Z
UID:10006738-1770626700-1770629700@www.gurneeparkdistrict.com
SUMMARY:Cycle with Tiffany
DESCRIPTION:An awesome indoor cycling class that provides fun and a challenging cardiovascular workout for all fitness levels. \nDue to limited space\, this class is available to 23 members on a first come\, first serve basis.
URL:https://www.gurneeparkdistrict.com/event/cycle-with-tiffany-198/
LOCATION:FitNation\, 1655 Nations Drive\, Gurnee\, IL\, 60031\, United States
CATEGORIES:Group Exercise
ATTACH;FMTTYPE=image/png:https://www.gurneeparkdistrict.com/wp-content/uploads/2024/01/FitN2020_Group_Ex_Square_1.png
END:VEVENT
BEGIN:VEVENT
DTSTART;TZID=America/Chicago:20260209T090000
DTEND;TZID=America/Chicago:20260209T094500
DTSTAMP:20260423T005351
CREATED:20260126T181040Z
LAST-MODIFIED:20260126T181040Z
UID:10006740-1770627600-1770630300@www.gurneeparkdistrict.com
SUMMARY:Body Attack Express with Kristin
DESCRIPTION:A high energy\, sports-inspired interval training cardio workout for building strength and endurance. Fun and powerful music help to motivate everyone towards their fitness goals.
URL:https://www.gurneeparkdistrict.com/event/body-attack-express-with-kristin-91/
LOCATION:FitNation\, 1655 Nations Drive\, Gurnee\, IL\, 60031\, United States
CATEGORIES:Group Exercise
ATTACH;FMTTYPE=image/png:https://www.gurneeparkdistrict.com/wp-content/uploads/2024/01/FitN2020_Group_Ex_Square_1.png
END:VEVENT
BEGIN:VEVENT
DTSTART;TZID=America/Chicago:20260209T090000
DTEND;TZID=America/Chicago:20260209T094500
DTSTAMP:20260423T005351
CREATED:20260126T181041Z
LAST-MODIFIED:20260126T181041Z
UID:10006741-1770627600-1770630300@www.gurneeparkdistrict.com
SUMMARY:Booty Burn with Mandi
DESCRIPTION:Build up your back side with this 45 minutes all glutes and quads class.  A variety of equipment will be used and your booty will be on fire when you are done.
URL:https://www.gurneeparkdistrict.com/event/booty-burn-with-mandi-96/
LOCATION:FitNation\, 1655 Nations Drive\, Gurnee\, IL\, 60031\, United States
CATEGORIES:Group Exercise
ATTACH;FMTTYPE=image/png:https://www.gurneeparkdistrict.com/wp-content/uploads/2024/01/FitN2020_Group_Ex_Square_1.png
END:VEVENT
BEGIN:VEVENT
DTSTART;TZID=America/Chicago:20260209T090000
DTEND;TZID=America/Chicago:20260209T100000
DTSTAMP:20260423T005351
CREATED:20260126T181040Z
LAST-MODIFIED:20260126T181040Z
UID:10006739-1770627600-1770631200@www.gurneeparkdistrict.com
SUMMARY:HydroFit with Diane
DESCRIPTION:Hydro classes use the water’s resistance for an aerobic\, strengthening and ROM workout.  The water allows for less joint impact and an increase in hydrostatic pressure. A great option for active aging members or members returning back to fitness after an injury.
URL:https://www.gurneeparkdistrict.com/event/hydrofit-with-diane-177/
LOCATION:FitNation\, 1655 Nations Drive\, Gurnee\, IL\, 60031\, United States
CATEGORIES:Group Exercise
ATTACH;FMTTYPE=image/png:https://www.gurneeparkdistrict.com/wp-content/uploads/2024/01/FitN2020_Group_Ex_Square_1.png
END:VEVENT
BEGIN:VEVENT
DTSTART;TZID=America/Chicago:20260209T100000
DTEND;TZID=America/Chicago:20260209T105500
DTSTAMP:20260423T005351
CREATED:20260126T181041Z
LAST-MODIFIED:20260126T181041Z
UID:10006742-1770631200-1770634500@www.gurneeparkdistrict.com
SUMMARY:Body Pump with Gina/Elizabeth
DESCRIPTION:A choreographed strength and conditioning classes that uses high repetition with lower weights. Fun and inspiring music is used to motivate participants through 10 powerful tracks. (Please note\, express classes will complete less than 10 tracks.)
URL:https://www.gurneeparkdistrict.com/event/body-pump-with-gina-elizabeth-96/
LOCATION:FitNation\, 1655 Nations Drive\, Gurnee\, IL\, 60031\, United States
CATEGORIES:Group Exercise
ATTACH;FMTTYPE=image/png:https://www.gurneeparkdistrict.com/wp-content/uploads/2024/01/FitN2020_Group_Ex_Square_1.png
END:VEVENT
BEGIN:VEVENT
DTSTART;TZID=America/Chicago:20260209T100000
DTEND;TZID=America/Chicago:20260209T161500
DTSTAMP:20260423T005351
CREATED:20260121T144042Z
LAST-MODIFIED:20260121T144042Z
UID:10006555-1770631200-1770653700@www.gurneeparkdistrict.com
SUMMARY:Member Lap Swim
DESCRIPTION:Reserved for FitNation members or day pass visitors. Lifeguards WILL NOT be on duty during member lap swim. View FitNation Pool Rules and Regulations
URL:https://www.gurneeparkdistrict.com/event/member-lap-swim-1398/
LOCATION:FitNation\, 1655 Nations Drive\, Gurnee\, IL\, 60031\, United States
CATEGORIES:FitNation Lap Swim
ATTACH;FMTTYPE=image/png:https://www.gurneeparkdistrict.com/wp-content/uploads/2024/02/Lap-Swim.png
END:VEVENT
BEGIN:VEVENT
DTSTART;TZID=America/Chicago:20260209T101500
DTEND;TZID=America/Chicago:20260209T110000
DTSTAMP:20260423T005351
CREATED:20260126T181042Z
LAST-MODIFIED:20260126T181042Z
UID:10006743-1770632100-1770634800@www.gurneeparkdistrict.com
SUMMARY:Zumba Gold with Elizabeth/Gina
DESCRIPTION:Zumba moves designed for the active older adult or those looking for a low impact workout.
URL:https://www.gurneeparkdistrict.com/event/zumba-gold-with-elizabeth-gina-96/
LOCATION:FitNation\, 1655 Nations Drive\, Gurnee\, IL\, 60031\, United States
CATEGORIES:Group Exercise
ATTACH;FMTTYPE=image/png:https://www.gurneeparkdistrict.com/wp-content/uploads/2024/01/FitN2020_Group_Ex_Square_1.png
END:VEVENT
BEGIN:VEVENT
DTSTART;TZID=America/Chicago:20260209T173000
DTEND;TZID=America/Chicago:20260209T181500
DTSTAMP:20260423T005351
CREATED:20260126T181043Z
LAST-MODIFIED:20260126T181043Z
UID:10006744-1770658200-1770660900@www.gurneeparkdistrict.com
SUMMARY:Muscle Mashup and Core with Ilona
DESCRIPTION:This class will keep your mind and your muscles guessing what comes next. This strength class will use a variety of training equipment and great music to build muscle and tone your body.
URL:https://www.gurneeparkdistrict.com/event/muscle-mashup-and-core-with-ilona-11/
LOCATION:FitNation\, 1655 Nations Drive\, Gurnee\, IL\, 60031\, United States
CATEGORIES:Group Exercise
ATTACH;FMTTYPE=image/png:https://www.gurneeparkdistrict.com/wp-content/uploads/2024/01/FitN2020_Group_Ex_Square_1.png
END:VEVENT
BEGIN:VEVENT
DTSTART;TZID=America/Chicago:20260209T173000
DTEND;TZID=America/Chicago:20260209T182000
DTSTAMP:20260423T005351
CREATED:20260126T181044Z
LAST-MODIFIED:20260126T181044Z
UID:10006745-1770658200-1770661200@www.gurneeparkdistrict.com
SUMMARY:Zumba with April
DESCRIPTION:A fun\, Latin\, cardio dance class that combines all styles of Latin dance/music.
URL:https://www.gurneeparkdistrict.com/event/zumba-with-april-92/
LOCATION:FitNation\, 1655 Nations Drive\, Gurnee\, IL\, 60031\, United States
CATEGORIES:Group Exercise
ATTACH;FMTTYPE=image/png:https://www.gurneeparkdistrict.com/wp-content/uploads/2024/01/FitN2020_Group_Ex_Square_1.png
END:VEVENT
BEGIN:VEVENT
DTSTART;TZID=America/Chicago:20260209T174500
DTEND;TZID=America/Chicago:20260209T183500
DTSTAMP:20260423T005351
CREATED:20260126T181044Z
LAST-MODIFIED:20260126T181044Z
UID:10006746-1770659100-1770662100@www.gurneeparkdistrict.com
SUMMARY:Cycle with Linda
DESCRIPTION:An awesome indoor cycling class that provides fun and a challenging cardiovascular workout for all fitness levels. \nDue to limited space\, this class is available to 23 members on a first come\, first serve basis.
URL:https://www.gurneeparkdistrict.com/event/cycle-with-linda-99/
LOCATION:FitNation\, 1655 Nations Drive\, Gurnee\, IL\, 60031\, United States
CATEGORIES:Group Exercise
ATTACH;FMTTYPE=image/png:https://www.gurneeparkdistrict.com/wp-content/uploads/2024/01/FitN2020_Group_Ex_Square_1.png
END:VEVENT
BEGIN:VEVENT
DTSTART;TZID=America/Chicago:20260209T183000
DTEND;TZID=America/Chicago:20260209T192500
DTSTAMP:20260423T005351
CREATED:20260126T181045Z
LAST-MODIFIED:20260126T181045Z
UID:10006747-1770661800-1770665100@www.gurneeparkdistrict.com
SUMMARY:Body Balance with Erica
DESCRIPTION:A Yoga\, Tai Chi\, Pilates workout that builds flexibility\, strength and leaves you feeling centered and calm.
URL:https://www.gurneeparkdistrict.com/event/body-balance-with-erica-98/
LOCATION:FitNation\, 1655 Nations Drive\, Gurnee\, IL\, 60031\, United States
CATEGORIES:Group Exercise
ATTACH;FMTTYPE=image/png:https://www.gurneeparkdistrict.com/wp-content/uploads/2024/01/FitN2020_Group_Ex_Square_1.png
END:VEVENT
BEGIN:VEVENT
DTSTART;TZID=America/Chicago:20260209T190000
DTEND;TZID=America/Chicago:20260209T213000
DTSTAMP:20260423T005351
CREATED:20260121T144043Z
LAST-MODIFIED:20260121T144043Z
UID:10006556-1770663600-1770672600@www.gurneeparkdistrict.com
SUMMARY:Member Lap Swim
DESCRIPTION:Reserved for FitNation members or day pass visitors. Lifeguards WILL NOT be on duty during member lap swim. View FitNation Pool Rules and Regulations
URL:https://www.gurneeparkdistrict.com/event/member-lap-swim-1399/
LOCATION:FitNation\, 1655 Nations Drive\, Gurnee\, IL\, 60031\, United States
CATEGORIES:FitNation Lap Swim
ATTACH;FMTTYPE=image/png:https://www.gurneeparkdistrict.com/wp-content/uploads/2024/02/Lap-Swim.png
END:VEVENT
BEGIN:VEVENT
DTSTART;TZID=America/Chicago:20260210T050000
DTEND;TZID=America/Chicago:20260210T084500
DTSTAMP:20260423T005351
CREATED:20260121T144044Z
LAST-MODIFIED:20260121T144044Z
UID:10006557-1770699600-1770713100@www.gurneeparkdistrict.com
SUMMARY:Member Lap Swim
DESCRIPTION:Reserved for FitNation members or day pass visitors. Lifeguards WILL NOT be on duty during member lap swim. View FitNation Pool Rules and Regulations
URL:https://www.gurneeparkdistrict.com/event/member-lap-swim-1400/
LOCATION:FitNation\, 1655 Nations Drive\, Gurnee\, IL\, 60031\, United States
CATEGORIES:FitNation Lap Swim
ATTACH;FMTTYPE=image/png:https://www.gurneeparkdistrict.com/wp-content/uploads/2024/02/Lap-Swim.png
END:VEVENT
BEGIN:VEVENT
DTSTART;TZID=America/Chicago:20260210T050000
DTEND;TZID=America/Chicago:20260210T220000
DTSTAMP:20260423T005351
CREATED:20260123T183737Z
LAST-MODIFIED:20260123T183737Z
UID:10006649-1770699600-1770760800@www.gurneeparkdistrict.com
SUMMARY:FitNation Pickleball - Reservations Required
DESCRIPTION:1) Pickleball is reserved for FitNation members only.\n2) All pickleball players must check-in at the front desk prior to entering the Flex Studio.\n3) Reservations for pickleball play must be made online via our website and will only be held for 15 minutes past the start time of the reservation. The court will be released if the players do not show by that time.\n4) Reservations made can be no longer than 1 hour per person/group. Multiple people in the same group cannot reserve the court for each person for 1 hour\n5) All group members need to be listed when the reservation is made.\n6) Paddles must be checked out from the front desk and a photo id is required in exchange for the equipment.\n7) Inappropriate language and fighting are prohibited at all times.
URL:https://www.gurneeparkdistrict.com/event/fitnation-pickleball-reservations-required-986/
LOCATION:FitNation\, 1655 Nations Drive\, Gurnee\, IL\, 60031\, United States
CATEGORIES:FitNation Pickleball
ATTACH;FMTTYPE=image/png:https://www.gurneeparkdistrict.com/wp-content/uploads/2024/04/FN-Pickleball_1.png
END:VEVENT
BEGIN:VEVENT
DTSTART;TZID=America/Chicago:20260210T073000
DTEND;TZID=America/Chicago:20260210T082000
DTSTAMP:20260423T005351
CREATED:20260126T181045Z
LAST-MODIFIED:20260126T181045Z
UID:10006748-1770708600-1770711600@www.gurneeparkdistrict.com
SUMMARY:TBS with Joy
DESCRIPTION:A class consisting of multi-muscular\, functional strength and balance exercises using a variety of equipment and your own body resistance to build strength and to shape and tone the total body.
URL:https://www.gurneeparkdistrict.com/event/tbs-with-joy-111/
LOCATION:FitNation\, 1655 Nations Drive\, Gurnee\, IL\, 60031\, United States
CATEGORIES:Group Exercise
ATTACH;FMTTYPE=image/png:https://www.gurneeparkdistrict.com/wp-content/uploads/2024/01/FitN2020_Group_Ex_Square_1.png
END:VEVENT
BEGIN:VEVENT
DTSTART;TZID=America/Chicago:20260210T083000
DTEND;TZID=America/Chicago:20260210T090000
DTSTAMP:20260423T005351
CREATED:20260126T181046Z
LAST-MODIFIED:20260126T181046Z
UID:10006749-1770712200-1770714000@www.gurneeparkdistrict.com
SUMMARY:Tabata Cardio with Gina
DESCRIPTION:An intense HIIT cardio workout with 4 minute sets of work consisting of 8 20 sec rounds per set w/ a 10 sec rest.
URL:https://www.gurneeparkdistrict.com/event/tabata-cardio-with-gina-99/
LOCATION:FitNation\, 1655 Nations Drive\, Gurnee\, IL\, 60031\, United States
CATEGORIES:Group Exercise
ATTACH;FMTTYPE=image/png:https://www.gurneeparkdistrict.com/wp-content/uploads/2024/01/FitN2020_Group_Ex_Square_1.png
END:VEVENT
BEGIN:VEVENT
DTSTART;TZID=America/Chicago:20260210T090000
DTEND;TZID=America/Chicago:20260210T094500
DTSTAMP:20260423T005351
CREATED:20260126T181047Z
LAST-MODIFIED:20260126T181047Z
UID:10006751-1770714000-1770716700@www.gurneeparkdistrict.com
SUMMARY:Core and More with Gina
DESCRIPTION:Core & More: 30 or 45 minutes of Core Blast training combined with multi muscular strength moves.
URL:https://www.gurneeparkdistrict.com/event/core-and-more-with-gina-95/
LOCATION:FitNation\, 1655 Nations Drive\, Gurnee\, IL\, 60031\, United States
CATEGORIES:Group Exercise
ATTACH;FMTTYPE=image/png:https://www.gurneeparkdistrict.com/wp-content/uploads/2024/01/FitN2020_Group_Ex_Square_1.png
END:VEVENT
END:VCALENDAR