BEGIN:VCALENDAR
VERSION:2.0
PRODID:-//Gurnee Park District - ECPv6.15.20//NONSGML v1.0//EN
CALSCALE:GREGORIAN
METHOD:PUBLISH
X-WR-CALNAME:Gurnee Park District
X-ORIGINAL-URL:https://www.gurneeparkdistrict.com
X-WR-CALDESC:Events for Gurnee Park District
REFRESH-INTERVAL;VALUE=DURATION:PT1H
X-Robots-Tag:noindex
X-PUBLISHED-TTL:PT1H
BEGIN:VTIMEZONE
TZID:America/Chicago
BEGIN:DAYLIGHT
TZOFFSETFROM:-0600
TZOFFSETTO:-0500
TZNAME:CDT
DTSTART:20250309T080000
END:DAYLIGHT
BEGIN:STANDARD
TZOFFSETFROM:-0500
TZOFFSETTO:-0600
TZNAME:CST
DTSTART:20251102T070000
END:STANDARD
BEGIN:DAYLIGHT
TZOFFSETFROM:-0600
TZOFFSETTO:-0500
TZNAME:CDT
DTSTART:20260308T080000
END:DAYLIGHT
BEGIN:STANDARD
TZOFFSETFROM:-0500
TZOFFSETTO:-0600
TZNAME:CST
DTSTART:20261101T070000
END:STANDARD
BEGIN:DAYLIGHT
TZOFFSETFROM:-0600
TZOFFSETTO:-0500
TZNAME:CDT
DTSTART:20270314T080000
END:DAYLIGHT
BEGIN:STANDARD
TZOFFSETFROM:-0500
TZOFFSETTO:-0600
TZNAME:CST
DTSTART:20271107T070000
END:STANDARD
END:VTIMEZONE
BEGIN:VEVENT
DTSTART;TZID=America/Chicago:20260203T090000
DTEND;TZID=America/Chicago:20260203T103000
DTSTAMP:20260421T170618
CREATED:20251117T205415Z
LAST-MODIFIED:20260123T181305Z
UID:10006624-1770109200-1770114600@www.gurneeparkdistrict.com
SUMMARY:Toddler Open Gym
DESCRIPTION:$4 R / $5 NR | children under 12 months are free\n$35 R / $44 NR | 10 count punch pass\nPayment is per child. \nToddler Open Gym is available from November – March. \nGreat opportunity for parents\, guardians\, and children to play in a social environment. We ask that a parent(s)/guardian(s) remain with their child(ren) to supervise play.\nPlease note the following safety requests prior to participating in Toddler Open Gym: \n1. Designed for toddlers 0 – 5 years of age\n2. All children must be accompanied by an adult\n3. Please have payment and proof of residency available for our customer service team\n4. Gym shoes must be worn on the court\n5. Street shoes\, roller shoes\, and Heelys are not permitted\n6. Proper\, active attire must be worn\n7. Bottled water is the only food/beverage permitted\n8. Foul/abusive language\, and attempted or physical confrontation are not permitted\n9. Gurnee Park District reserves the right to cancel and/or change Toddler Open Gym schedule at any time.\n10. Failure to adhere to any rule can result in expulsion from the facility\, revocation of membership\, suspension or banning from Toddler Open Gym \n\n\n\n Add to calendar 
URL:https://www.gurneeparkdistrict.com/event/toddler-open-gym-21-2/2026-02-03/
LOCATION:Hunt Club Park Community Center\, 920 North Hunt Club Road\, Gurnee\, IL\, 60031\, United States
CATEGORIES:Special Events,Toddler Open Gym
ATTACH;FMTTYPE=image/png:https://www.gurneeparkdistrict.com/wp-content/uploads/2024/10/GPD24_ToddlerOG.png
END:VEVENT
BEGIN:VEVENT
DTSTART;TZID=America/Chicago:20260204T090000
DTEND;TZID=America/Chicago:20260204T103000
DTSTAMP:20260421T170618
CREATED:20251117T205415Z
LAST-MODIFIED:20260123T181305Z
UID:10006625-1770195600-1770201000@www.gurneeparkdistrict.com
SUMMARY:Toddler Open Gym
DESCRIPTION:$4 R / $5 NR | children under 12 months are free\n$35 R / $44 NR | 10 count punch pass\nPayment is per child. \nToddler Open Gym is available from November – March. \nGreat opportunity for parents\, guardians\, and children to play in a social environment. We ask that a parent(s)/guardian(s) remain with their child(ren) to supervise play.\nPlease note the following safety requests prior to participating in Toddler Open Gym: \n1. Designed for toddlers 0 – 5 years of age\n2. All children must be accompanied by an adult\n3. Please have payment and proof of residency available for our customer service team\n4. Gym shoes must be worn on the court\n5. Street shoes\, roller shoes\, and Heelys are not permitted\n6. Proper\, active attire must be worn\n7. Bottled water is the only food/beverage permitted\n8. Foul/abusive language\, and attempted or physical confrontation are not permitted\n9. Gurnee Park District reserves the right to cancel and/or change Toddler Open Gym schedule at any time.\n10. Failure to adhere to any rule can result in expulsion from the facility\, revocation of membership\, suspension or banning from Toddler Open Gym \n\n\n\n Add to calendar 
URL:https://www.gurneeparkdistrict.com/event/toddler-open-gym-21-2/2026-02-04/
LOCATION:Hunt Club Park Community Center\, 920 North Hunt Club Road\, Gurnee\, IL\, 60031\, United States
CATEGORIES:Special Events,Toddler Open Gym
ATTACH;FMTTYPE=image/png:https://www.gurneeparkdistrict.com/wp-content/uploads/2024/10/GPD24_ToddlerOG.png
END:VEVENT
BEGIN:VEVENT
DTSTART;TZID=America/Chicago:20260205T090000
DTEND;TZID=America/Chicago:20260205T103000
DTSTAMP:20260421T170618
CREATED:20251117T205415Z
LAST-MODIFIED:20260123T181305Z
UID:10006626-1770282000-1770287400@www.gurneeparkdistrict.com
SUMMARY:Toddler Open Gym
DESCRIPTION:$4 R / $5 NR | children under 12 months are free\n$35 R / $44 NR | 10 count punch pass\nPayment is per child. \nToddler Open Gym is available from November – March. \nGreat opportunity for parents\, guardians\, and children to play in a social environment. We ask that a parent(s)/guardian(s) remain with their child(ren) to supervise play.\nPlease note the following safety requests prior to participating in Toddler Open Gym: \n1. Designed for toddlers 0 – 5 years of age\n2. All children must be accompanied by an adult\n3. Please have payment and proof of residency available for our customer service team\n4. Gym shoes must be worn on the court\n5. Street shoes\, roller shoes\, and Heelys are not permitted\n6. Proper\, active attire must be worn\n7. Bottled water is the only food/beverage permitted\n8. Foul/abusive language\, and attempted or physical confrontation are not permitted\n9. Gurnee Park District reserves the right to cancel and/or change Toddler Open Gym schedule at any time.\n10. Failure to adhere to any rule can result in expulsion from the facility\, revocation of membership\, suspension or banning from Toddler Open Gym \n\n\n\n Add to calendar 
URL:https://www.gurneeparkdistrict.com/event/toddler-open-gym-21-2/2026-02-05/
LOCATION:Hunt Club Park Community Center\, 920 North Hunt Club Road\, Gurnee\, IL\, 60031\, United States
CATEGORIES:Special Events,Toddler Open Gym
ATTACH;FMTTYPE=image/png:https://www.gurneeparkdistrict.com/wp-content/uploads/2024/10/GPD24_ToddlerOG.png
END:VEVENT
BEGIN:VEVENT
DTSTART;TZID=America/Chicago:20260206T180000
DTEND;TZID=America/Chicago:20260206T193000
DTSTAMP:20260421T170618
CREATED:20251106T205604Z
LAST-MODIFIED:20260128T145414Z
UID:10005532-1770400800-1770406200@www.gurneeparkdistrict.com
SUMMARY:Cookies & Cocoa Indoor Swim Event
DESCRIPTION:Join us as we transform the FitNation pool into a warm\, winter wonderland\, just like a giant cup of hot chocolate! Families are invited to enjoy a festive evening filled with swimming\, sweet treats\, and holiday cheer.  \nAll kids under 12 need to be with an adult (16+). Be sure to register everyone!\nAges 2 and under are free! \nFriday\, February 6\n6:00-7:30pm\nFitNation Indoor Pool | 1655 Nations Drive\n$12R/$14NR \nSave your spot! 
URL:https://www.gurneeparkdistrict.com/event/cookies-cocoa-indoor-swim-event/
LOCATION:FitNation\, 1655 Nations Drive\, Gurnee\, IL\, 60031\, United States
CATEGORIES:Special Events
ATTACH;FMTTYPE=image/png:https://www.gurneeparkdistrict.com/wp-content/uploads/2025/11/GPD25_CookiesCocoa_Swim_Square_No-Date.png
END:VEVENT
BEGIN:VEVENT
DTSTART;TZID=America/Chicago:20260206T180000
DTEND;TZID=America/Chicago:20260206T200000
DTSTAMP:20260421T170618
CREATED:20251111T183414Z
LAST-MODIFIED:20251111T183414Z
UID:10005538-1770400800-1770408000@www.gurneeparkdistrict.com
SUMMARY:Shake\, Rattle\, & Roll Back to the '50s (21+)
DESCRIPTION:Slip into your poodle skirt or cuff those blue jeans—it’s time to cruise back to the fabulous 1950s! We’re serving up a classic diner dinner straight from the drive-in days: juicy cheeseburgers\, crispy fries\, and old-fashioned milkshakes that’ll take your taste buds on a trip down memory lane. Then\, get ready to rock as the one and only Jack Lullo brings the magic of Elvis Presley to life! Sing along\, dance in your seat\, or hit the floor as he channels the KING of Rock ‘n’ Roll in an unforgettable performance. \nDon’t miss this blast from the past—good food\, great music\, and a whole lot of retro fun!\nFriday\, February 6\n6:00-8:00pm\nViking Park Dance Hall\nAges 21+ | $20R/$25NR \nSave your spot!
URL:https://www.gurneeparkdistrict.com/event/shake-rattle-roll-back-to-the-50s-21/
LOCATION:Viking Park Community Center\, 4374 Old Grand Avenue\, Gurnee\, IL\, 60031\, United States
CATEGORIES:Special Events
ATTACH;FMTTYPE=image/png:https://www.gurneeparkdistrict.com/wp-content/uploads/2025/11/Shake-Rattle-Roll-1950s-dance.png
END:VEVENT
END:VCALENDAR