BEGIN:VCALENDAR
VERSION:2.0
PRODID:-//Gurnee Park District - ECPv6.15.20//NONSGML v1.0//EN
CALSCALE:GREGORIAN
METHOD:PUBLISH
X-ORIGINAL-URL:https://www.gurneeparkdistrict.com
X-WR-CALDESC:Events for Gurnee Park District
REFRESH-INTERVAL;VALUE=DURATION:PT1H
X-Robots-Tag:noindex
X-PUBLISHED-TTL:PT1H
BEGIN:VTIMEZONE
TZID:America/Chicago
BEGIN:DAYLIGHT
TZOFFSETFROM:-0600
TZOFFSETTO:-0500
TZNAME:CDT
DTSTART:20250309T080000
END:DAYLIGHT
BEGIN:STANDARD
TZOFFSETFROM:-0500
TZOFFSETTO:-0600
TZNAME:CST
DTSTART:20251102T070000
END:STANDARD
BEGIN:DAYLIGHT
TZOFFSETFROM:-0600
TZOFFSETTO:-0500
TZNAME:CDT
DTSTART:20260308T080000
END:DAYLIGHT
BEGIN:STANDARD
TZOFFSETFROM:-0500
TZOFFSETTO:-0600
TZNAME:CST
DTSTART:20261101T070000
END:STANDARD
BEGIN:DAYLIGHT
TZOFFSETFROM:-0600
TZOFFSETTO:-0500
TZNAME:CDT
DTSTART:20270314T080000
END:DAYLIGHT
BEGIN:STANDARD
TZOFFSETFROM:-0500
TZOFFSETTO:-0600
TZNAME:CST
DTSTART:20271107T070000
END:STANDARD
END:VTIMEZONE
BEGIN:VEVENT
DTSTART;TZID=America/Chicago:20260127T090000
DTEND;TZID=America/Chicago:20260127T103000
DTSTAMP:20260423T232540
CREATED:20251117T205415Z
LAST-MODIFIED:20260123T181305Z
UID:10006178-1769504400-1769509800@www.gurneeparkdistrict.com
SUMMARY:Toddler Open Gym
DESCRIPTION:$4 R / $5 NR | children under 12 months are free\n$35 R / $44 NR | 10 count punch pass\nPayment is per child. \nToddler Open Gym is available from November – March. \nGreat opportunity for parents\, guardians\, and children to play in a social environment. We ask that a parent(s)/guardian(s) remain with their child(ren) to supervise play.\nPlease note the following safety requests prior to participating in Toddler Open Gym: \n1. Designed for toddlers 0 – 5 years of age\n2. All children must be accompanied by an adult\n3. Please have payment and proof of residency available for our customer service team\n4. Gym shoes must be worn on the court\n5. Street shoes\, roller shoes\, and Heelys are not permitted\n6. Proper\, active attire must be worn\n7. Bottled water is the only food/beverage permitted\n8. Foul/abusive language\, and attempted or physical confrontation are not permitted\n9. Gurnee Park District reserves the right to cancel and/or change Toddler Open Gym schedule at any time.\n10. Failure to adhere to any rule can result in expulsion from the facility\, revocation of membership\, suspension or banning from Toddler Open Gym \n\n\n\n Add to calendar 
URL:https://www.gurneeparkdistrict.com/event/toddler-open-gym-21-2/2026-01-27/
LOCATION:Hunt Club Park Community Center\, 920 North Hunt Club Road\, Gurnee\, IL\, 60031\, United States
CATEGORIES:Special Events,Toddler Open Gym
ATTACH;FMTTYPE=image/png:https://www.gurneeparkdistrict.com/wp-content/uploads/2024/10/GPD24_ToddlerOG.png
END:VEVENT
BEGIN:VEVENT
DTSTART;TZID=America/Chicago:20260127T163000
DTEND;TZID=America/Chicago:20260127T173000
DTSTAMP:20260423T232540
CREATED:20251105T180332Z
LAST-MODIFIED:20251111T201914Z
UID:10005498-1769531400-1769535000@www.gurneeparkdistrict.com
SUMMARY:One Day Youth Enrichment Class - "Snow Much Fun"
DESCRIPTION:Brighten your winter days with these new and exciting\, fun-filled classes led by Gurnee Park District staff. Classes will be split up by age groups 3-5 years and 6-10 years depending on enrollment.  \nSnow Much Fun – This winter-themed class combines creativity\, science\, and movement as we explore the magic of snow and ice. Children will enjoy hands-on sensory play with “snowy” materials\, craft their own winter creations\, play snow-inspired games\, and discover fascinating facts about the season. \nTuesday\, January 27\n4:30-5:30pm\nHunt Club Park Community Center\n$23R/$29NR \nSave your spot! 
URL:https://www.gurneeparkdistrict.com/event/one-day-enrichment-class-snow-much-fun/
LOCATION:Hunt Club Park Community Center\, 920 North Hunt Club Road\, Gurnee\, IL\, 60031\, United States
CATEGORIES:Special Events
ATTACH;FMTTYPE=image/png:https://www.gurneeparkdistrict.com/wp-content/uploads/2025/11/GPD25_EnrichmentClasses.png
END:VEVENT
BEGIN:VEVENT
DTSTART;TZID=America/Chicago:20260128T090000
DTEND;TZID=America/Chicago:20260128T103000
DTSTAMP:20260423T232540
CREATED:20251117T205415Z
LAST-MODIFIED:20260123T181305Z
UID:10006179-1769590800-1769596200@www.gurneeparkdistrict.com
SUMMARY:Toddler Open Gym
DESCRIPTION:$4 R / $5 NR | children under 12 months are free\n$35 R / $44 NR | 10 count punch pass\nPayment is per child. \nToddler Open Gym is available from November – March. \nGreat opportunity for parents\, guardians\, and children to play in a social environment. We ask that a parent(s)/guardian(s) remain with their child(ren) to supervise play.\nPlease note the following safety requests prior to participating in Toddler Open Gym: \n1. Designed for toddlers 0 – 5 years of age\n2. All children must be accompanied by an adult\n3. Please have payment and proof of residency available for our customer service team\n4. Gym shoes must be worn on the court\n5. Street shoes\, roller shoes\, and Heelys are not permitted\n6. Proper\, active attire must be worn\n7. Bottled water is the only food/beverage permitted\n8. Foul/abusive language\, and attempted or physical confrontation are not permitted\n9. Gurnee Park District reserves the right to cancel and/or change Toddler Open Gym schedule at any time.\n10. Failure to adhere to any rule can result in expulsion from the facility\, revocation of membership\, suspension or banning from Toddler Open Gym \n\n\n\n Add to calendar 
URL:https://www.gurneeparkdistrict.com/event/toddler-open-gym-21-2/2026-01-28/
LOCATION:Hunt Club Park Community Center\, 920 North Hunt Club Road\, Gurnee\, IL\, 60031\, United States
CATEGORIES:Special Events,Toddler Open Gym
ATTACH;FMTTYPE=image/png:https://www.gurneeparkdistrict.com/wp-content/uploads/2024/10/GPD24_ToddlerOG.png
END:VEVENT
BEGIN:VEVENT
DTSTART;TZID=America/Chicago:20260129T090000
DTEND;TZID=America/Chicago:20260129T103000
DTSTAMP:20260423T232540
CREATED:20251117T205415Z
LAST-MODIFIED:20260123T181305Z
UID:10006180-1769677200-1769682600@www.gurneeparkdistrict.com
SUMMARY:Toddler Open Gym
DESCRIPTION:$4 R / $5 NR | children under 12 months are free\n$35 R / $44 NR | 10 count punch pass\nPayment is per child. \nToddler Open Gym is available from November – March. \nGreat opportunity for parents\, guardians\, and children to play in a social environment. We ask that a parent(s)/guardian(s) remain with their child(ren) to supervise play.\nPlease note the following safety requests prior to participating in Toddler Open Gym: \n1. Designed for toddlers 0 – 5 years of age\n2. All children must be accompanied by an adult\n3. Please have payment and proof of residency available for our customer service team\n4. Gym shoes must be worn on the court\n5. Street shoes\, roller shoes\, and Heelys are not permitted\n6. Proper\, active attire must be worn\n7. Bottled water is the only food/beverage permitted\n8. Foul/abusive language\, and attempted or physical confrontation are not permitted\n9. Gurnee Park District reserves the right to cancel and/or change Toddler Open Gym schedule at any time.\n10. Failure to adhere to any rule can result in expulsion from the facility\, revocation of membership\, suspension or banning from Toddler Open Gym \n\n\n\n Add to calendar 
URL:https://www.gurneeparkdistrict.com/event/toddler-open-gym-21-2/2026-01-29/
LOCATION:Hunt Club Park Community Center\, 920 North Hunt Club Road\, Gurnee\, IL\, 60031\, United States
CATEGORIES:Special Events,Toddler Open Gym
ATTACH;FMTTYPE=image/png:https://www.gurneeparkdistrict.com/wp-content/uploads/2024/10/GPD24_ToddlerOG.png
END:VEVENT
BEGIN:VEVENT
DTSTART;TZID=America/Chicago:20260130T170000
DTEND;TZID=America/Chicago:20260130T183000
DTSTAMP:20260423T232540
CREATED:20251106T174837Z
LAST-MODIFIED:20260126T143353Z
UID:10005520-1769792400-1769797800@www.gurneeparkdistrict.com
SUMMARY:Wanna Build a Snowman? - Performing Arts Workshop
DESCRIPTION:Escape to a winter wonderland with some frosty friends from a favorite frozen fairy tale.  \nThis event is part of our “Famously Fun Performing Arts Workshops” series! Each workshop will provide a snack and offer fun\, themed activities such as crafts\, stories\, and games\, as well as introduce a variety of performance elements\, including signing\, dancing\, acting\, and improvisation. \nFriday\, January 30\n5:00-6:30pm\nHunt Club Park Community Center\nAges 5-12 \nSave your spot!
URL:https://www.gurneeparkdistrict.com/event/wanna-build-a-snowman/
LOCATION:Hunt Club Park Community Center\, 920 North Hunt Club Road\, Gurnee\, IL\, 60031\, United States
CATEGORIES:Special Events
ATTACH;FMTTYPE=image/png:https://www.gurneeparkdistrict.com/wp-content/uploads/2025/07/2.png
END:VEVENT
END:VCALENDAR