BEGIN:VCALENDAR
VERSION:2.0
PRODID:-//Gurnee Park District - ECPv6.15.20//NONSGML v1.0//EN
CALSCALE:GREGORIAN
METHOD:PUBLISH
X-ORIGINAL-URL:https://www.gurneeparkdistrict.com
X-WR-CALDESC:Events for Gurnee Park District
REFRESH-INTERVAL;VALUE=DURATION:PT1H
X-Robots-Tag:noindex
X-PUBLISHED-TTL:PT1H
BEGIN:VTIMEZONE
TZID:America/Chicago
BEGIN:DAYLIGHT
TZOFFSETFROM:-0600
TZOFFSETTO:-0500
TZNAME:CDT
DTSTART:20250309T080000
END:DAYLIGHT
BEGIN:STANDARD
TZOFFSETFROM:-0500
TZOFFSETTO:-0600
TZNAME:CST
DTSTART:20251102T070000
END:STANDARD
BEGIN:DAYLIGHT
TZOFFSETFROM:-0600
TZOFFSETTO:-0500
TZNAME:CDT
DTSTART:20260308T080000
END:DAYLIGHT
BEGIN:STANDARD
TZOFFSETFROM:-0500
TZOFFSETTO:-0600
TZNAME:CST
DTSTART:20261101T070000
END:STANDARD
BEGIN:DAYLIGHT
TZOFFSETFROM:-0600
TZOFFSETTO:-0500
TZNAME:CDT
DTSTART:20270314T080000
END:DAYLIGHT
BEGIN:STANDARD
TZOFFSETFROM:-0500
TZOFFSETTO:-0600
TZNAME:CST
DTSTART:20271107T070000
END:STANDARD
END:VTIMEZONE
BEGIN:VEVENT
DTSTART;TZID=America/Chicago:20260104T070000
DTEND;TZID=America/Chicago:20260104T090000
DTSTAMP:20260419T200325
CREATED:20251222T152112Z
LAST-MODIFIED:20251222T152112Z
UID:10006159-1767510000-1767517200@www.gurneeparkdistrict.com
SUMMARY:Open Pickleball
DESCRIPTION:FREE for FitNation Members\n$5 Fee at Hunt Club and $15 Fee at Nations Drive for Non Members\nPickleball nets will be set up for those who would like to drop-in to practices or play with a group.  Equipment is available to rent and return.  \nPlease note the following safety requests prior to participating:  \n1. Children 8 years and under must be accompanied by an adult\n2. Children 9-11 years old must have a parent or guardian present in the facility\n3. Proof of FitNation membership or payment must be made prior to participating\n4. Only those Gym Drop-In participants are allowed to participate.\n5. Gym shoes must be worn on the court\n6. Street shoes\, roller shoes and Heelys are not permitted\n7. Proper athletic attire must be worn\n8. Bottled water is the only food/beverage permitted\n9. Foul or abusive language or physical confrontation will result in immediate expulsion from the facility\n10. No person or team can own a specific pickleball court\n11. If only one pickleball court is available\, side courts might be required based on age\, skill level and the number of participants\n12. Teaching private lessons and conducting team practices are not permitted\n13. Hunt Club Park Community Center reserves the right to cancel and/or change the Drop-In schedule at any time \nFailure to adhere to any rule can lead to being asked to leave the facility and could result in revocation of FitNation membership\, suspension or banning from Gurnee Park District locations. Thank you for your cooperation.
URL:https://www.gurneeparkdistrict.com/event/open-pickleball-257/
LOCATION:Hunt Club Park Community Center\, 920 North Hunt Club Road\, Gurnee\, IL\, 60031\, United States
CATEGORIES:Hunt Club Pickleball
ATTACH;FMTTYPE=image/png:https://www.gurneeparkdistrict.com/wp-content/uploads/2024/02/HC-Pickleball.png
END:VEVENT
BEGIN:VEVENT
DTSTART;TZID=America/Chicago:20260104T070000
DTEND;TZID=America/Chicago:20260104T143000
DTSTAMP:20260419T200325
CREATED:20251222T214854Z
LAST-MODIFIED:20251222T214854Z
UID:10006412-1767510000-1767537000@www.gurneeparkdistrict.com
SUMMARY:Member Lap Swim
DESCRIPTION:Reserved for FitNation members or day pass visitors. Lifeguards WILL NOT be on duty during member lap swim. View FitNation Pool Rules and Regulations
URL:https://www.gurneeparkdistrict.com/event/member-lap-swim-1317/
LOCATION:FitNation\, 1655 Nations Drive\, Gurnee\, IL\, 60031\, United States
CATEGORIES:FitNation Lap Swim
ATTACH;FMTTYPE=image/png:https://www.gurneeparkdistrict.com/wp-content/uploads/2024/02/Lap-Swim.png
END:VEVENT
BEGIN:VEVENT
DTSTART;TZID=America/Chicago:20260104T070000
DTEND;TZID=America/Chicago:20260104T190000
DTSTAMP:20260419T200325
CREATED:20251223T214646Z
LAST-MODIFIED:20251223T214646Z
UID:10006483-1767510000-1767553200@www.gurneeparkdistrict.com
SUMMARY:FitNation Pickleball - Reservations Required
DESCRIPTION:1) Pickleball is reserved for FitNation members only.\n2) All pickleball players must check-in at the front desk prior to entering the Flex Studio.\n3) Reservations for pickleball play must be made online via our website and will only be held for 15 minutes past the start time of the reservation. The court will be released if the players donâ€™t show by that time.\n4) Reservations made can be no longer than 1 hour per person/group. Multiple people in the same group cannot reserve the court for each person for 1 hour\n5) All group members need to be listed when the reservation is made.\n6) Paddles must be checked out from the front desk and a photo id is required in exchange for the equipment.\n7) Inappropriate language and fighting are prohibited at all times.
URL:https://www.gurneeparkdistrict.com/event/fitnation-pickleball-reservations-required-928/
LOCATION:FitNation\, 1655 Nations Drive\, Gurnee\, IL\, 60031\, United States
CATEGORIES:FitNation Pickleball
ATTACH;FMTTYPE=image/png:https://www.gurneeparkdistrict.com/wp-content/uploads/2024/04/FN-Pickleball_1.png
END:VEVENT
BEGIN:VEVENT
DTSTART;TZID=America/Chicago:20260104T083000
DTEND;TZID=America/Chicago:20260104T092000
DTSTAMP:20260419T200325
CREATED:20251222T210559Z
LAST-MODIFIED:20251222T210559Z
UID:10006195-1767515400-1767518400@www.gurneeparkdistrict.com
SUMMARY:Cycle with Tiffany
DESCRIPTION:An awesome indoor cycling class that provides fun and a challenging cardiovascular workout for all fitness levels. \nDue to limited space\, this class is available to 23 members on a first come\, first serve basis.
URL:https://www.gurneeparkdistrict.com/event/cycle-with-tiffany-187/
LOCATION:FitNation\, 1655 Nations Drive\, Gurnee\, IL\, 60031\, United States
CATEGORIES:Group Exercise
ATTACH;FMTTYPE=image/png:https://www.gurneeparkdistrict.com/wp-content/uploads/2024/01/FitN2020_Group_Ex_Square_1.png
END:VEVENT
BEGIN:VEVENT
DTSTART;TZID=America/Chicago:20260104T084500
DTEND;TZID=America/Chicago:20260104T094000
DTSTAMP:20260419T200325
CREATED:20251222T210600Z
LAST-MODIFIED:20251222T210600Z
UID:10006196-1767516300-1767519600@www.gurneeparkdistrict.com
SUMMARY:Body Balance with Amy
DESCRIPTION:A Yoga\, Tai Chi\, Pilates workout that builds flexibility\, strength and leaves you feeling centered and calm.
URL:https://www.gurneeparkdistrict.com/event/body-balance-with-amy-86/
LOCATION:FitNation\, 1655 Nations Drive\, Gurnee\, IL\, 60031\, United States
CATEGORIES:Group Exercise
ATTACH;FMTTYPE=image/png:https://www.gurneeparkdistrict.com/wp-content/uploads/2024/01/FitN2020_Group_Ex_Square_1.png
END:VEVENT
BEGIN:VEVENT
DTSTART;TZID=America/Chicago:20260104T093000
DTEND;TZID=America/Chicago:20260104T100000
DTSTAMP:20260419T200325
CREATED:20251222T210601Z
LAST-MODIFIED:20251222T210601Z
UID:10006197-1767519000-1767520800@www.gurneeparkdistrict.com
SUMMARY:Core and More with Elizabeth
DESCRIPTION:Core & More: 30 or 45 minutes of Core Blast training combined with multi muscular strength moves.
URL:https://www.gurneeparkdistrict.com/event/core-and-more-with-elizabeth-90/
LOCATION:FitNation\, 1655 Nations Drive\, Gurnee\, IL\, 60031\, United States
CATEGORIES:Group Exercise
ATTACH;FMTTYPE=image/png:https://www.gurneeparkdistrict.com/wp-content/uploads/2024/01/FitN2020_Group_Ex_Square_1.png
END:VEVENT
BEGIN:VEVENT
DTSTART;TZID=America/Chicago:20260104T100000
DTEND;TZID=America/Chicago:20260104T110000
DTSTAMP:20260419T200325
CREATED:20251222T210601Z
LAST-MODIFIED:20251222T210601Z
UID:10006198-1767520800-1767524400@www.gurneeparkdistrict.com
SUMMARY:Body Combat with Elizabeth
DESCRIPTION:This fiercely energetic cardio program is inspired by martial arts and draws from a wide array of disciplines such as Karate\, Tae Kwon Do\, Tai Chi and Muay Thai\, supported by powerful music.
URL:https://www.gurneeparkdistrict.com/event/body-combat-with-elizabeth-367/
LOCATION:FitNation\, 1655 Nations Drive\, Gurnee\, IL\, 60031\, United States
CATEGORIES:Group Exercise
ATTACH;FMTTYPE=image/png:https://www.gurneeparkdistrict.com/wp-content/uploads/2024/01/FitN2020_Group_Ex_Square_1.png
END:VEVENT
BEGIN:VEVENT
DTSTART;TZID=America/Chicago:20260104T143000
DTEND;TZID=America/Chicago:20260104T163000
DTSTAMP:20260419T200325
CREATED:20251104T174201Z
LAST-MODIFIED:20251119T150844Z
UID:10005472-1767537000-1767544200@www.gurneeparkdistrict.com
SUMMARY:Winter Break Family Swim
DESCRIPTION:Gather the family and get ready to make a SPLASH! Family Swim times are available throughout Winter Break!  \n$6 (R) | $8 (NR) \nAll participants are required to pay admission\, which can be completed at the front desk upon arrival.
URL:https://www.gurneeparkdistrict.com/event/winter-break-family-swim/2026-01-04/
LOCATION:FitNation\, 1655 Nations Drive\, Gurnee\, IL\, 60031\, United States
CATEGORIES:Special Events
ATTACH;FMTTYPE=image/png:https://www.gurneeparkdistrict.com/wp-content/uploads/2025/11/GPD25_Family_Swim.png
END:VEVENT
BEGIN:VEVENT
DTSTART;TZID=America/Chicago:20260104T143000
DTEND;TZID=America/Chicago:20260104T163000
DTSTAMP:20260419T200325
CREATED:20251222T214855Z
LAST-MODIFIED:20251222T214855Z
UID:10006413-1767537000-1767544200@www.gurneeparkdistrict.com
SUMMARY:Member Lap and Family Swim Time
DESCRIPTION:Reserved for FitNation members or families that currently have their children enrolled at Swim School. Children under the age of 16 must be accompanied by an adult 18 years of age or older.
URL:https://www.gurneeparkdistrict.com/event/member-lap-and-family-swim-time-7/
LOCATION:FitNation\, 1655 Nations Drive\, Gurnee\, IL\, 60031\, United States
CATEGORIES:FitNation Lap Swim
ATTACH;FMTTYPE=image/png:https://www.gurneeparkdistrict.com/wp-content/uploads/2024/02/Lap-Swim.png
END:VEVENT
BEGIN:VEVENT
DTSTART;TZID=America/Chicago:20260104T163000
DTEND;TZID=America/Chicago:20260104T183000
DTSTAMP:20260419T200325
CREATED:20251222T214856Z
LAST-MODIFIED:20251222T214856Z
UID:10006414-1767544200-1767551400@www.gurneeparkdistrict.com
SUMMARY:Member Lap Swim
DESCRIPTION:Reserved for FitNation members or day pass visitors. Lifeguards WILL NOT be on duty during member lap swim. View FitNation Pool Rules and Regulations
URL:https://www.gurneeparkdistrict.com/event/member-lap-swim-1318/
LOCATION:FitNation\, 1655 Nations Drive\, Gurnee\, IL\, 60031\, United States
CATEGORIES:FitNation Lap Swim
ATTACH;FMTTYPE=image/png:https://www.gurneeparkdistrict.com/wp-content/uploads/2024/02/Lap-Swim.png
END:VEVENT
BEGIN:VEVENT
DTSTART;TZID=America/Chicago:20260105T050000
DTEND;TZID=America/Chicago:20260105T084500
DTSTAMP:20260419T200325
CREATED:20251222T214857Z
LAST-MODIFIED:20251222T214857Z
UID:10006415-1767589200-1767602700@www.gurneeparkdistrict.com
SUMMARY:Member Lap Swim
DESCRIPTION:Reserved for FitNation members or day pass visitors. Lifeguards WILL NOT be on duty during member lap swim. View FitNation Pool Rules and Regulations
URL:https://www.gurneeparkdistrict.com/event/member-lap-swim-1319/
LOCATION:FitNation\, 1655 Nations Drive\, Gurnee\, IL\, 60031\, United States
CATEGORIES:FitNation Lap Swim
ATTACH;FMTTYPE=image/png:https://www.gurneeparkdistrict.com/wp-content/uploads/2024/02/Lap-Swim.png
END:VEVENT
BEGIN:VEVENT
DTSTART;TZID=America/Chicago:20260105T050000
DTEND;TZID=America/Chicago:20260105T220000
DTSTAMP:20260419T200325
CREATED:20251223T214647Z
LAST-MODIFIED:20251223T214647Z
UID:10006484-1767589200-1767650400@www.gurneeparkdistrict.com
SUMMARY:FitNation Pickleball - Reservations Required
DESCRIPTION:1) Pickleball is reserved for FitNation members only.\n2) All pickleball players must check-in at the front desk prior to entering the Flex Studio.\n3) Reservations for pickleball play must be made online via our website and will only be held for 15 minutes past the start time of the reservation. The court will be released if the players donâ€™t show by that time.\n4) Reservations made can be no longer than 1 hour per person/group. Multiple people in the same group cannot reserve the court for each person for 1 hour\n5) All group members need to be listed when the reservation is made.\n6) Paddles must be checked out from the front desk and a photo id is required in exchange for the equipment.\n7) Inappropriate language and fighting are prohibited at all times.
URL:https://www.gurneeparkdistrict.com/event/fitnation-pickleball-reservations-required-929/
LOCATION:FitNation\, 1655 Nations Drive\, Gurnee\, IL\, 60031\, United States
CATEGORIES:FitNation Pickleball
ATTACH;FMTTYPE=image/png:https://www.gurneeparkdistrict.com/wp-content/uploads/2024/04/FN-Pickleball_1.png
END:VEVENT
BEGIN:VEVENT
DTSTART;TZID=America/Chicago:20260105T063000
DTEND;TZID=America/Chicago:20260105T180000
DTSTAMP:20260419T200325
CREATED:20250708T155904Z
LAST-MODIFIED:20251104T212931Z
UID:10003490-1767594600-1767636000@www.gurneeparkdistrict.com
SUMMARY:Days Off School - "Board Game Bonanza Day" (District 50)
DESCRIPTION:Get ready for a day full of fun and friendly competition at Board Game Bonanza! Kids will dive into classic and new board games\, from Monopoly to Connect 4\, and team up for epic battles of strategy\, luck\, and teamwork.\nPlease bring a sack lunch\, water bottle\, and dress for the weather (some activities may be held outside\, weather permitting). \nThis is a non-school day for District 50 students only.
URL:https://www.gurneeparkdistrict.com/event/days-off-school-board-game-bonanza-day/
LOCATION:Hunt Club Park Community Center\, 920 North Hunt Club Road\, Gurnee\, IL\, 60031\, United States
CATEGORIES:Special Events
ATTACH;FMTTYPE=image/png:https://www.gurneeparkdistrict.com/wp-content/uploads/2025/06/GPD-2024-Days-Off-School_Calendar-District-50-56-1080-x-1080.png
END:VEVENT
BEGIN:VEVENT
DTSTART;TZID=America/Chicago:20260105T083000
DTEND;TZID=America/Chicago:20260105T090000
DTSTAMP:20260419T200325
CREATED:20251222T210602Z
LAST-MODIFIED:20251222T210602Z
UID:10006199-1767601800-1767603600@www.gurneeparkdistrict.com
SUMMARY:Sculpt Series with Mandi
DESCRIPTION:Using a variety of equipment\, this 30 minute strength class will define and sculpt your muscles.  Each week will focus on a different muscle group.
URL:https://www.gurneeparkdistrict.com/event/sculpt-series-with-mandi-66/
LOCATION:FitNation\, 1655 Nations Drive\, Gurnee\, IL\, 60031\, United States
CATEGORIES:Group Exercise
ATTACH;FMTTYPE=image/png:https://www.gurneeparkdistrict.com/wp-content/uploads/2024/01/FitN2020_Group_Ex_Square_1.png
END:VEVENT
BEGIN:VEVENT
DTSTART;TZID=America/Chicago:20260105T084500
DTEND;TZID=America/Chicago:20260105T093500
DTSTAMP:20260419T200325
CREATED:20251222T210602Z
LAST-MODIFIED:20251222T210602Z
UID:10006200-1767602700-1767605700@www.gurneeparkdistrict.com
SUMMARY:Cycle with Tiffany
DESCRIPTION:An awesome indoor cycling class that provides fun and a challenging cardiovascular workout for all fitness levels. \nDue to limited space\, this class is available to 23 members on a first come\, first serve basis.
URL:https://www.gurneeparkdistrict.com/event/cycle-with-tiffany-188/
LOCATION:FitNation\, 1655 Nations Drive\, Gurnee\, IL\, 60031\, United States
CATEGORIES:Group Exercise
ATTACH;FMTTYPE=image/png:https://www.gurneeparkdistrict.com/wp-content/uploads/2024/01/FitN2020_Group_Ex_Square_1.png
END:VEVENT
BEGIN:VEVENT
DTSTART;TZID=America/Chicago:20260105T090000
DTEND;TZID=America/Chicago:20260105T094500
DTSTAMP:20260419T200325
CREATED:20251222T210603Z
LAST-MODIFIED:20251222T210603Z
UID:10006202-1767603600-1767606300@www.gurneeparkdistrict.com
SUMMARY:Body Attack Express with Kristin
DESCRIPTION:A high energy\, sports-inspired interval training cardio workout for building strength and endurance. Fun and powerful music help to motivate everyone towards their fitness goals.
URL:https://www.gurneeparkdistrict.com/event/body-attack-express-with-kristin-86/
LOCATION:FitNation\, 1655 Nations Drive\, Gurnee\, IL\, 60031\, United States
CATEGORIES:Group Exercise
ATTACH;FMTTYPE=image/png:https://www.gurneeparkdistrict.com/wp-content/uploads/2024/01/FitN2020_Group_Ex_Square_1.png
END:VEVENT
BEGIN:VEVENT
DTSTART;TZID=America/Chicago:20260105T090000
DTEND;TZID=America/Chicago:20260105T094500
DTSTAMP:20260419T200325
CREATED:20251222T210604Z
LAST-MODIFIED:20251222T210604Z
UID:10006203-1767603600-1767606300@www.gurneeparkdistrict.com
SUMMARY:Booty Burn with Mandi
DESCRIPTION:Build up your back side with this 45 minutes all glutes and quads class.  A variety of equipment will be used and your booty will be on fire when you are done.
URL:https://www.gurneeparkdistrict.com/event/booty-burn-with-mandi-91/
LOCATION:FitNation\, 1655 Nations Drive\, Gurnee\, IL\, 60031\, United States
CATEGORIES:Group Exercise
ATTACH;FMTTYPE=image/png:https://www.gurneeparkdistrict.com/wp-content/uploads/2024/01/FitN2020_Group_Ex_Square_1.png
END:VEVENT
BEGIN:VEVENT
DTSTART;TZID=America/Chicago:20260105T090000
DTEND;TZID=America/Chicago:20260105T100000
DTSTAMP:20260419T200325
CREATED:20251222T210603Z
LAST-MODIFIED:20251222T210603Z
UID:10006201-1767603600-1767607200@www.gurneeparkdistrict.com
SUMMARY:HydroFit with Diane
DESCRIPTION:Hydro classes use the water’s resistance for an aerobic\, strengthening and ROM workout.  The water allows for less joint impact and an increase in hydrostatic pressure. A great option for active aging members or members returning back to fitness after an injury.
URL:https://www.gurneeparkdistrict.com/event/hydrofit-with-diane-169/
LOCATION:FitNation\, 1655 Nations Drive\, Gurnee\, IL\, 60031\, United States
CATEGORIES:Group Exercise
ATTACH;FMTTYPE=image/png:https://www.gurneeparkdistrict.com/wp-content/uploads/2024/01/FitN2020_Group_Ex_Square_1.png
END:VEVENT
BEGIN:VEVENT
DTSTART;TZID=America/Chicago:20260105T100000
DTEND;TZID=America/Chicago:20260105T105500
DTSTAMP:20260419T200325
CREATED:20251222T210604Z
LAST-MODIFIED:20251222T210604Z
UID:10006204-1767607200-1767610500@www.gurneeparkdistrict.com
SUMMARY:Body Pump with Gina/Elizabeth
DESCRIPTION:A choreographed strength and conditioning classes that uses high repetition with lower weights. Fun and inspiring music is used to motivate participants through 10 powerful tracks. (Please note\, express classes will complete less than 10 tracks.)
URL:https://www.gurneeparkdistrict.com/event/body-pump-with-gina-elizabeth-91/
LOCATION:FitNation\, 1655 Nations Drive\, Gurnee\, IL\, 60031\, United States
CATEGORIES:Group Exercise
ATTACH;FMTTYPE=image/png:https://www.gurneeparkdistrict.com/wp-content/uploads/2024/01/FitN2020_Group_Ex_Square_1.png
END:VEVENT
BEGIN:VEVENT
DTSTART;TZID=America/Chicago:20260105T100000
DTEND;TZID=America/Chicago:20260105T161500
DTSTAMP:20260419T200325
CREATED:20251222T214857Z
LAST-MODIFIED:20251222T214857Z
UID:10006416-1767607200-1767629700@www.gurneeparkdistrict.com
SUMMARY:Member Lap Swim
DESCRIPTION:Reserved for FitNation members or day pass visitors. Lifeguards WILL NOT be on duty during member lap swim. View FitNation Pool Rules and Regulations
URL:https://www.gurneeparkdistrict.com/event/member-lap-swim-1320/
LOCATION:FitNation\, 1655 Nations Drive\, Gurnee\, IL\, 60031\, United States
CATEGORIES:FitNation Lap Swim
ATTACH;FMTTYPE=image/png:https://www.gurneeparkdistrict.com/wp-content/uploads/2024/02/Lap-Swim.png
END:VEVENT
BEGIN:VEVENT
DTSTART;TZID=America/Chicago:20260105T101500
DTEND;TZID=America/Chicago:20260105T110000
DTSTAMP:20260419T200325
CREATED:20251222T210605Z
LAST-MODIFIED:20251222T210605Z
UID:10006205-1767608100-1767610800@www.gurneeparkdistrict.com
SUMMARY:Zumba Gold with Elizabeth/Gina
DESCRIPTION:Zumba moves designed for the active older adult or those looking for a low impact workout.
URL:https://www.gurneeparkdistrict.com/event/zumba-gold-with-elizabeth-gina-91/
LOCATION:FitNation\, 1655 Nations Drive\, Gurnee\, IL\, 60031\, United States
CATEGORIES:Group Exercise
ATTACH;FMTTYPE=image/png:https://www.gurneeparkdistrict.com/wp-content/uploads/2024/01/FitN2020_Group_Ex_Square_1.png
END:VEVENT
BEGIN:VEVENT
DTSTART;TZID=America/Chicago:20260105T173000
DTEND;TZID=America/Chicago:20260105T181500
DTSTAMP:20260419T200325
CREATED:20251222T210605Z
LAST-MODIFIED:20251222T210605Z
UID:10006206-1767634200-1767636900@www.gurneeparkdistrict.com
SUMMARY:Muscle Mash Up and Core with Ilona
DESCRIPTION:This class will keep your mind and your muscles guessing what comes next. This strength class will use a variety of training equipment and great music to build muscle and tone your body.
URL:https://www.gurneeparkdistrict.com/event/muscle-mash-up-and-core-with-ilona/
LOCATION:FitNation\, 1655 Nations Drive\, Gurnee\, IL\, 60031\, United States
CATEGORIES:Group Exercise
ATTACH;FMTTYPE=image/png:https://www.gurneeparkdistrict.com/wp-content/uploads/2024/01/FitN2020_Group_Ex_Square_1.png
END:VEVENT
BEGIN:VEVENT
DTSTART;TZID=America/Chicago:20260105T173000
DTEND;TZID=America/Chicago:20260105T182000
DTSTAMP:20260419T200325
CREATED:20251222T210606Z
LAST-MODIFIED:20251222T210606Z
UID:10006207-1767634200-1767637200@www.gurneeparkdistrict.com
SUMMARY:Zumba with April
DESCRIPTION:A fun\, Latin\, cardio dance class that combines all styles of Latin dance/music.
URL:https://www.gurneeparkdistrict.com/event/zumba-with-april-87/
LOCATION:FitNation\, 1655 Nations Drive\, Gurnee\, IL\, 60031\, United States
CATEGORIES:Group Exercise
ATTACH;FMTTYPE=image/png:https://www.gurneeparkdistrict.com/wp-content/uploads/2024/01/FitN2020_Group_Ex_Square_1.png
END:VEVENT
BEGIN:VEVENT
DTSTART;TZID=America/Chicago:20260105T174500
DTEND;TZID=America/Chicago:20260105T183500
DTSTAMP:20260419T200325
CREATED:20251222T210606Z
LAST-MODIFIED:20251222T210606Z
UID:10006208-1767635100-1767638100@www.gurneeparkdistrict.com
SUMMARY:Cycle with Linda
DESCRIPTION:An awesome indoor cycling class that provides fun and a challenging cardiovascular workout for all fitness levels. \nDue to limited space\, this class is available to 23 members on a first come\, first serve basis.
URL:https://www.gurneeparkdistrict.com/event/cycle-with-linda-94/
LOCATION:FitNation\, 1655 Nations Drive\, Gurnee\, IL\, 60031\, United States
CATEGORIES:Group Exercise
ATTACH;FMTTYPE=image/png:https://www.gurneeparkdistrict.com/wp-content/uploads/2024/01/FitN2020_Group_Ex_Square_1.png
END:VEVENT
BEGIN:VEVENT
DTSTART;TZID=America/Chicago:20260105T183000
DTEND;TZID=America/Chicago:20260105T192500
DTSTAMP:20260419T200325
CREATED:20251222T210608Z
LAST-MODIFIED:20251222T210608Z
UID:10006209-1767637800-1767641100@www.gurneeparkdistrict.com
SUMMARY:Body Balance with Erica
DESCRIPTION:A Yoga\, Tai Chi\, Pilates workout that builds flexibility\, strength and leaves you feeling centered and calm.
URL:https://www.gurneeparkdistrict.com/event/body-balance-with-erica-93/
LOCATION:FitNation\, 1655 Nations Drive\, Gurnee\, IL\, 60031\, United States
CATEGORIES:Group Exercise
ATTACH;FMTTYPE=image/png:https://www.gurneeparkdistrict.com/wp-content/uploads/2024/01/FitN2020_Group_Ex_Square_1.png
END:VEVENT
BEGIN:VEVENT
DTSTART;TZID=America/Chicago:20260105T190000
DTEND;TZID=America/Chicago:20260105T213000
DTSTAMP:20260419T200325
CREATED:20251222T214858Z
LAST-MODIFIED:20251222T214858Z
UID:10006417-1767639600-1767648600@www.gurneeparkdistrict.com
SUMMARY:Member Lap Swim
DESCRIPTION:Reserved for FitNation members or day pass visitors. Lifeguards WILL NOT be on duty during member lap swim. View FitNation Pool Rules and Regulations
URL:https://www.gurneeparkdistrict.com/event/member-lap-swim-1321/
LOCATION:FitNation\, 1655 Nations Drive\, Gurnee\, IL\, 60031\, United States
CATEGORIES:FitNation Lap Swim
ATTACH;FMTTYPE=image/png:https://www.gurneeparkdistrict.com/wp-content/uploads/2024/02/Lap-Swim.png
END:VEVENT
BEGIN:VEVENT
DTSTART;TZID=America/Chicago:20260106T050000
DTEND;TZID=America/Chicago:20260106T084500
DTSTAMP:20260419T200325
CREATED:20251222T214859Z
LAST-MODIFIED:20251222T214859Z
UID:10006418-1767675600-1767689100@www.gurneeparkdistrict.com
SUMMARY:Member Lap Swim
DESCRIPTION:Reserved for FitNation members or day pass visitors. Lifeguards WILL NOT be on duty during member lap swim. View FitNation Pool Rules and Regulations
URL:https://www.gurneeparkdistrict.com/event/member-lap-swim-1322/
LOCATION:FitNation\, 1655 Nations Drive\, Gurnee\, IL\, 60031\, United States
CATEGORIES:FitNation Lap Swim
ATTACH;FMTTYPE=image/png:https://www.gurneeparkdistrict.com/wp-content/uploads/2024/02/Lap-Swim.png
END:VEVENT
BEGIN:VEVENT
DTSTART;TZID=America/Chicago:20260106T050000
DTEND;TZID=America/Chicago:20260106T220000
DTSTAMP:20260419T200325
CREATED:20251223T214648Z
LAST-MODIFIED:20251223T214648Z
UID:10006485-1767675600-1767736800@www.gurneeparkdistrict.com
SUMMARY:FitNation Pickleball - Reservations Required
DESCRIPTION:1) Pickleball is reserved for FitNation members only.\n2) All pickleball players must check-in at the front desk prior to entering the Flex Studio.\n3) Reservations for pickleball play must be made online via our website and will only be held for 15 minutes past the start time of the reservation. The court will be released if the players donâ€™t show by that time.\n4) Reservations made can be no longer than 1 hour per person/group. Multiple people in the same group cannot reserve the court for each person for 1 hour\n5) All group members need to be listed when the reservation is made.\n6) Paddles must be checked out from the front desk and a photo id is required in exchange for the equipment.\n7) Inappropriate language and fighting are prohibited at all times.
URL:https://www.gurneeparkdistrict.com/event/fitnation-pickleball-reservations-required-930/
LOCATION:FitNation\, 1655 Nations Drive\, Gurnee\, IL\, 60031\, United States
CATEGORIES:FitNation Pickleball
ATTACH;FMTTYPE=image/png:https://www.gurneeparkdistrict.com/wp-content/uploads/2024/04/FN-Pickleball_1.png
END:VEVENT
BEGIN:VEVENT
DTSTART;TZID=America/Chicago:20260106T073000
DTEND;TZID=America/Chicago:20260106T082000
DTSTAMP:20260419T200325
CREATED:20251222T210608Z
LAST-MODIFIED:20251222T210608Z
UID:10006210-1767684600-1767687600@www.gurneeparkdistrict.com
SUMMARY:TBS with Joy
DESCRIPTION:A class consisting of multi-muscular\, functional strength and balance exercises using a variety of equipment and your own body resistance to build strength and to shape and tone the total body.
URL:https://www.gurneeparkdistrict.com/event/tbs-with-joy-101/
LOCATION:FitNation\, 1655 Nations Drive\, Gurnee\, IL\, 60031\, United States
CATEGORIES:Group Exercise
ATTACH;FMTTYPE=image/png:https://www.gurneeparkdistrict.com/wp-content/uploads/2024/01/FitN2020_Group_Ex_Square_1.png
END:VEVENT
BEGIN:VEVENT
DTSTART;TZID=America/Chicago:20260106T083000
DTEND;TZID=America/Chicago:20260106T090000
DTSTAMP:20260419T200325
CREATED:20251222T210609Z
LAST-MODIFIED:20251222T210609Z
UID:10006211-1767688200-1767690000@www.gurneeparkdistrict.com
SUMMARY:Tabata Cardio with Gina
DESCRIPTION:An intense HIIT cardio workout with 4 minute sets of work consisting of 8 20 sec rounds per set w/ a 10 sec rest.
URL:https://www.gurneeparkdistrict.com/event/tabata-cardio-with-gina-94/
LOCATION:FitNation\, 1655 Nations Drive\, Gurnee\, IL\, 60031\, United States
CATEGORIES:Group Exercise
ATTACH;FMTTYPE=image/png:https://www.gurneeparkdistrict.com/wp-content/uploads/2024/01/FitN2020_Group_Ex_Square_1.png
END:VEVENT
END:VCALENDAR