BEGIN:VCALENDAR
VERSION:2.0
PRODID:-//Gurnee Park District - ECPv6.15.20//NONSGML v1.0//EN
CALSCALE:GREGORIAN
METHOD:PUBLISH
X-ORIGINAL-URL:https://www.gurneeparkdistrict.com
X-WR-CALDESC:Events for Gurnee Park District
REFRESH-INTERVAL;VALUE=DURATION:PT1H
X-Robots-Tag:noindex
X-PUBLISHED-TTL:PT1H
BEGIN:VTIMEZONE
TZID:America/Chicago
BEGIN:DAYLIGHT
TZOFFSETFROM:-0600
TZOFFSETTO:-0500
TZNAME:CDT
DTSTART:20240310T080000
END:DAYLIGHT
BEGIN:STANDARD
TZOFFSETFROM:-0500
TZOFFSETTO:-0600
TZNAME:CST
DTSTART:20241103T070000
END:STANDARD
BEGIN:DAYLIGHT
TZOFFSETFROM:-0600
TZOFFSETTO:-0500
TZNAME:CDT
DTSTART:20250309T080000
END:DAYLIGHT
BEGIN:STANDARD
TZOFFSETFROM:-0500
TZOFFSETTO:-0600
TZNAME:CST
DTSTART:20251102T070000
END:STANDARD
BEGIN:DAYLIGHT
TZOFFSETFROM:-0600
TZOFFSETTO:-0500
TZNAME:CDT
DTSTART:20260308T080000
END:DAYLIGHT
BEGIN:STANDARD
TZOFFSETFROM:-0500
TZOFFSETTO:-0600
TZNAME:CST
DTSTART:20261101T070000
END:STANDARD
END:VTIMEZONE
BEGIN:VEVENT
DTSTART;TZID=America/Chicago:20250907T100000
DTEND;TZID=America/Chicago:20250907T104500
DTSTAMP:20260421T205333
CREATED:20250714T164602Z
LAST-MODIFIED:20250903T174039Z
UID:10003495-1757239200-1757241900@www.gurneeparkdistrict.com
SUMMARY:CANCELED Rock N' Kids Dance Party - Back to School Boogie
DESCRIPTION:This event has been canceled due to low enrollment. \nKids ages 1–5 and their favorite grown-up will have a blast dancing\, singing\, and playing to fun\, themed music. At Back-to-School Boogie\, celebrate the new season with upbeat tunes and school-time fun!
URL:https://www.gurneeparkdistrict.com/event/rock-n-kids-dance-party-back-to-school-boogie/
LOCATION:Hunt Club Park Community Center\, 920 North Hunt Club Road\, Gurnee\, IL\, 60031\, United States
CATEGORIES:Special Events
ATTACH;FMTTYPE=image/png:https://www.gurneeparkdistrict.com/wp-content/uploads/2025/07/1.png
END:VEVENT
BEGIN:VEVENT
DTSTART;TZID=America/Chicago:20250909T113000
DTEND;TZID=America/Chicago:20250909T130000
DTSTAMP:20260421T205333
CREATED:20250612T202050Z
LAST-MODIFIED:20250730T144111Z
UID:10003056-1757417400-1757422800@www.gurneeparkdistrict.com
SUMMARY:Monthly Mixer (55+) - Oktoberfest
DESCRIPTION:No need to travel to Munich when you can experience the annual German Festival right here in Gurnee! Enjoy a lunch of Johnsonville® Bratwurst prepared with Grilled Onions and Sauerkraut on the side served with Hot Dog Buns\, potato salad\, Baked Beans and dessert. Following lunch\, put on your Lederhosen and take a spin around the dance floor as Eddie Korosa Jr. plays polka hits on his accordion. \nTuesday\, September 9\n11:30am-1:00pm\nViking Park Dance Hall \nRegistration deadline: 9/4 \nSave your seat!
URL:https://www.gurneeparkdistrict.com/event/monthly-mixer-55-oktoberfest/
LOCATION:Viking Park\, 4374 Old Grand Avenue\, Gurnee\, IL\, 60031\, United States
CATEGORIES:Special Events
ATTACH;FMTTYPE=image/png:https://www.gurneeparkdistrict.com/wp-content/uploads/2024/05/MONTHLY-MIXERS-55-1.png
END:VEVENT
BEGIN:VEVENT
DTSTART;TZID=America/Chicago:20250913T170000
DTEND;TZID=America/Chicago:20250913T200000
DTSTAMP:20260421T205333
CREATED:20250609T132650Z
LAST-MODIFIED:20250609T132719Z
UID:10003043-1757782800-1757793600@www.gurneeparkdistrict.com
SUMMARY:Parents Night Out
DESCRIPTION:Parents spend a night out while we take care of the kids! Parent’s Night Out events at Gurnee Park District include an evening of fun age-appropriate activities for children ages 1 -11* such as games\, crafts\, sports\, and more! A dinner of cheese pizza\, juice\, and water will be provided. \n*Children 1-3 years old will have separate activities.
URL:https://www.gurneeparkdistrict.com/event/parents-night-out-5/2025-09-13/
LOCATION:Hunt Club Park Community Center\, 920 North Hunt Club Road\, Gurnee\, IL\, 60031\, United States
CATEGORIES:Special Events
ATTACH;FMTTYPE=image/png:https://www.gurneeparkdistrict.com/wp-content/uploads/2025/06/GPD2025_Parents-Night-Out_Social_Calendar-1080-x-1080.png
END:VEVENT
END:VCALENDAR