BEGIN:VCALENDAR
VERSION:2.0
PRODID:-//Gurnee Park District - ECPv6.15.20//NONSGML v1.0//EN
CALSCALE:GREGORIAN
METHOD:PUBLISH
X-ORIGINAL-URL:https://www.gurneeparkdistrict.com
X-WR-CALDESC:Events for Gurnee Park District
REFRESH-INTERVAL;VALUE=DURATION:PT1H
X-Robots-Tag:noindex
X-PUBLISHED-TTL:PT1H
BEGIN:VTIMEZONE
TZID:America/Chicago
BEGIN:DAYLIGHT
TZOFFSETFROM:-0600
TZOFFSETTO:-0500
TZNAME:CDT
DTSTART:20240310T080000
END:DAYLIGHT
BEGIN:STANDARD
TZOFFSETFROM:-0500
TZOFFSETTO:-0600
TZNAME:CST
DTSTART:20241103T070000
END:STANDARD
BEGIN:DAYLIGHT
TZOFFSETFROM:-0600
TZOFFSETTO:-0500
TZNAME:CDT
DTSTART:20250309T080000
END:DAYLIGHT
BEGIN:STANDARD
TZOFFSETFROM:-0500
TZOFFSETTO:-0600
TZNAME:CST
DTSTART:20251102T070000
END:STANDARD
BEGIN:DAYLIGHT
TZOFFSETFROM:-0600
TZOFFSETTO:-0500
TZNAME:CDT
DTSTART:20260308T080000
END:DAYLIGHT
BEGIN:STANDARD
TZOFFSETFROM:-0500
TZOFFSETTO:-0600
TZNAME:CST
DTSTART:20261101T070000
END:STANDARD
END:VTIMEZONE
BEGIN:VEVENT
DTSTART;TZID=America/Chicago:20250511T070000
DTEND;TZID=America/Chicago:20250511T190000
DTSTAMP:20260425T185430
CREATED:20250425T142253Z
LAST-MODIFIED:20250425T142253Z
UID:10002607-1746946800-1746990000@www.gurneeparkdistrict.com
SUMMARY:FitNation Pickleball - Reservations Required
DESCRIPTION:1) Pickleball is reserved for FitNation members only.\n2) All pickleball players must check-in at the front desk prior to entering the Flex Studio.\n3) Reservations for pickleball play must be made online via our website and will only be held for 15 minutes past the start time of the reservation. The court will be released if the players don’t show by that time.\n4) Reservations made can be no longer than 1 hour per person/group. Multiple people in the same group cannot reserve the court for each person for 1 hour\n5) All group members need to be listed when the reservation is made.\n6) Paddles must be checked out from the front desk and a photo id is required in exchange for the equipment.\n7) Inappropriate language and fighting are prohibited at all times.
URL:https://www.gurneeparkdistrict.com/event/fitnation-pickleball-reservations-required-581/
LOCATION:FitNation\, 1655 Nations Drive\, Gurnee\, IL\, 60031\, United States
CATEGORIES:FitNation Pickleball
ATTACH;FMTTYPE=image/png:https://www.gurneeparkdistrict.com/wp-content/uploads/2024/04/FN-Pickleball_1.png
END:VEVENT
BEGIN:VEVENT
DTSTART;TZID=America/Chicago:20250512T050000
DTEND;TZID=America/Chicago:20250512T220000
DTSTAMP:20260425T185430
CREATED:20250425T142254Z
LAST-MODIFIED:20250425T142254Z
UID:10002608-1747026000-1747087200@www.gurneeparkdistrict.com
SUMMARY:FitNation Pickleball - Reservations Required
DESCRIPTION:1) Pickleball is reserved for FitNation members only.\n2) All pickleball players must check-in at the front desk prior to entering the Flex Studio.\n3) Reservations for pickleball play must be made online via our website and will only be held for 15 minutes past the start time of the reservation. The court will be released if the players don’t show by that time.\n4) Reservations made can be no longer than 1 hour per person/group. Multiple people in the same group cannot reserve the court for each person for 1 hour\n5) All group members need to be listed when the reservation is made.\n6) Paddles must be checked out from the front desk and a photo id is required in exchange for the equipment.\n7) Inappropriate language and fighting are prohibited at all times.
URL:https://www.gurneeparkdistrict.com/event/fitnation-pickleball-reservations-required-582/
LOCATION:FitNation\, 1655 Nations Drive\, Gurnee\, IL\, 60031\, United States
CATEGORIES:FitNation Pickleball
ATTACH;FMTTYPE=image/png:https://www.gurneeparkdistrict.com/wp-content/uploads/2024/04/FN-Pickleball_1.png
END:VEVENT
BEGIN:VEVENT
DTSTART;TZID=America/Chicago:20250513T050000
DTEND;TZID=America/Chicago:20250513T220000
DTSTAMP:20260425T185430
CREATED:20250425T142255Z
LAST-MODIFIED:20250425T142255Z
UID:10002609-1747112400-1747173600@www.gurneeparkdistrict.com
SUMMARY:FitNation Pickleball - Reservations Required
DESCRIPTION:1) Pickleball is reserved for FitNation members only.\n2) All pickleball players must check-in at the front desk prior to entering the Flex Studio.\n3) Reservations for pickleball play must be made online via our website and will only be held for 15 minutes past the start time of the reservation. The court will be released if the players don’t show by that time.\n4) Reservations made can be no longer than 1 hour per person/group. Multiple people in the same group cannot reserve the court for each person for 1 hour\n5) All group members need to be listed when the reservation is made.\n6) Paddles must be checked out from the front desk and a photo id is required in exchange for the equipment.\n7) Inappropriate language and fighting are prohibited at all times.
URL:https://www.gurneeparkdistrict.com/event/fitnation-pickleball-reservations-required-583/
LOCATION:FitNation\, 1655 Nations Drive\, Gurnee\, IL\, 60031\, United States
CATEGORIES:FitNation Pickleball
ATTACH;FMTTYPE=image/png:https://www.gurneeparkdistrict.com/wp-content/uploads/2024/04/FN-Pickleball_1.png
END:VEVENT
BEGIN:VEVENT
DTSTART;TZID=America/Chicago:20250514T050000
DTEND;TZID=America/Chicago:20250514T170000
DTSTAMP:20260425T185430
CREATED:20250425T142255Z
LAST-MODIFIED:20250425T142255Z
UID:10002610-1747198800-1747242000@www.gurneeparkdistrict.com
SUMMARY:FitNation Pickleball - Reservations Required
DESCRIPTION:1) Pickleball is reserved for FitNation members only.\n2) All pickleball players must check-in at the front desk prior to entering the Flex Studio.\n3) Reservations for pickleball play must be made online via our website and will only be held for 15 minutes past the start time of the reservation. The court will be released if the players don’t show by that time.\n4) Reservations made can be no longer than 1 hour per person/group. Multiple people in the same group cannot reserve the court for each person for 1 hour\n5) All group members need to be listed when the reservation is made.\n6) Paddles must be checked out from the front desk and a photo id is required in exchange for the equipment.\n7) Inappropriate language and fighting are prohibited at all times.
URL:https://www.gurneeparkdistrict.com/event/fitnation-pickleball-reservations-required-584/
LOCATION:FitNation\, 1655 Nations Drive\, Gurnee\, IL\, 60031\, United States
CATEGORIES:FitNation Pickleball
ATTACH;FMTTYPE=image/png:https://www.gurneeparkdistrict.com/wp-content/uploads/2024/04/FN-Pickleball_1.png
END:VEVENT
BEGIN:VEVENT
DTSTART;TZID=America/Chicago:20250514T210000
DTEND;TZID=America/Chicago:20250514T220000
DTSTAMP:20260425T185430
CREATED:20250425T142256Z
LAST-MODIFIED:20250425T142256Z
UID:10002611-1747256400-1747260000@www.gurneeparkdistrict.com
SUMMARY:FitNation Pickleball - Reservations Required
DESCRIPTION:1) Pickleball is reserved for FitNation members only.\n2) All pickleball players must check-in at the front desk prior to entering the Flex Studio.\n3) Reservations for pickleball play must be made online via our website and will only be held for 15 minutes past the start time of the reservation. The court will be released if the players don’t show by that time.\n4) Reservations made can be no longer than 1 hour per person/group. Multiple people in the same group cannot reserve the court for each person for 1 hour\n5) All group members need to be listed when the reservation is made.\n6) Paddles must be checked out from the front desk and a photo id is required in exchange for the equipment.\n7) Inappropriate language and fighting are prohibited at all times.
URL:https://www.gurneeparkdistrict.com/event/fitnation-pickleball-reservations-required-585/
LOCATION:FitNation\, 1655 Nations Drive\, Gurnee\, IL\, 60031\, United States
CATEGORIES:FitNation Pickleball
ATTACH;FMTTYPE=image/png:https://www.gurneeparkdistrict.com/wp-content/uploads/2024/04/FN-Pickleball_1.png
END:VEVENT
BEGIN:VEVENT
DTSTART;TZID=America/Chicago:20250515T050000
DTEND;TZID=America/Chicago:20250515T160000
DTSTAMP:20260425T185430
CREATED:20250425T142257Z
LAST-MODIFIED:20250425T142257Z
UID:10002612-1747285200-1747324800@www.gurneeparkdistrict.com
SUMMARY:FitNation Pickleball - Reservations Required
DESCRIPTION:1) Pickleball is reserved for FitNation members only.\n2) All pickleball players must check-in at the front desk prior to entering the Flex Studio.\n3) Reservations for pickleball play must be made online via our website and will only be held for 15 minutes past the start time of the reservation. The court will be released if the players don’t show by that time.\n4) Reservations made can be no longer than 1 hour per person/group. Multiple people in the same group cannot reserve the court for each person for 1 hour\n5) All group members need to be listed when the reservation is made.\n6) Paddles must be checked out from the front desk and a photo id is required in exchange for the equipment.\n7) Inappropriate language and fighting are prohibited at all times.
URL:https://www.gurneeparkdistrict.com/event/fitnation-pickleball-reservations-required-586/
LOCATION:FitNation\, 1655 Nations Drive\, Gurnee\, IL\, 60031\, United States
CATEGORIES:FitNation Pickleball
ATTACH;FMTTYPE=image/png:https://www.gurneeparkdistrict.com/wp-content/uploads/2024/04/FN-Pickleball_1.png
END:VEVENT
BEGIN:VEVENT
DTSTART;TZID=America/Chicago:20250515T110000
DTEND;TZID=America/Chicago:20250515T120000
DTSTAMP:20260425T185430
CREATED:20250425T142257Z
LAST-MODIFIED:20250425T142257Z
UID:10002613-1747306800-1747310400@www.gurneeparkdistrict.com
SUMMARY:FitNation Pickleball - Reservations Required
DESCRIPTION:1) Pickleball is reserved for FitNation members only.\n2) All pickleball players must check-in at the front desk prior to entering the Flex Studio.\n3) Reservations for pickleball play must be made online via our website and will only be held for 15 minutes past the start time of the reservation. The court will be released if the players don’t show by that time.\n4) Reservations made can be no longer than 1 hour per person/group. Multiple people in the same group cannot reserve the court for each person for 1 hour\n5) All group members need to be listed when the reservation is made.\n6) Paddles must be checked out from the front desk and a photo id is required in exchange for the equipment.\n7) Inappropriate language and fighting are prohibited at all times.
URL:https://www.gurneeparkdistrict.com/event/fitnation-pickleball-reservations-required-587/
LOCATION:FitNation\, 1655 Nations Drive\, Gurnee\, IL\, 60031\, United States
CATEGORIES:FitNation Pickleball
ATTACH;FMTTYPE=image/png:https://www.gurneeparkdistrict.com/wp-content/uploads/2024/04/FN-Pickleball_1.png
END:VEVENT
BEGIN:VEVENT
DTSTART;TZID=America/Chicago:20250515T120000
DTEND;TZID=America/Chicago:20250515T130000
DTSTAMP:20260425T185430
CREATED:20250425T142258Z
LAST-MODIFIED:20250425T142258Z
UID:10002614-1747310400-1747314000@www.gurneeparkdistrict.com
SUMMARY:FitNation Pickleball - Reservations Required
DESCRIPTION:1) Pickleball is reserved for FitNation members only.\n2) All pickleball players must check-in at the front desk prior to entering the Flex Studio.\n3) Reservations for pickleball play must be made online via our website and will only be held for 15 minutes past the start time of the reservation. The court will be released if the players don’t show by that time.\n4) Reservations made can be no longer than 1 hour per person/group. Multiple people in the same group cannot reserve the court for each person for 1 hour\n5) All group members need to be listed when the reservation is made.\n6) Paddles must be checked out from the front desk and a photo id is required in exchange for the equipment.\n7) Inappropriate language and fighting are prohibited at all times.
URL:https://www.gurneeparkdistrict.com/event/fitnation-pickleball-reservations-required-588/
LOCATION:FitNation\, 1655 Nations Drive\, Gurnee\, IL\, 60031\, United States
CATEGORIES:FitNation Pickleball
ATTACH;FMTTYPE=image/png:https://www.gurneeparkdistrict.com/wp-content/uploads/2024/04/FN-Pickleball_1.png
END:VEVENT
BEGIN:VEVENT
DTSTART;TZID=America/Chicago:20250515T210000
DTEND;TZID=America/Chicago:20250515T220000
DTSTAMP:20260425T185430
CREATED:20250425T142258Z
LAST-MODIFIED:20250425T142258Z
UID:10002615-1747342800-1747346400@www.gurneeparkdistrict.com
SUMMARY:FitNation Pickleball - Reservations Required
DESCRIPTION:1) Pickleball is reserved for FitNation members only.\n2) All pickleball players must check-in at the front desk prior to entering the Flex Studio.\n3) Reservations for pickleball play must be made online via our website and will only be held for 15 minutes past the start time of the reservation. The court will be released if the players don’t show by that time.\n4) Reservations made can be no longer than 1 hour per person/group. Multiple people in the same group cannot reserve the court for each person for 1 hour\n5) All group members need to be listed when the reservation is made.\n6) Paddles must be checked out from the front desk and a photo id is required in exchange for the equipment.\n7) Inappropriate language and fighting are prohibited at all times.
URL:https://www.gurneeparkdistrict.com/event/fitnation-pickleball-reservations-required-589/
LOCATION:FitNation\, 1655 Nations Drive\, Gurnee\, IL\, 60031\, United States
CATEGORIES:FitNation Pickleball
ATTACH;FMTTYPE=image/png:https://www.gurneeparkdistrict.com/wp-content/uploads/2024/04/FN-Pickleball_1.png
END:VEVENT
BEGIN:VEVENT
DTSTART;TZID=America/Chicago:20250516T050000
DTEND;TZID=America/Chicago:20250516T160000
DTSTAMP:20260425T185430
CREATED:20250425T142259Z
LAST-MODIFIED:20250425T142259Z
UID:10002616-1747371600-1747411200@www.gurneeparkdistrict.com
SUMMARY:FitNation Pickleball - Reservations Required
DESCRIPTION:1) Pickleball is reserved for FitNation members only.\n2) All pickleball players must check-in at the front desk prior to entering the Flex Studio.\n3) Reservations for pickleball play must be made online via our website and will only be held for 15 minutes past the start time of the reservation. The court will be released if the players don’t show by that time.\n4) Reservations made can be no longer than 1 hour per person/group. Multiple people in the same group cannot reserve the court for each person for 1 hour\n5) All group members need to be listed when the reservation is made.\n6) Paddles must be checked out from the front desk and a photo id is required in exchange for the equipment.\n7) Inappropriate language and fighting are prohibited at all times.
URL:https://www.gurneeparkdistrict.com/event/fitnation-pickleball-reservations-required-590/
LOCATION:FitNation\, 1655 Nations Drive\, Gurnee\, IL\, 60031\, United States
CATEGORIES:FitNation Pickleball
ATTACH;FMTTYPE=image/png:https://www.gurneeparkdistrict.com/wp-content/uploads/2024/04/FN-Pickleball_1.png
END:VEVENT
BEGIN:VEVENT
DTSTART;TZID=America/Chicago:20250516T110000
DTEND;TZID=America/Chicago:20250516T120000
DTSTAMP:20260425T185430
CREATED:20250425T142300Z
LAST-MODIFIED:20250425T142300Z
UID:10002617-1747393200-1747396800@www.gurneeparkdistrict.com
SUMMARY:FitNation Pickleball - Reservations Required
DESCRIPTION:1) Pickleball is reserved for FitNation members only.\n2) All pickleball players must check-in at the front desk prior to entering the Flex Studio.\n3) Reservations for pickleball play must be made online via our website and will only be held for 15 minutes past the start time of the reservation. The court will be released if the players don’t show by that time.\n4) Reservations made can be no longer than 1 hour per person/group. Multiple people in the same group cannot reserve the court for each person for 1 hour\n5) All group members need to be listed when the reservation is made.\n6) Paddles must be checked out from the front desk and a photo id is required in exchange for the equipment.\n7) Inappropriate language and fighting are prohibited at all times.
URL:https://www.gurneeparkdistrict.com/event/fitnation-pickleball-reservations-required-591/
LOCATION:FitNation\, 1655 Nations Drive\, Gurnee\, IL\, 60031\, United States
CATEGORIES:FitNation Pickleball
ATTACH;FMTTYPE=image/png:https://www.gurneeparkdistrict.com/wp-content/uploads/2024/04/FN-Pickleball_1.png
END:VEVENT
BEGIN:VEVENT
DTSTART;TZID=America/Chicago:20250516T120000
DTEND;TZID=America/Chicago:20250516T130000
DTSTAMP:20260425T185430
CREATED:20250425T142300Z
LAST-MODIFIED:20250425T142300Z
UID:10002618-1747396800-1747400400@www.gurneeparkdistrict.com
SUMMARY:FitNation Pickleball - Reservations Required
DESCRIPTION:1) Pickleball is reserved for FitNation members only.\n2) All pickleball players must check-in at the front desk prior to entering the Flex Studio.\n3) Reservations for pickleball play must be made online via our website and will only be held for 15 minutes past the start time of the reservation. The court will be released if the players don’t show by that time.\n4) Reservations made can be no longer than 1 hour per person/group. Multiple people in the same group cannot reserve the court for each person for 1 hour\n5) All group members need to be listed when the reservation is made.\n6) Paddles must be checked out from the front desk and a photo id is required in exchange for the equipment.\n7) Inappropriate language and fighting are prohibited at all times.
URL:https://www.gurneeparkdistrict.com/event/fitnation-pickleball-reservations-required-592/
LOCATION:FitNation\, 1655 Nations Drive\, Gurnee\, IL\, 60031\, United States
CATEGORIES:FitNation Pickleball
ATTACH;FMTTYPE=image/png:https://www.gurneeparkdistrict.com/wp-content/uploads/2024/04/FN-Pickleball_1.png
END:VEVENT
BEGIN:VEVENT
DTSTART;TZID=America/Chicago:20250516T200000
DTEND;TZID=America/Chicago:20250516T210000
DTSTAMP:20260425T185430
CREATED:20250425T142301Z
LAST-MODIFIED:20250425T142301Z
UID:10002619-1747425600-1747429200@www.gurneeparkdistrict.com
SUMMARY:FitNation Pickleball - Reservations Required
DESCRIPTION:1) Pickleball is reserved for FitNation members only.\n2) All pickleball players must check-in at the front desk prior to entering the Flex Studio.\n3) Reservations for pickleball play must be made online via our website and will only be held for 15 minutes past the start time of the reservation. The court will be released if the players don’t show by that time.\n4) Reservations made can be no longer than 1 hour per person/group. Multiple people in the same group cannot reserve the court for each person for 1 hour\n5) All group members need to be listed when the reservation is made.\n6) Paddles must be checked out from the front desk and a photo id is required in exchange for the equipment.\n7) Inappropriate language and fighting are prohibited at all times.
URL:https://www.gurneeparkdistrict.com/event/fitnation-pickleball-reservations-required-593/
LOCATION:FitNation\, 1655 Nations Drive\, Gurnee\, IL\, 60031\, United States
CATEGORIES:FitNation Pickleball
ATTACH;FMTTYPE=image/png:https://www.gurneeparkdistrict.com/wp-content/uploads/2024/04/FN-Pickleball_1.png
END:VEVENT
BEGIN:VEVENT
DTSTART;TZID=America/Chicago:20250517T070000
DTEND;TZID=America/Chicago:20250517T080000
DTSTAMP:20260425T185430
CREATED:20250425T142302Z
LAST-MODIFIED:20250425T142302Z
UID:10002620-1747465200-1747468800@www.gurneeparkdistrict.com
SUMMARY:FitNation Pickleball - Reservations Required
DESCRIPTION:1) Pickleball is reserved for FitNation members only.\n2) All pickleball players must check-in at the front desk prior to entering the Flex Studio.\n3) Reservations for pickleball play must be made online via our website and will only be held for 15 minutes past the start time of the reservation. The court will be released if the players don’t show by that time.\n4) Reservations made can be no longer than 1 hour per person/group. Multiple people in the same group cannot reserve the court for each person for 1 hour\n5) All group members need to be listed when the reservation is made.\n6) Paddles must be checked out from the front desk and a photo id is required in exchange for the equipment.\n7) Inappropriate language and fighting are prohibited at all times.
URL:https://www.gurneeparkdistrict.com/event/fitnation-pickleball-reservations-required-594/
LOCATION:FitNation\, 1655 Nations Drive\, Gurnee\, IL\, 60031\, United States
CATEGORIES:FitNation Pickleball
ATTACH;FMTTYPE=image/png:https://www.gurneeparkdistrict.com/wp-content/uploads/2024/04/FN-Pickleball_1.png
END:VEVENT
BEGIN:VEVENT
DTSTART;TZID=America/Chicago:20250517T120000
DTEND;TZID=America/Chicago:20250517T190000
DTSTAMP:20260425T185430
CREATED:20250425T142302Z
LAST-MODIFIED:20250425T142302Z
UID:10002621-1747483200-1747508400@www.gurneeparkdistrict.com
SUMMARY:FitNation Pickleball - Reservations Required
DESCRIPTION:1) Pickleball is reserved for FitNation members only.\n2) All pickleball players must check-in at the front desk prior to entering the Flex Studio.\n3) Reservations for pickleball play must be made online via our website and will only be held for 15 minutes past the start time of the reservation. The court will be released if the players don’t show by that time.\n4) Reservations made can be no longer than 1 hour per person/group. Multiple people in the same group cannot reserve the court for each person for 1 hour\n5) All group members need to be listed when the reservation is made.\n6) Paddles must be checked out from the front desk and a photo id is required in exchange for the equipment.\n7) Inappropriate language and fighting are prohibited at all times.
URL:https://www.gurneeparkdistrict.com/event/fitnation-pickleball-reservations-required-595/
LOCATION:FitNation\, 1655 Nations Drive\, Gurnee\, IL\, 60031\, United States
CATEGORIES:FitNation Pickleball
ATTACH;FMTTYPE=image/png:https://www.gurneeparkdistrict.com/wp-content/uploads/2024/04/FN-Pickleball_1.png
END:VEVENT
END:VCALENDAR