BEGIN:VCALENDAR
VERSION:2.0
PRODID:-//Gurnee Park District - ECPv6.15.20//NONSGML v1.0//EN
CALSCALE:GREGORIAN
METHOD:PUBLISH
X-WR-CALNAME:Gurnee Park District
X-ORIGINAL-URL:https://www.gurneeparkdistrict.com
X-WR-CALDESC:Events for Gurnee Park District
REFRESH-INTERVAL;VALUE=DURATION:PT1H
X-Robots-Tag:noindex
X-PUBLISHED-TTL:PT1H
BEGIN:VTIMEZONE
TZID:America/Chicago
BEGIN:DAYLIGHT
TZOFFSETFROM:-0600
TZOFFSETTO:-0500
TZNAME:CDT
DTSTART:20240310T080000
END:DAYLIGHT
BEGIN:STANDARD
TZOFFSETFROM:-0500
TZOFFSETTO:-0600
TZNAME:CST
DTSTART:20241103T070000
END:STANDARD
BEGIN:DAYLIGHT
TZOFFSETFROM:-0600
TZOFFSETTO:-0500
TZNAME:CDT
DTSTART:20250309T080000
END:DAYLIGHT
BEGIN:STANDARD
TZOFFSETFROM:-0500
TZOFFSETTO:-0600
TZNAME:CST
DTSTART:20251102T070000
END:STANDARD
BEGIN:DAYLIGHT
TZOFFSETFROM:-0600
TZOFFSETTO:-0500
TZNAME:CDT
DTSTART:20260308T080000
END:DAYLIGHT
BEGIN:STANDARD
TZOFFSETFROM:-0500
TZOFFSETTO:-0600
TZNAME:CST
DTSTART:20261101T070000
END:STANDARD
END:VTIMEZONE
BEGIN:VEVENT
DTSTART;TZID=America/Chicago:20250211T113000
DTEND;TZID=America/Chicago:20250211T130000
DTSTAMP:20260425T085820
CREATED:20241106T182133Z
LAST-MODIFIED:20250129T140203Z
UID:10000380-1739273400-1739278800@www.gurneeparkdistrict.com
SUMMARY:Monthly Mixer - Sounds of the 60s
DESCRIPTION:It was February 7\, 1967\, when the Beatles burst on to the music scene in the USA. Sit back and enjoy Grammy-nominated musician Dave Rudolf as he plays songs from the Beatles\, The Who\, The Rolling Stones\, and many more groups from that era. \nLunch will include a grilled sun-dried tomato pesto chicken sandwich with roasted red pepper\, onion\, provolone\, lettuce\, and tomato on a ciabatta roll from Khayat Catering in Gurnee\, a cup of chicken noodle soup from Panera\, and dessert. \nRegistration deadline: February 6\, 2025 \nDoors open at 11:00am. Lunch service begins at 11:30am. https://ilgurneeweb.myvscloud.com/webtrac/web/search.html?module=ar&keyword=302835 \nSave your seat!
URL:https://www.gurneeparkdistrict.com/event/monthly-mixer-the-british-invasion/
LOCATION:Viking Park\, 4374 Old Grand Avenue\, Gurnee\, IL\, 60031\, United States
CATEGORIES:Special Events
ATTACH;FMTTYPE=image/png:https://www.gurneeparkdistrict.com/wp-content/uploads/2024/05/MONTHLY-MIXERS-55-1.png
END:VEVENT
BEGIN:VEVENT
DTSTART;TZID=America/Chicago:20250214T063000
DTEND;TZID=America/Chicago:20250214T180000
DTSTAMP:20260425T085820
CREATED:20241106T185513Z
LAST-MODIFIED:20250128T152237Z
UID:10000382-1739514600-1739556000@www.gurneeparkdistrict.com
SUMMARY:Days Off School - Love Bug Party
DESCRIPTION:Celebrate love\, friendship\, and fun on Valentine’s Day! With music\, crafts\, games\, and plenty of love\, our Valentine’s Day event promises a day filled with laughter and heartfelt moments.  \nWhat to bring:\n– Lunch\n– Water Bottle\n– Appropriate outerwear as some activities may be held outside  \nThe program time is 6:30am-6:00pm. Children can be dropped off as early as 6:30am and picked up by 6:00pm. Themed activities will take place between 9:00am-3:00pm. \nThis is a non-school day for students in both Districts 50 & 56. \n 
URL:https://www.gurneeparkdistrict.com/event/days-off-school-love-bug-party/
LOCATION:Hunt Club Park Community Center\, 920 North Hunt Club Road\, Gurnee\, IL\, 60031\, United States
CATEGORIES:Special Events
ATTACH;FMTTYPE=image/png:https://www.gurneeparkdistrict.com/wp-content/uploads/2024/07/GPD-2024-Days-Off-School_Calendar-District-50-56-1080-x-1080.png
END:VEVENT
BEGIN:VEVENT
DTSTART;TZID=America/Chicago:20250215T170000
DTEND;TZID=America/Chicago:20250215T200000
DTSTAMP:20260425T085820
CREATED:20241104T220811Z
LAST-MODIFIED:20241213T205724Z
UID:10000375-1739638800-1739649600@www.gurneeparkdistrict.com
SUMMARY:Parents Night Out
DESCRIPTION:Parents – spend a night out while we take care of the kids! Parents Night Out events at Gurnee Park District include an evening of fun age-appropriate activities for children ages 1 -11* such as games\, crafts\, sports\, and more! A dinner of cheese pizza\, juice\, and water will be provided. \n*Children 1-3 years old will have separate activities.
URL:https://www.gurneeparkdistrict.com/event/parents-night-out-3/2025-02-15/
LOCATION:Hunt Club Park Community Center\, 920 North Hunt Club Road\, Gurnee\, IL\, 60031\, United States
CATEGORIES:Special Events
ATTACH;FMTTYPE=image/png:https://www.gurneeparkdistrict.com/wp-content/uploads/2024/07/GPD-2024-PNO_Calendar-1080-x-1080.png
END:VEVENT
END:VCALENDAR