BEGIN:VCALENDAR
VERSION:2.0
PRODID:-//Gurnee Park District - ECPv6.15.20//NONSGML v1.0//EN
CALSCALE:GREGORIAN
METHOD:PUBLISH
X-ORIGINAL-URL:https://www.gurneeparkdistrict.com
X-WR-CALDESC:Events for Gurnee Park District
REFRESH-INTERVAL;VALUE=DURATION:PT1H
X-Robots-Tag:noindex
X-PUBLISHED-TTL:PT1H
BEGIN:VTIMEZONE
TZID:America/Chicago
BEGIN:DAYLIGHT
TZOFFSETFROM:-0600
TZOFFSETTO:-0500
TZNAME:CDT
DTSTART:20230312T080000
END:DAYLIGHT
BEGIN:STANDARD
TZOFFSETFROM:-0500
TZOFFSETTO:-0600
TZNAME:CST
DTSTART:20231105T070000
END:STANDARD
BEGIN:DAYLIGHT
TZOFFSETFROM:-0600
TZOFFSETTO:-0500
TZNAME:CDT
DTSTART:20240310T080000
END:DAYLIGHT
BEGIN:STANDARD
TZOFFSETFROM:-0500
TZOFFSETTO:-0600
TZNAME:CST
DTSTART:20241103T070000
END:STANDARD
BEGIN:DAYLIGHT
TZOFFSETFROM:-0600
TZOFFSETTO:-0500
TZNAME:CDT
DTSTART:20250309T080000
END:DAYLIGHT
BEGIN:STANDARD
TZOFFSETFROM:-0500
TZOFFSETTO:-0600
TZNAME:CST
DTSTART:20251102T070000
END:STANDARD
END:VTIMEZONE
BEGIN:VEVENT
DTSTART;TZID=America/Chicago:20241223T063000
DTEND;TZID=America/Chicago:20241223T180000
DTSTAMP:20260422T010117
CREATED:20240710T202316Z
LAST-MODIFIED:20241213T204711Z
UID:10000359-1734935400-1734976800@www.gurneeparkdistrict.com
SUMMARY:Days Off School - Festive Celebration (Districts 50/56)
DESCRIPTION:Celebrate the season with us at our Festive Celebration. From holiday themed crafts to fun festive snacks. \nAre you looking for something for your child to do on the next day off school? Let us take care of the planning. Registration closes one week prior to the program date. Non- Park district residents who reside in Districts 50 or 56 receive resident rates for that specific program. \nwhat to bring:\n– Lunch\n– Water Bottle\n– Appropriate outerwear as some activities may be held outside  \nThe program time is 6:30am-6:00pm. Children can be dropped off as early as 6:30am and picked up by 6:00pm. Themed activities will take place between 9:00a-3:00pm. \nMonday\, December 23rd 
URL:https://www.gurneeparkdistrict.com/event/days-off-school-festive-celebration-districts-50-56/
LOCATION:Hunt Club Park Community Center\, 920 North Hunt Club Road\, Gurnee\, IL\, 60031\, United States
CATEGORIES:Special Events
ATTACH;FMTTYPE=image/png:https://www.gurneeparkdistrict.com/wp-content/uploads/2024/07/GPD-2024-Days-Off-School_Calendar-District-50-56-1080-x-1080.png
END:VEVENT
BEGIN:VEVENT
DTSTART;TZID=America/Chicago:20241226T063000
DTEND;TZID=America/Chicago:20241226T180000
DTSTAMP:20260422T010117
CREATED:20240710T202701Z
LAST-MODIFIED:20241213T204754Z
UID:10000360-1735194600-1735236000@www.gurneeparkdistrict.com
SUMMARY:Days Off School- Winter Wonderland (Districts 50/56)
DESCRIPTION:Come and join us as we transform our Gurnee Park District into a magical Winter Wonderland\, filled with snowy adventures and frosty fun! \nAre you looking for something for your child to do on the next day off school? Let us take care of the planning. Registration closes one week prior to the program date. Non- Park district residents who reside in Districts 50 or 56 receive resident rates for that specific program. \nwhat to bring:\n– Lunch\n– Water Bottle\n– Appropriate outerwear as some activities may be held outside  \nThe program time is 6:30am-6:00pm. Children can be dropped off as early as 6:30am and picked up by 6:00pm. Themed activities will take place between 9:00a-3:00pm. \nThursday\, December 26th 
URL:https://www.gurneeparkdistrict.com/event/days-off-school-winter-wonderland-districts-50-56/
LOCATION:Hunt Club Park Community Center\, 920 North Hunt Club Road\, Gurnee\, IL\, 60031\, United States
CATEGORIES:Special Events
ATTACH;FMTTYPE=image/png:https://www.gurneeparkdistrict.com/wp-content/uploads/2024/07/GPD-2024-Days-Off-School_Calendar-District-50-56-1080-x-1080.png
END:VEVENT
BEGIN:VEVENT
DTSTART;TZID=America/Chicago:20241227T063000
DTEND;TZID=America/Chicago:20241227T180000
DTSTAMP:20260422T010117
CREATED:20240710T203147Z
LAST-MODIFIED:20241213T204826Z
UID:10000362-1735281000-1735322400@www.gurneeparkdistrict.com
SUMMARY:Days Off School - Circus (Districts 50/56)
DESCRIPTION:Step right up to a day of circus-themed fun with crafts\, face painting\, and circus games! \nAre you looking for something for your child to do on the next day off school? Let us take care of the planning. Registration closes one week prior to the program date. Non- Park district residents who reside in Districts 50 or 56 receive resident rates for that specific program. \nwhat to bring:\n– Lunch\n– Water Bottle\n– Appropriate outerwear as some activities may be held outside \nThe program time is 6:30am-6:00pm. Children can be dropped off as early as 6:30am and picked up by 6:00pm. Themed activities will take place between 9:00a-3:00pm. \nFriday\, December 27th 
URL:https://www.gurneeparkdistrict.com/event/days-off-school-circus-districts-50-56/
LOCATION:Hunt Club Park Community Center\, 920 North Hunt Club Road\, Gurnee\, IL\, 60031\, United States
CATEGORIES:Special Events
ATTACH;FMTTYPE=image/png:https://www.gurneeparkdistrict.com/wp-content/uploads/2024/07/GPD-2024-Days-Off-School_Calendar-District-50-56-1080-x-1080.png
END:VEVENT
END:VCALENDAR