BEGIN:VCALENDAR
VERSION:2.0
PRODID:-//Gurnee Park District - ECPv6.15.20//NONSGML v1.0//EN
CALSCALE:GREGORIAN
METHOD:PUBLISH
X-WR-CALNAME:Gurnee Park District
X-ORIGINAL-URL:https://www.gurneeparkdistrict.com
X-WR-CALDESC:Events for Gurnee Park District
REFRESH-INTERVAL;VALUE=DURATION:PT1H
X-Robots-Tag:noindex
X-PUBLISHED-TTL:PT1H
BEGIN:VTIMEZONE
TZID:America/Chicago
BEGIN:DAYLIGHT
TZOFFSETFROM:-0600
TZOFFSETTO:-0500
TZNAME:CDT
DTSTART:20250309T080000
END:DAYLIGHT
BEGIN:STANDARD
TZOFFSETFROM:-0500
TZOFFSETTO:-0600
TZNAME:CST
DTSTART:20251102T070000
END:STANDARD
BEGIN:DAYLIGHT
TZOFFSETFROM:-0600
TZOFFSETTO:-0500
TZNAME:CDT
DTSTART:20260308T080000
END:DAYLIGHT
BEGIN:STANDARD
TZOFFSETFROM:-0500
TZOFFSETTO:-0600
TZNAME:CST
DTSTART:20261101T070000
END:STANDARD
BEGIN:DAYLIGHT
TZOFFSETFROM:-0600
TZOFFSETTO:-0500
TZNAME:CDT
DTSTART:20270314T080000
END:DAYLIGHT
BEGIN:STANDARD
TZOFFSETFROM:-0500
TZOFFSETTO:-0600
TZNAME:CST
DTSTART:20271107T070000
END:STANDARD
END:VTIMEZONE
BEGIN:VEVENT
DTSTART;TZID=America/Chicago:20260605T193000
DTEND;TZID=America/Chicago:20260605T213000
DTSTAMP:20260425T212408
CREATED:20250423T200509Z
LAST-MODIFIED:20260424T202718Z
UID:10007834-1780687800-1780695000@www.gurneeparkdistrict.com
SUMMARY:Jr. High Night
DESCRIPTION:Join your friends for a night at the pool!  \nFriday\, June 5\n7:30-9:30pm\nAges 11-14 \n$10R/$12NR\n*food package available for purchase \nSave your spot!
URL:https://www.gurneeparkdistrict.com/event/jr-high-night-2/2026-06-05/
LOCATION:Hunt Club Park Aquatic Center\, 900 N. Hunt Club Road\, Gurnee\, IL\, 60031\, United States
CATEGORIES:Aquatic Center Events
ATTACH;FMTTYPE=image/png:https://www.gurneeparkdistrict.com/wp-content/uploads/2025/04/HCPAC2025_Junior-High-Night_Calendar-1080-x-1080.png
END:VEVENT
BEGIN:VEVENT
DTSTART;TZID=America/Chicago:20260807T193000
DTEND;TZID=America/Chicago:20260807T213000
DTSTAMP:20260425T212408
CREATED:20250423T200509Z
LAST-MODIFIED:20260424T202718Z
UID:10007835-1786131000-1786138200@www.gurneeparkdistrict.com
SUMMARY:Jr. High Night
DESCRIPTION:Join your friends for a night at the pool!  \nFriday\, June 5\n7:30-9:30pm\nAges 11-14 \n$10R/$12NR\n*food package available for purchase \nSave your spot!
URL:https://www.gurneeparkdistrict.com/event/jr-high-night-2/2026-08-07/
LOCATION:Hunt Club Park Aquatic Center\, 900 N. Hunt Club Road\, Gurnee\, IL\, 60031\, United States
CATEGORIES:Aquatic Center Events
ATTACH;FMTTYPE=image/png:https://www.gurneeparkdistrict.com/wp-content/uploads/2025/04/HCPAC2025_Junior-High-Night_Calendar-1080-x-1080.png
END:VEVENT
END:VCALENDAR