BEGIN:VCALENDAR
VERSION:2.0
PRODID:-//Gurnee Park District - ECPv6.15.20//NONSGML v1.0//EN
CALSCALE:GREGORIAN
METHOD:PUBLISH
X-WR-CALNAME:Gurnee Park District
X-ORIGINAL-URL:https://www.gurneeparkdistrict.com
X-WR-CALDESC:Events for Gurnee Park District
REFRESH-INTERVAL;VALUE=DURATION:PT1H
X-Robots-Tag:noindex
X-PUBLISHED-TTL:PT1H
BEGIN:VTIMEZONE
TZID:America/Chicago
BEGIN:DAYLIGHT
TZOFFSETFROM:-0600
TZOFFSETTO:-0500
TZNAME:CDT
DTSTART:20250309T080000
END:DAYLIGHT
BEGIN:STANDARD
TZOFFSETFROM:-0500
TZOFFSETTO:-0600
TZNAME:CST
DTSTART:20251102T070000
END:STANDARD
BEGIN:DAYLIGHT
TZOFFSETFROM:-0600
TZOFFSETTO:-0500
TZNAME:CDT
DTSTART:20260308T080000
END:DAYLIGHT
BEGIN:STANDARD
TZOFFSETFROM:-0500
TZOFFSETTO:-0600
TZNAME:CST
DTSTART:20261101T070000
END:STANDARD
BEGIN:DAYLIGHT
TZOFFSETFROM:-0600
TZOFFSETTO:-0500
TZNAME:CDT
DTSTART:20270314T080000
END:DAYLIGHT
BEGIN:STANDARD
TZOFFSETFROM:-0500
TZOFFSETTO:-0600
TZNAME:CST
DTSTART:20271107T070000
END:STANDARD
END:VTIMEZONE
BEGIN:VEVENT
DTSTART;VALUE=DATE:20260601
DTEND;VALUE=DATE:20260802
DTSTAMP:20260425T161331
CREATED:20250506T193932Z
LAST-MODIFIED:20260424T202425Z
UID:10002653-1780272000-1785628799@www.gurneeparkdistrict.com
SUMMARY:GO Gurnee StoryWalk
DESCRIPTION:Lace up your sneakers\, bring your strollers\, and join us for a storywalk at Hunt Club Park. Families are invited to read a story as they enjoy a leisurely walk around the pond. Brought to you in partnership with the Warren-Newport Public Library and Gurnee Park District.  \nJune 1 – August 1\nBook: Surf’s Up/¡Vamos a surfear! By Kwame Alexander\nHunt Club Park Pond \nFREE!
URL:https://www.gurneeparkdistrict.com/event/go-gurnee-storywalk/
LOCATION:Hunt Club Park\, 900 N. Hunt Club Road\, Gurnee\, IL\, 60031\, United States
CATEGORIES:GO Gurnee,Special Events
ATTACH;FMTTYPE=image/jpeg:https://www.gurneeparkdistrict.com/wp-content/uploads/2025/05/GPD2021_Storywalks_Social-Square-Ad-scaled.jpg
END:VEVENT
BEGIN:VEVENT
DTSTART;TZID=America/Chicago:20260603T173000
DTEND;TZID=America/Chicago:20260603T193000
DTSTAMP:20260425T161331
CREATED:20260416T204552Z
LAST-MODIFIED:20260416T204552Z
UID:10007700-1780507800-1780515000@www.gurneeparkdistrict.com
SUMMARY:Neighborhood Nights - Betty Russell Park
DESCRIPTION:Join us at Betty Russell Park for FREE family fun close to home!\nThere will be games & crafts for ages 4-10 years old! In addition\, our friends from Warren-Newport Public Library will be on-site with the Bookmobile!\n \nWednesday\, June 35:30-7:30 pm\n \nRemember to check Rainout Line for inclement weather updates.
URL:https://www.gurneeparkdistrict.com/event/neighborhood-nights-betty-russell-park-3/
LOCATION:Betty Russell Park\, 5300 Pinewood Road\, Gurnee\, IL\, 60031\, United States
CATEGORIES:Special Events
ATTACH;FMTTYPE=image/png:https://www.gurneeparkdistrict.com/wp-content/uploads/2026/04/GPD2026-Neighborhood-Nights_Social_Calendar-1080-x-1080-scaled.png
END:VEVENT
BEGIN:VEVENT
DTSTART;TZID=America/Chicago:20260610T173000
DTEND;TZID=America/Chicago:20260610T193000
DTSTAMP:20260425T161331
CREATED:20260416T204815Z
LAST-MODIFIED:20260416T204815Z
UID:10007701-1781112600-1781119800@www.gurneeparkdistrict.com
SUMMARY:Neighborhood Nights - Village Park
DESCRIPTION:Join us at Village Park for FREE family fun close to home!\nThere will be games & crafts for ages 4-10 years old! In addition\, our friends from Warren-Newport Public Library will be on-site with the Bookmobile!\n \nWednesday\, June 105:30-7:30 pm\n \nRemember to check Rainout Line for inclement weather updates.
URL:https://www.gurneeparkdistrict.com/event/neighborhood-nights-village-park/
LOCATION:Village Park\, Village Park Drive & Continental Drive\, Gurnee\, IL\, 60031\, United States
CATEGORIES:Special Events
ATTACH;FMTTYPE=image/png:https://www.gurneeparkdistrict.com/wp-content/uploads/2026/04/GPD2026-Neighborhood-Nights_Social_Calendar-1080-x-1080-scaled.png
END:VEVENT
BEGIN:VEVENT
DTSTART;TZID=America/Chicago:20260610T190000
DTEND;TZID=America/Chicago:20260610T200000
DTSTAMP:20260425T161331
CREATED:20260219T221618Z
LAST-MODIFIED:20260331T195254Z
UID:10006923-1781118000-1781121600@www.gurneeparkdistrict.com
SUMMARY:NEW! Sound Healing and Meditation (18+)
DESCRIPTION:Release stress\, reset your nervous system\, and feel restored! Each guided meditation session utilizes sound healing techniques and instruments such as singing bowls\, tuning forks\, chimes\, wave drums and gongs. These sessions are designed to create a calming environment that promotes emotional balance\, mindfulness\, and stress relief. Each session will include an introductory segment\, the sound bath experience\, and a brief reflection or Q&A. \nSave your spot!
URL:https://www.gurneeparkdistrict.com/event/new-sound-healing-and-mediation-18/2026-06-10/
LOCATION:Viking Park Community Center\, 4374 Old Grand Avenue\, Gurnee\, IL\, 60031\, United States
CATEGORIES:Special Events
ATTACH;FMTTYPE=image/png:https://www.gurneeparkdistrict.com/wp-content/uploads/2026/02/GPD26_Sound-Healing-Meditation-Square-1.png
END:VEVENT
BEGIN:VEVENT
DTSTART;TZID=America/Chicago:20260611T190000
DTEND;TZID=America/Chicago:20260611T203000
DTSTAMP:20260425T161331
CREATED:20260417T194415Z
LAST-MODIFIED:20260424T141413Z
UID:10007709-1781204400-1781209800@www.gurneeparkdistrict.com
SUMMARY:Sounds of Summer Concert - Latin Swing Factor (FREE)
DESCRIPTION:Join us for Sounds of Summer\, our FREE summer concert series! “Latin Swing Factor” will be performing!\n \nThursday\, June 117:00pmViking Park Band Shell | 4374 Old Grand Avenue\, GurneeAll ages welcome!FREE!\n \nBe sure to bring blankets or chairs.\nDogs are welcome and should be well-behaved and remain on a leash at all times.\n \nRemember to check Rainout Line for inclement weather updates: https://rainoutline.com/gurneeparkdistrict
URL:https://www.gurneeparkdistrict.com/event/sounds-of-summer-concert-latin-swing-factor-free/
LOCATION:Viking Park\, 4374 Old Grand Avenue\, Gurnee\, IL\, 60031\, United States
CATEGORIES:Special Events
ATTACH;FMTTYPE=image/png:https://www.gurneeparkdistrict.com/wp-content/uploads/2026/04/GPD2026-Sounds-of-Summer-Adult-Social-Campaign_Calendar-1-1080-x-1080--scaled.png
END:VEVENT
BEGIN:VEVENT
DTSTART;TZID=America/Chicago:20260612T113000
DTEND;TZID=America/Chicago:20260612T130000
DTSTAMP:20260425T161331
CREATED:20260424T201104Z
LAST-MODIFIED:20260424T201104Z
UID:10007829-1781263800-1781269200@www.gurneeparkdistrict.com
SUMMARY:Monthly Mixer - Summer Luau (55+)
DESCRIPTION:Monthly Mixers are back for June and July at our summer location: Gurnee Community Church | 4555 Old Grand Avenue\, Gurnee\, IL.  \nJoin us for a tropical escape as we transform our luncheon into a lively island celebration! Wear your brightest prints\, embrace the island vibes\, and get ready to hula the afternoon away. Enjoy vibrant Polynesian-style entertainment that brings the spirit of the islands to life. Lunch will include a half ham sandwich from The Honey Baked Ham Company\, served with a side of potato chips and dessert. \nRegistration deadline: 6/7 \nSave your seat!
URL:https://www.gurneeparkdistrict.com/event/monthly-mixer-summer-luau-55/
LOCATION:Gurnee Community Church at Welton Plaza\, 4555 Old Grand Avenue\, Gurnee\, IL\, 60031\, United States
CATEGORIES:Special Events
ATTACH;FMTTYPE=image/png:https://www.gurneeparkdistrict.com/wp-content/uploads/2026/04/GPD2026-Monthly-Mixers_Calendar-1080-x-1080-Summer-scaled.png
END:VEVENT
BEGIN:VEVENT
DTSTART;TZID=America/Chicago:20260612T190000
DTEND;TZID=America/Chicago:20260612T210000
DTSTAMP:20260425T161331
CREATED:20260219T215504Z
LAST-MODIFIED:20260227T143921Z
UID:10006915-1781290800-1781298000@www.gurneeparkdistrict.com
SUMMARY:Families On The Fairway
DESCRIPTION:Swing into fun at our FREE Families on the Fairway event! Located at Bittersweet Golf Club\, Families on the Fairway will include a variety of activities for all ages to enjoy\, including bounce houses\, mini-golf games\, DJ and photo booth\, as well as take home crafts\, courtesy of our friends from the Warren Newport Public Library. \nAdding to the party will be the open driving and putting ranges\, where guests can try to perfect their golf skills! \nDrinks and snacks will be available for purchase during the event from the Bittersweet Golf Club bar and grill. \nThis event is brought to you in partnership with the Village of Gurnee and Bittersweet Golf Club.  \nFriday\, June 12\n7:00-9:00pm\nBittersweet Golf Club \n¡Disfruta de nuestro evento GRATUITO “Familias en el Fairway”! Ubicado en el Club de Golf Bittersweet\, “Familias en el Fairway” incluirá una variedad de actividades para todas las edades\, como castillos inflables\, minigolf\, DJ y fotomatón\, además de manualidades para llevar\, cortesía de nuestros amigos de la Biblioteca Pública Warren Newport. \nPara completar la fiesta\, habrá campos de práctica y putting abiertos\, donde los invitados podrán perfeccionar sus habilidades de golf. \nSe podrán comprar bebidas y refrigerios durante el evento en el bar y parrilla del Club de Golf Bittersweet. \nEste evento se realiza en colaboración con la Villa de Gurnee y el Club de Golf Bittersweet. \nViernes 12 de Junio\n7:00-9:00pm\nClub de Golf Bittersweet
URL:https://www.gurneeparkdistrict.com/event/families-on-the-fairway-3/
LOCATION:Bittersweet Golf Course\, 875 Almond Road\, Gurnee\, IL\, 60031\, United States
CATEGORIES:Special Events
ATTACH;FMTTYPE=image/png:https://www.gurneeparkdistrict.com/wp-content/uploads/2026/02/GPD2026-Families_on_the_Fairway-Socials_Instagram-Post-1080-x-1080-scaled.png
END:VEVENT
BEGIN:VEVENT
DTSTART;TZID=America/Chicago:20260616T103000
DTEND;TZID=America/Chicago:20260616T111500
DTSTAMP:20260425T161331
CREATED:20260417T201756Z
LAST-MODIFIED:20260417T203057Z
UID:10007713-1781605800-1781608500@www.gurneeparkdistrict.com
SUMMARY:Children's Concert Series - Ben Tatar & the Tatar Tots
DESCRIPTION:Join us for our FREE Sounds of Summer Children’s Series featuring Ben Tatar & the Tatar Tots! \nTuesday\, June 16\n10:30-11:15 am\nViking Park Band Shell | 4374 Old Grand Avenue\, Gurnee\nChildren’s Concert\nFREE! \nBe sure to bring blankets/chairs and feel free to stay and play – bring a picnic and plan an afternoon at the park! \nRemember to check Rainout Line for inclement weather updates.
URL:https://www.gurneeparkdistrict.com/event/childrens-concert-series-ben-tatar-the-tatar-tots/
LOCATION:Viking Park\, 4374 Old Grand Avenue\, Gurnee\, IL\, 60031\, United States
CATEGORIES:Special Events
ATTACH;FMTTYPE=image/png:https://www.gurneeparkdistrict.com/wp-content/uploads/2026/04/Calendar-1-1080-x-1080.png
END:VEVENT
BEGIN:VEVENT
DTSTART;TZID=America/Chicago:20260617T173000
DTEND;TZID=America/Chicago:20260617T193000
DTSTAMP:20260425T161331
CREATED:20260416T205011Z
LAST-MODIFIED:20260416T205011Z
UID:10007702-1781717400-1781724600@www.gurneeparkdistrict.com
SUMMARY:Neighborhood Nights - Kings Park
DESCRIPTION:Join us at Kings Park for FREE family fun close to home!\nThere will be games & crafts for ages 4-10 years old! In addition\, our friends from Warren-Newport Public Library will be on-site with the Bookmobile!\n \nWednesday\, June 175:30-7:30 pm\n \nRemember to check Rainout Line for inclement weather updates.
URL:https://www.gurneeparkdistrict.com/event/neighborhood-nights-kings-park/
LOCATION:Kings Park\, Providence Road and Cole Court\, Gurnee\, IL\, 60031\, United States
CATEGORIES:Special Events
ATTACH;FMTTYPE=image/png:https://www.gurneeparkdistrict.com/wp-content/uploads/2026/04/GPD2026-Neighborhood-Nights_Social_Calendar-1080-x-1080-scaled.png
END:VEVENT
BEGIN:VEVENT
DTSTART;TZID=America/Chicago:20260624T173000
DTEND;TZID=America/Chicago:20260624T193000
DTSTAMP:20260425T161331
CREATED:20260416T205124Z
LAST-MODIFIED:20260416T205142Z
UID:10007703-1782322200-1782329400@www.gurneeparkdistrict.com
SUMMARY:Neighborhood Nights - Vicki Paddock Park
DESCRIPTION:Join us at Vicki Paddock Park for FREE family fun close to home!\nThere will be games & crafts for ages 4-10 years old! In addition\, our friends from Warren-Newport Public Library will be on-site with the Bookmobile!\n \nWednesday\, June 245:30-7:30 pm\n \nRemember to check Rainout Line for inclement weather updates.
URL:https://www.gurneeparkdistrict.com/event/neighborhood-nights-vicki-paddock-park/
LOCATION:Vicki Paddock Park\, 235 O'Plaine Rd\, Gurnee\, IL\, 60031\, United States
CATEGORIES:Special Events
ATTACH;FMTTYPE=image/png:https://www.gurneeparkdistrict.com/wp-content/uploads/2026/04/GPD2026-Neighborhood-Nights_Social_Calendar-1080-x-1080-scaled.png
GEO:42.355819869296;-87.913762274853
X-APPLE-STRUCTURED-LOCATION;VALUE=URI;X-ADDRESS=Vicki Paddock Park 235 O'Plaine Rd Gurnee IL 60031 United States;X-APPLE-RADIUS=500;X-TITLE=235 O'Plaine Rd:geo:-87.913762274853,42.355819869296
END:VEVENT
BEGIN:VEVENT
DTSTART;TZID=America/Chicago:20260624T190000
DTEND;TZID=America/Chicago:20260624T200000
DTSTAMP:20260425T161331
CREATED:20260219T221618Z
LAST-MODIFIED:20260331T195254Z
UID:10006924-1782327600-1782331200@www.gurneeparkdistrict.com
SUMMARY:NEW! Sound Healing and Meditation (18+)
DESCRIPTION:Release stress\, reset your nervous system\, and feel restored! Each guided meditation session utilizes sound healing techniques and instruments such as singing bowls\, tuning forks\, chimes\, wave drums and gongs. These sessions are designed to create a calming environment that promotes emotional balance\, mindfulness\, and stress relief. Each session will include an introductory segment\, the sound bath experience\, and a brief reflection or Q&A. \nSave your spot!
URL:https://www.gurneeparkdistrict.com/event/new-sound-healing-and-mediation-18/2026-06-24/
LOCATION:Viking Park Community Center\, 4374 Old Grand Avenue\, Gurnee\, IL\, 60031\, United States
CATEGORIES:Special Events
ATTACH;FMTTYPE=image/png:https://www.gurneeparkdistrict.com/wp-content/uploads/2026/02/GPD26_Sound-Healing-Meditation-Square-1.png
END:VEVENT
BEGIN:VEVENT
DTSTART;TZID=America/Chicago:20260625T190000
DTEND;TZID=America/Chicago:20260625T203000
DTSTAMP:20260425T161331
CREATED:20260417T194817Z
LAST-MODIFIED:20260417T194817Z
UID:10007710-1782414000-1782419400@www.gurneeparkdistrict.com
SUMMARY:Sounds of Summer Concert - Disco Circus (FREE)
DESCRIPTION:Join us for Sounds of Summer\, our FREE summer concert series! “Disco Circus” will be performing!\n \nThursday\, June 257:00pmViking Park Band Shell | 4374 Old Grand Avenue\, GurneeAll ages welcome!FREE!\n \nBe sure to bring blankets or chairs.\nDogs are welcome and should be well-behaved and remain on a leash at all times.\n \nRemember to check Rainout Line for inclement weather updates: https://rainoutline.com/gurneeparkdistrict
URL:https://www.gurneeparkdistrict.com/event/sounds-of-summer-concert-disco-circus-free-2/
LOCATION:Viking Park\, 4374 Old Grand Avenue\, Gurnee\, IL\, 60031\, United States
CATEGORIES:Special Events
ATTACH;FMTTYPE=image/png:https://www.gurneeparkdistrict.com/wp-content/uploads/2026/04/GPD2026-Sounds-of-Summer-Adult-Social-Campaign_Calendar-2-1080-x-1080--scaled.png
END:VEVENT
BEGIN:VEVENT
DTSTART;TZID=America/Chicago:20260626T170000
DTEND;TZID=America/Chicago:20260626T183000
DTSTAMP:20260425T161331
CREATED:20260423T205829Z
LAST-MODIFIED:20260423T205829Z
UID:10007772-1782493200-1782498600@www.gurneeparkdistrict.com
SUMMARY:Famously Fun Performing Arts Workshop - Cosmic Crew
DESCRIPTION:Our popular theatre workshops are back this summer! Designed for kids ages 5-12\, these themed workshops will inspire imagination\, encourage teamwork\, and develop confidence through hands-on crafts\, energetic games and fun performance activities! \nCOSMIC CREW – We’re launching into outer space! Kids will design their own rocket ships and have a blast exploring the galaxy through stories and activities that are out of this world! \nFriday\, June 26\n5:00-6:30pm\nHunt Club Park Community Center\nAges 5-12 \nSave your spot!
URL:https://www.gurneeparkdistrict.com/event/famously-fun-performing-arts-workshop-cosmic-crew/
LOCATION:Hunt Club Park Community Center\, 920 North Hunt Club Road\, Gurnee\, IL\, 60031\, United States
CATEGORIES:Special Events
ATTACH;FMTTYPE=image/png:https://www.gurneeparkdistrict.com/wp-content/uploads/2025/07/2.png
END:VEVENT
BEGIN:VEVENT
DTSTART;TZID=America/Chicago:20260627T090000
DTEND;TZID=America/Chicago:20260627T120000
DTSTAMP:20260425T161331
CREATED:20260424T200148Z
LAST-MODIFIED:20260424T200148Z
UID:10007827-1782550800-1782561600@www.gurneeparkdistrict.com
SUMMARY:Youth Learn to Sew Workshop - Small Pillow & Quilt
DESCRIPTION:Sew a comfy mini pillow and quilt (placemat size) to decorate a bedroom or pamper a favorite stuffie with brand-new bedding! \nSaturday\, June 27\n9:00am-12:00pm\nHunt Club Park Community Center\nAges 9-13 \nSave your spot! \nLearn to Sew Workshops with Loopy Connections – Discover the joy of sewing in a relaxed\, project-based format led by Loopy Connections\, Northern Illinois’ community fiber-arts nonprofit. Youth workshops will provide hands-on guidance in learning the basics of a sewing machine\, understanding the parts\, threading\, loading a bobbin\, and sewing simple seams.  \nEach class features a different\, fun\, beginner-friendly project to take home\, so you can sign up for just one or return for multiple workshops to continue building skills\, confidence\, and creativity at your own page.  \nNo prior sewing experience required.\nAll materials and equipment provided. 
URL:https://www.gurneeparkdistrict.com/event/youth-learn-to-sew-workshop-small-pillow-quilt/
LOCATION:Hunt Club Park Community Center\, 920 North Hunt Club Road\, Gurnee\, IL\, 60031\, United States
CATEGORIES:Special Events
ATTACH;FMTTYPE=image/png:https://www.gurneeparkdistrict.com/wp-content/uploads/2025/11/GPD2026_Learn_to_Sew_Workshops.png
END:VEVENT
BEGIN:VEVENT
DTSTART;TZID=America/Chicago:20260628T120000
DTEND;TZID=America/Chicago:20260628T133000
DTSTAMP:20260425T161331
CREATED:20260423T203425Z
LAST-MODIFIED:20260423T203425Z
UID:10007768-1782648000-1782653400@www.gurneeparkdistrict.com
SUMMARY:Junk Journaling Workshop (18+)
DESCRIPTION:Create a one-of-a-kind junk journal using repurposed papers\, fabrics\, and decorative finds while incorporating simple creative writing prompts for poetry\, reflections\, and storytelling. Some supplies will be\nprovided\, and participants are encouraged to bring personal treasures to use or share. \nNo experience needed — just creativity and fun! \nAges 18+ \nSave your spot! 
URL:https://www.gurneeparkdistrict.com/event/junk-journaling-workshop-18/2026-06-28/
LOCATION:Hunt Club Park Community Center\, 920 North Hunt Club Road\, Gurnee\, IL\, 60031\, United States
CATEGORIES:Special Events
ATTACH;FMTTYPE=image/png:https://www.gurneeparkdistrict.com/wp-content/uploads/2026/04/GPD2026-CA-Junk-Journaling_Calendar-1080-x-1080-scaled.png
END:VEVENT
END:VCALENDAR