BEGIN:VCALENDAR
VERSION:2.0
PRODID:-//Gurnee Park District - ECPv6.15.20//NONSGML v1.0//EN
CALSCALE:GREGORIAN
METHOD:PUBLISH
X-ORIGINAL-URL:https://www.gurneeparkdistrict.com
X-WR-CALDESC:Events for Gurnee Park District
REFRESH-INTERVAL;VALUE=DURATION:PT1H
X-Robots-Tag:noindex
X-PUBLISHED-TTL:PT1H
BEGIN:VTIMEZONE
TZID:America/Chicago
BEGIN:DAYLIGHT
TZOFFSETFROM:-0600
TZOFFSETTO:-0500
TZNAME:CDT
DTSTART:20240310T080000
END:DAYLIGHT
BEGIN:STANDARD
TZOFFSETFROM:-0500
TZOFFSETTO:-0600
TZNAME:CST
DTSTART:20241103T070000
END:STANDARD
BEGIN:DAYLIGHT
TZOFFSETFROM:-0600
TZOFFSETTO:-0500
TZNAME:CDT
DTSTART:20250309T080000
END:DAYLIGHT
BEGIN:STANDARD
TZOFFSETFROM:-0500
TZOFFSETTO:-0600
TZNAME:CST
DTSTART:20251102T070000
END:STANDARD
BEGIN:DAYLIGHT
TZOFFSETFROM:-0600
TZOFFSETTO:-0500
TZNAME:CDT
DTSTART:20260308T080000
END:DAYLIGHT
BEGIN:STANDARD
TZOFFSETFROM:-0500
TZOFFSETTO:-0600
TZNAME:CST
DTSTART:20261101T070000
END:STANDARD
END:VTIMEZONE
BEGIN:VEVENT
DTSTART;TZID=America/Chicago:20250802T130000
DTEND;TZID=America/Chicago:20250802T170000
DTSTAMP:20260424T124428
CREATED:20250610T151533Z
LAST-MODIFIED:20250731T145000Z
UID:10003047-1754139600-1754154000@www.gurneeparkdistrict.com
SUMMARY:CANCELED Back to School Dodgeball Tournament
DESCRIPTION:This event has been canceled due to low enrollment. We apologize for any inconvenience. \n \nBACK TO SCHOOL DODGEBALL TOURNAMENT – AGES 13-17\n \nCome join us for our third annual Back to School Dodgeball Tournament for high school students!\n \nCaptains will register individually for their team. Teams will consist of up to 8 players\, with 6 players competing at a time. Teams will compete in round robin play\, and conclude with a tournament.\nChampionship t-shirts will be given out to the winning team.\n \nSaturday\, August 2\n1:00-5:00pm\nHunt Club Park Community Center gymnasium \n \nSign up to play
URL:https://www.gurneeparkdistrict.com/event/back-to-school-dodgeball-tournament-2/
LOCATION:Hunt Club Park Community Center\, 920 North Hunt Club Road\, Gurnee\, IL\, 60031\, United States
CATEGORIES:Special Events
ATTACH;FMTTYPE=image/jpeg:https://www.gurneeparkdistrict.com/wp-content/uploads/2024/07/Dodgeball_Tournament_Champs-scaled-e1721833453345.jpg
END:VEVENT
BEGIN:VEVENT
DTSTART;TZID=America/Chicago:20250806T173000
DTEND;TZID=America/Chicago:20250806T193000
DTSTAMP:20260424T124428
CREATED:20250423T151441Z
LAST-MODIFIED:20250423T151441Z
UID:10002187-1754501400-1754508600@www.gurneeparkdistrict.com
SUMMARY:Neighborhood Nights - Ravinia Park
DESCRIPTION:Join us at Ravinia Park for FREE family fun close to home!\nThere will be games & crafts for ages 4-10 years old! In addition\, our friends from Warren-Newport Public Library will be onsite with the Bookmobile!\nWednesday\, August 65:30-7:30 pm\nThank you to our sponsor\, Forest Orthodontics and Pediatric Dentistry\, for making this event possible!\nRemember to check Rainout Line for inclement weather updates.
URL:https://www.gurneeparkdistrict.com/event/neighborhood-nights-ravinia-park-2/
LOCATION:Ravinia Park\, 920 Ravinia Drive\, Gurnee\, IL
CATEGORIES:Special Events
ATTACH;FMTTYPE=image/png:https://www.gurneeparkdistrict.com/wp-content/uploads/2025/04/GPD2025_Neighborhood-Nights_Social_Calendar-1080-x-1080.png
END:VEVENT
BEGIN:VEVENT
DTSTART;TZID=America/Chicago:20250809T120000
DTEND;TZID=America/Chicago:20250809T230000
DTSTAMP:20260424T124428
CREATED:20250430T150712Z
LAST-MODIFIED:20250430T150712Z
UID:10002650-1754740800-1754780400@www.gurneeparkdistrict.com
SUMMARY:Gurnee Days
DESCRIPTION:Gurnee Days is the place for some of your favorite traditions\, such as delicious food\, vendor booths\, parade\, one of the best fireworks shows in Lake County\, and so much MORE! \nView our event schedule\, including live music\, kids’ activities\, food and food truck vendors\, and more by visiting: https://www.gurneeparkdistrict.com/gurnee-days/
URL:https://www.gurneeparkdistrict.com/event/gurnee-days/2025-08-09/
LOCATION:Viking Park\, 4374 Old Grand Avenue\, Gurnee\, IL\, 60031\, United States
CATEGORIES:Special Events
ATTACH;FMTTYPE=image/png:https://www.gurneeparkdistrict.com/wp-content/uploads/2025/04/GPD2025_Gurnee-Days_Social_Facebook-Event-1920-x-1005-e1746025539727.png
END:VEVENT
BEGIN:VEVENT
DTSTART;TZID=America/Chicago:20250810T080000
DTEND;TZID=America/Chicago:20250810T150000
DTSTAMP:20260424T124428
CREATED:20250430T150712Z
LAST-MODIFIED:20250430T150712Z
UID:10002651-1754812800-1754838000@www.gurneeparkdistrict.com
SUMMARY:Gurnee Days
DESCRIPTION:Gurnee Days is the place for some of your favorite traditions\, such as delicious food\, vendor booths\, parade\, one of the best fireworks shows in Lake County\, and so much MORE! \nView our event schedule\, including live music\, kids’ activities\, food and food truck vendors\, and more by visiting: https://www.gurneeparkdistrict.com/gurnee-days/
URL:https://www.gurneeparkdistrict.com/event/gurnee-days/2025-08-10/
LOCATION:Viking Park\, 4374 Old Grand Avenue\, Gurnee\, IL\, 60031\, United States
CATEGORIES:Special Events
ATTACH;FMTTYPE=image/png:https://www.gurneeparkdistrict.com/wp-content/uploads/2025/04/GPD2025_Gurnee-Days_Social_Facebook-Event-1920-x-1005-e1746025539727.png
END:VEVENT
BEGIN:VEVENT
DTSTART;TZID=America/Chicago:20250814T190000
DTEND;TZID=America/Chicago:20250814T203000
DTSTAMP:20260424T124428
CREATED:20250415T195812Z
LAST-MODIFIED:20250415T195812Z
UID:10002127-1755198000-1755203400@www.gurneeparkdistrict.com
SUMMARY:Sounds of Summer Concert - "Fortunate Sons" (FREE)
DESCRIPTION:Join us for Sounds of Summer\, our FREE summer concert series! “Fortunate Sons (A Creedence Clearwater Revival Tribute Band)” will be performing!\n \nThursday\, August 147:00 – 8:30pmViking Park Band Shell | 4374 Old Grand Avenue\, GurneeAll ages welcome!FREE!\n \nBe sure to bring blankets or chairs. Concessions will be available for purchase\, courtesy of the Exchange Club of Gurnee. Dogs are welcome and should be well-behaved and remain on a leash at all times.\n \nRemember to check Rainout Line for inclement weather updates: https://rainoutline.com/gurneeparkdistrict
URL:https://www.gurneeparkdistrict.com/event/sounds-of-summer-concert-fortunate-sons-free/
LOCATION:Viking Park\, 4374 Old Grand Avenue\, Gurnee\, IL\, 60031\, United States
CATEGORIES:Special Events
ATTACH;FMTTYPE=image/png:https://www.gurneeparkdistrict.com/wp-content/uploads/2025/04/GPD2025_Sounds-of-Summer_Adult_Social-Campaign_Calendar-5-1080-x-1080.png
END:VEVENT
BEGIN:VEVENT
DTSTART;TZID=America/Chicago:20250819T103000
DTEND;TZID=America/Chicago:20250819T111500
DTSTAMP:20260424T124428
CREATED:20250423T153222Z
LAST-MODIFIED:20250507T140432Z
UID:10002190-1755599400-1755602100@www.gurneeparkdistrict.com
SUMMARY:Children's Concert Series - Nanny Nikki
DESCRIPTION:Join us for our FREE Sounds of Summer Children’s Series featuring Nanny Nikki!\nTuesday\, August 1910:30-11:15 amViking Park Band Shell | 4374 Old Grand Avenue\, GurneeChildren’s ConcertFREE!\n \nWe’re proud to partner with our friends at Forest Orthodontics & Pediatric Dentistry.Forest Orthodontics & Pediatrics’ SMILE Ice Cream Truck will be onsite! The team will be serving up FREE\, sweet treats to guests (while supplies last)!\n \nBe sure to bring blankets/chairs and feel free to stay and play – bring a picnic and plan an afternoon at the park!\n \nRemember to check Rainout Line for inclement weather updates.
URL:https://www.gurneeparkdistrict.com/event/childrens-concert-series-nanny-nikki/
LOCATION:Viking Park\, 4374 Old Grand Avenue\, Gurnee\, IL\, 60031\, United States
CATEGORIES:Special Events
ATTACH;FMTTYPE=image/png:https://www.gurneeparkdistrict.com/wp-content/uploads/2025/04/GPD2025_Sounds-of-Summer_Kids_Social-Campaign_Calendar-3-1080-x-1080.png
END:VEVENT
BEGIN:VEVENT
DTSTART;TZID=America/Chicago:20250822T180000
DTEND;TZID=America/Chicago:20250822T200000
DTSTAMP:20260424T124428
CREATED:20250708T131823Z
LAST-MODIFIED:20250715T151631Z
UID:10003478-1755885600-1755892800@www.gurneeparkdistrict.com
SUMMARY:Hawaiian Luau
DESCRIPTION:Aloha! Grab your favorite Hawaiian shirt or dress and join us for a tropical evening outside at the Viking Park Summer Kitchen for a Hawaiian Luau you won’t want to miss! The fun begins with a lei ceremony\, followed by a delicious island-inspired dinner featuring Hawaiian Huli Huli (BBQ) chicken\, salad\, rice\, and dessert. Then\, get ready to experience the vibrant spirit of the islands with a live dance performance by “Da Little Aloha Show\,” including traditional dances from Hawai’i\, Fiji\, New Zealand\, Tahiti\, and the fire dancing of Samoa.  \nRegistration deadline: 8/15 \nFriday\, August 22\n6:00-8:00pm\nViking Park Summer Kitchen \nSave your spot!
URL:https://www.gurneeparkdistrict.com/event/hawaiian-luau/
LOCATION:Viking Park\, 4374 Old Grand Avenue\, Gurnee\, IL\, 60031\, United States
CATEGORIES:Special Events
ATTACH;FMTTYPE=image/png:https://www.gurneeparkdistrict.com/wp-content/uploads/2025/07/GPD2025_Hawaiian_Luau_Calendar-1080-x-1080.png
END:VEVENT
BEGIN:VEVENT
DTSTART;TZID=America/Chicago:20250823T080000
DTEND;TZID=America/Chicago:20250823T150000
DTSTAMP:20260424T124428
CREATED:20250506T194912Z
LAST-MODIFIED:20250507T205536Z
UID:10002655-1755936000-1755961200@www.gurneeparkdistrict.com
SUMMARY:Pickleball Tournament (18+)
DESCRIPTION:Calling all Pickleball enthusiasts! Whether you’re a seasoned player or just starting to “dink” and “slam”\, get ready to unleash your skills & compete against fellow pickleball enthusiasts at our upcoming Pickleball Tournament!\n \nDate: Saturday\, August 23Time: 8:00am – 3:00pmLocation: O’Plaine Community ParkFee: $65 (one registration per team of 2)\n \nThis men’s\, women’s\, and mixed doubles tournament is designed for adults ages 18+. All participants will receive a t-shirt. Once registered\, email shirt sizes for you and your teammate to our Athletics Supervisor at cpoole@gurneeparkdistrict.com\n \n*Bring your own paddle and plenty of enthusiasm!\nTake a swing and secure your spot TODAY!
URL:https://www.gurneeparkdistrict.com/event/19263/
LOCATION:Vicki Paddock Park\, 235 O'Plaine Rd\, Gurnee\, IL\, 60031\, United States
CATEGORIES:Special Events
ATTACH;FMTTYPE=image/png:https://www.gurneeparkdistrict.com/wp-content/uploads/2025/05/August-Pickleball-IG-Square.png
GEO:42.355819869296;-87.913762274853
X-APPLE-STRUCTURED-LOCATION;VALUE=URI;X-ADDRESS=Vicki Paddock Park 235 O'Plaine Rd Gurnee IL 60031 United States;X-APPLE-RADIUS=500;X-TITLE=235 O'Plaine Rd:geo:-87.913762274853,42.355819869296
END:VEVENT
BEGIN:VEVENT
DTSTART;TZID=America/Chicago:20250829T170000
DTEND;TZID=America/Chicago:20250829T183000
DTSTAMP:20260424T124428
CREATED:20250714T163551Z
LAST-MODIFIED:20250714T163707Z
UID:10003492-1756486800-1756492200@www.gurneeparkdistrict.com
SUMMARY:Perfectly Poised and Polished Pageant Princesses
DESCRIPTION:Your little performer (age 5-12) will discover how to walk the walk and talk the talk as they learn all about stage presence\, projection\, and developing winning ways to wow an audience. Participants will get a chance to make their own pageant crowns and sashes and put together a superstar song and dance routine!
URL:https://www.gurneeparkdistrict.com/event/perfectly-poised-and-polished-pageant-princesses/
LOCATION:Hunt Club Park Community Center\, 920 North Hunt Club Road\, Gurnee\, IL\, 60031\, United States
CATEGORIES:Special Events
ATTACH;FMTTYPE=image/png:https://www.gurneeparkdistrict.com/wp-content/uploads/2025/07/2.png
END:VEVENT
END:VCALENDAR