BEGIN:VCALENDAR
VERSION:2.0
PRODID:-//Gurnee Park District - ECPv6.15.20//NONSGML v1.0//EN
CALSCALE:GREGORIAN
METHOD:PUBLISH
X-ORIGINAL-URL:https://www.gurneeparkdistrict.com
X-WR-CALDESC:Events for Gurnee Park District
REFRESH-INTERVAL;VALUE=DURATION:PT1H
X-Robots-Tag:noindex
X-PUBLISHED-TTL:PT1H
BEGIN:VTIMEZONE
TZID:America/Chicago
BEGIN:DAYLIGHT
TZOFFSETFROM:-0600
TZOFFSETTO:-0500
TZNAME:CDT
DTSTART:20250309T080000
END:DAYLIGHT
BEGIN:STANDARD
TZOFFSETFROM:-0500
TZOFFSETTO:-0600
TZNAME:CST
DTSTART:20251102T070000
END:STANDARD
BEGIN:DAYLIGHT
TZOFFSETFROM:-0600
TZOFFSETTO:-0500
TZNAME:CDT
DTSTART:20260308T080000
END:DAYLIGHT
BEGIN:STANDARD
TZOFFSETFROM:-0500
TZOFFSETTO:-0600
TZNAME:CST
DTSTART:20261101T070000
END:STANDARD
BEGIN:DAYLIGHT
TZOFFSETFROM:-0600
TZOFFSETTO:-0500
TZNAME:CDT
DTSTART:20270314T080000
END:DAYLIGHT
BEGIN:STANDARD
TZOFFSETFROM:-0500
TZOFFSETTO:-0600
TZNAME:CST
DTSTART:20271107T070000
END:STANDARD
END:VTIMEZONE
BEGIN:VEVENT
DTSTART;TZID=America/Chicago:20260805T173000
DTEND;TZID=America/Chicago:20260805T193000
DTSTAMP:20260419T221830
CREATED:20260416T205729Z
LAST-MODIFIED:20260416T205729Z
UID:10007707-1785951000-1785958200@www.gurneeparkdistrict.com
SUMMARY:Neighborhood Nights - Vineyard Park
DESCRIPTION:Join us at Vineyard Park for FREE family fun close to home!\nThere will be games & crafts for ages 4-10 years old! In addition\, our friends from Warren-Newport Public Library will be on-site with the Bookmobile!\n \nWednesday\, August 55:30-7:30 pm\n \nRemember to check Rainout Line for inclement weather updates.
URL:https://www.gurneeparkdistrict.com/event/neighborhood-nights-vineyard-park-2/
LOCATION:Vineyard Park\, 7680 Mendocino Dr\, Gurnee\, IL\, 60031\, United States
CATEGORIES:Special Events
ATTACH;FMTTYPE=image/png:https://www.gurneeparkdistrict.com/wp-content/uploads/2026/04/GPD2026-Neighborhood-Nights_Social_Calendar-1080-x-1080-scaled.png
END:VEVENT
BEGIN:VEVENT
DTSTART;TZID=America/Chicago:20260813T193000
DTEND;TZID=America/Chicago:20260813T203000
DTSTAMP:20260419T221830
CREATED:20260417T195122Z
LAST-MODIFIED:20260417T195122Z
UID:10007711-1786649400-1786653000@www.gurneeparkdistrict.com
SUMMARY:Sounds of Summer Concert - No Limit (FREE)
DESCRIPTION:Join us for Sounds of Summer\, our FREE summer concert series! “No Limit” will be performing!\n \nThursday\, August 137:00pmViking Park Band Shell | 4374 Old Grand Avenue\, GurneeAll ages welcome!FREE!\n \nBe sure to bring blankets or chairs.\nDogs are welcome and should be well-behaved and remain on a leash at all times.\n \nRemember to check Rainout Line for inclement weather updates: https://rainoutline.com/gurneeparkdistrict
URL:https://www.gurneeparkdistrict.com/event/sounds-of-summer-concert-no-limit-free/
LOCATION:Viking Park\, 4374 Old Grand Avenue\, Gurnee\, IL\, 60031\, United States
CATEGORIES:Special Events
ATTACH;FMTTYPE=image/png:https://www.gurneeparkdistrict.com/wp-content/uploads/2026/04/GPD2026-Sounds-of-Summer-Adult-Social-Campaign_Calendar-5-1080-x-1080--scaled.png
END:VEVENT
BEGIN:VEVENT
DTSTART;TZID=America/Chicago:20260818T103000
DTEND;TZID=America/Chicago:20260818T111500
DTSTAMP:20260419T221830
CREATED:20260417T202245Z
LAST-MODIFIED:20260417T202245Z
UID:10007715-1787049000-1787051700@www.gurneeparkdistrict.com
SUMMARY:Children's Concert Series - Miss Jamie & the Farm Hands (FREE)
DESCRIPTION:Join us for our FREE Sounds of Summer Children’s Series featuring Miss Jamie & the Farm Hands! \nTuesday\, July 21\n10:30-11:15 am\nViking Park Band Shell | 4374 Old Grand Avenue\, Gurnee\nChildren’s Concert\nFREE! \nBe sure to bring blankets/chairs and feel free to stay and play – bring a picnic and plan an afternoon at the park! \nRemember to check Rainout Line for inclement weather updates.
URL:https://www.gurneeparkdistrict.com/event/childrens-concert-series-miss-jamie-the-farm-hands-free/
LOCATION:Viking Park\, 4374 Old Grand Avenue\, Gurnee\, IL\, 60031\, United States
CATEGORIES:Special Events
ATTACH;FMTTYPE=image/png:https://www.gurneeparkdistrict.com/wp-content/uploads/2026/04/Calendar-3-1080-x-1080.png
END:VEVENT
END:VCALENDAR