BEGIN:VCALENDAR
VERSION:2.0
PRODID:-//Gurnee Park District - ECPv6.15.20//NONSGML v1.0//EN
CALSCALE:GREGORIAN
METHOD:PUBLISH
X-ORIGINAL-URL:https://www.gurneeparkdistrict.com
X-WR-CALDESC:Events for Gurnee Park District
REFRESH-INTERVAL;VALUE=DURATION:PT1H
X-Robots-Tag:noindex
X-PUBLISHED-TTL:PT1H
BEGIN:VTIMEZONE
TZID:America/Chicago
BEGIN:DAYLIGHT
TZOFFSETFROM:-0600
TZOFFSETTO:-0500
TZNAME:CDT
DTSTART:20240310T080000
END:DAYLIGHT
BEGIN:STANDARD
TZOFFSETFROM:-0500
TZOFFSETTO:-0600
TZNAME:CST
DTSTART:20241103T070000
END:STANDARD
BEGIN:DAYLIGHT
TZOFFSETFROM:-0600
TZOFFSETTO:-0500
TZNAME:CDT
DTSTART:20250309T080000
END:DAYLIGHT
BEGIN:STANDARD
TZOFFSETFROM:-0500
TZOFFSETTO:-0600
TZNAME:CST
DTSTART:20251102T070000
END:STANDARD
BEGIN:DAYLIGHT
TZOFFSETFROM:-0600
TZOFFSETTO:-0500
TZNAME:CDT
DTSTART:20260308T080000
END:DAYLIGHT
BEGIN:STANDARD
TZOFFSETFROM:-0500
TZOFFSETTO:-0600
TZNAME:CST
DTSTART:20261101T070000
END:STANDARD
END:VTIMEZONE
BEGIN:VEVENT
DTSTART;TZID=America/Chicago:20251222T050000
DTEND;TZID=America/Chicago:20251222T084500
DTSTAMP:20260421T142322
CREATED:20251119T150455Z
LAST-MODIFIED:20251119T150455Z
UID:10005600-1766379600-1766393100@www.gurneeparkdistrict.com
SUMMARY:Member Lap Swim
DESCRIPTION:Reserved for FitNation members or day pass visitors. Lifeguards WILL NOT be on duty during member lap swim. View FitNation Pool Rules and Regulations
URL:https://www.gurneeparkdistrict.com/event/member-lap-swim-1296/
LOCATION:FitNation\, 1655 Nations Drive\, Gurnee\, IL\, 60031\, United States
CATEGORIES:FitNation Lap Swim
ATTACH;FMTTYPE=image/png:https://www.gurneeparkdistrict.com/wp-content/uploads/2024/02/Lap-Swim.png
END:VEVENT
BEGIN:VEVENT
DTSTART;TZID=America/Chicago:20251222T050000
DTEND;TZID=America/Chicago:20251222T220000
DTSTAMP:20260421T142322
CREATED:20251124T204157Z
LAST-MODIFIED:20251124T204157Z
UID:10005685-1766379600-1766440800@www.gurneeparkdistrict.com
SUMMARY:FitNation Pickleball - Reservations Required
DESCRIPTION:1) Pickleball is reserved for FitNation members only.\n2) All pickleball players must check-in at the front desk prior to entering the Flex Studio.\n3) Reservations for pickleball play must be made online via our website and will only be held for 15 minutes past the start time of the reservation. The court will be released if the players don’t show by that time.\n4) Reservations made can be no longer than 1 hour per person/group. Multiple people in the same group cannot reserve the court for each person for 1 hour\n5) All group members need to be listed when the reservation is made.\n6) Paddles must be checked out from the front desk and a photo id is required in exchange for the equipment.\n7) Inappropriate language and fighting are prohibited at all times.
URL:https://www.gurneeparkdistrict.com/event/fitnation-pickleball-reservations-required-916/
LOCATION:FitNation\, 1655 Nations Drive\, Gurnee\, IL\, 60031\, United States
CATEGORIES:FitNation Pickleball
ATTACH;FMTTYPE=image/png:https://www.gurneeparkdistrict.com/wp-content/uploads/2024/04/FN-Pickleball_1.png
END:VEVENT
BEGIN:VEVENT
DTSTART;TZID=America/Chicago:20251222T063000
DTEND;TZID=America/Chicago:20251222T180000
DTSTAMP:20260421T142322
CREATED:20250613T201506Z
LAST-MODIFIED:20250613T201506Z
UID:10003061-1766385000-1766426400@www.gurneeparkdistrict.com
SUMMARY:Days Off School - "Under the Sea Day"
DESCRIPTION:Dive into adventure at Under the Sea day! Kids will swim through a day of ocean-themed crafts\, sea creature games\, and exciting underwater explorations\, learning all about the wonders of the deep blue sea.\nPlease bring a sack lunch\, water bottle\, and dress for the weather (some activities may be held outside\, weather permitting).
URL:https://www.gurneeparkdistrict.com/event/days-off-school-under-the-sea-day/
LOCATION:Hunt Club Park Community Center\, 920 North Hunt Club Road\, Gurnee\, IL\, 60031\, United States
CATEGORIES:Special Events
ATTACH;FMTTYPE=image/png:https://www.gurneeparkdistrict.com/wp-content/uploads/2025/06/GPD-2024-Days-Off-School_Calendar-District-50-56-1080-x-1080.png
END:VEVENT
BEGIN:VEVENT
DTSTART;TZID=America/Chicago:20251222T083000
DTEND;TZID=America/Chicago:20251222T090000
DTSTAMP:20260421T142322
CREATED:20251124T211907Z
LAST-MODIFIED:20251124T211907Z
UID:10005859-1766392200-1766394000@www.gurneeparkdistrict.com
SUMMARY:Sculpt Series with Mandi
DESCRIPTION:Using a variety of equipment\, this 30 minute strength class will define and sculpt your muscles.  Each week will focus on a different muscle group.
URL:https://www.gurneeparkdistrict.com/event/sculpt-series-with-mandi-64/
LOCATION:FitNation\, 1655 Nations Drive\, Gurnee\, IL\, 60031\, United States
CATEGORIES:Group Exercise
ATTACH;FMTTYPE=image/png:https://www.gurneeparkdistrict.com/wp-content/uploads/2024/01/FitN2020_Group_Ex_Square_1.png
END:VEVENT
BEGIN:VEVENT
DTSTART;TZID=America/Chicago:20251222T084500
DTEND;TZID=America/Chicago:20251222T093500
DTSTAMP:20260421T142322
CREATED:20251124T211908Z
LAST-MODIFIED:20251124T211908Z
UID:10005860-1766393100-1766396100@www.gurneeparkdistrict.com
SUMMARY:Cycle with Tiffany
DESCRIPTION:An awesome indoor cycling class that provides fun and a challenging cardiovascular workout for all fitness levels. \nDue to limited space\, this class is available to 23 members on a first come\, first serve basis.
URL:https://www.gurneeparkdistrict.com/event/cycle-with-tiffany-184/
LOCATION:FitNation\, 1655 Nations Drive\, Gurnee\, IL\, 60031\, United States
CATEGORIES:Group Exercise
ATTACH;FMTTYPE=image/png:https://www.gurneeparkdistrict.com/wp-content/uploads/2024/01/FitN2020_Group_Ex_Square_1.png
END:VEVENT
BEGIN:VEVENT
DTSTART;TZID=America/Chicago:20251222T090000
DTEND;TZID=America/Chicago:20251222T094500
DTSTAMP:20260421T142322
CREATED:20251124T211909Z
LAST-MODIFIED:20251124T211909Z
UID:10005862-1766394000-1766396700@www.gurneeparkdistrict.com
SUMMARY:Body Attack Express with Kristin
DESCRIPTION:A high energy\, sports-inspired interval training cardio workout for building strength and endurance. Fun and powerful music help to motivate everyone towards their fitness goals.
URL:https://www.gurneeparkdistrict.com/event/body-attack-express-with-kristin-84/
LOCATION:FitNation\, 1655 Nations Drive\, Gurnee\, IL\, 60031\, United States
CATEGORIES:Group Exercise
ATTACH;FMTTYPE=image/png:https://www.gurneeparkdistrict.com/wp-content/uploads/2024/01/FitN2020_Group_Ex_Square_1.png
END:VEVENT
BEGIN:VEVENT
DTSTART;TZID=America/Chicago:20251222T090000
DTEND;TZID=America/Chicago:20251222T094500
DTSTAMP:20260421T142322
CREATED:20251124T211909Z
LAST-MODIFIED:20251124T211909Z
UID:10005863-1766394000-1766396700@www.gurneeparkdistrict.com
SUMMARY:Booty Burn with Mandi
DESCRIPTION:Build up your back side with this 45 minutes all glutes and quads class.  A variety of equipment will be used and your booty will be on fire when you are done.
URL:https://www.gurneeparkdistrict.com/event/booty-burn-with-mandi-89/
LOCATION:FitNation\, 1655 Nations Drive\, Gurnee\, IL\, 60031\, United States
CATEGORIES:Group Exercise
ATTACH;FMTTYPE=image/png:https://www.gurneeparkdistrict.com/wp-content/uploads/2024/01/FitN2020_Group_Ex_Square_1.png
END:VEVENT
BEGIN:VEVENT
DTSTART;TZID=America/Chicago:20251222T090000
DTEND;TZID=America/Chicago:20251222T100000
DTSTAMP:20260421T142322
CREATED:20251124T211908Z
LAST-MODIFIED:20251124T211908Z
UID:10005861-1766394000-1766397600@www.gurneeparkdistrict.com
SUMMARY:HyrdoFit with Diane
DESCRIPTION:Hydro classes use the water’s resistance for an aerobic\, strengthening and ROM workout.  The water allows for less joint impact and an increase in hydrostatic pressure. A great option for active aging members or members returning back to fitness after an injury.
URL:https://www.gurneeparkdistrict.com/event/hyrdofit-with-diane-8/
LOCATION:FitNation\, 1655 Nations Drive\, Gurnee\, IL\, 60031\, United States
CATEGORIES:Group Exercise
ATTACH;FMTTYPE=image/png:https://www.gurneeparkdistrict.com/wp-content/uploads/2024/01/FitN2020_Group_Ex_Square_1.png
END:VEVENT
BEGIN:VEVENT
DTSTART;TZID=America/Chicago:20251222T100000
DTEND;TZID=America/Chicago:20251222T105500
DTSTAMP:20260421T142322
CREATED:20251124T211910Z
LAST-MODIFIED:20251124T211910Z
UID:10005864-1766397600-1766400900@www.gurneeparkdistrict.com
SUMMARY:Body Pump with Gina/Elizabeth
DESCRIPTION:A choreographed strength and conditioning classes that uses high repetition with lower weights. Fun and inspiring music is used to motivate participants through 10 powerful tracks. (Please note\, express classes will complete less than 10 tracks.)
URL:https://www.gurneeparkdistrict.com/event/body-pump-with-gina-elizabeth-89/
LOCATION:FitNation\, 1655 Nations Drive\, Gurnee\, IL\, 60031\, United States
CATEGORIES:Group Exercise
ATTACH;FMTTYPE=image/png:https://www.gurneeparkdistrict.com/wp-content/uploads/2024/01/FitN2020_Group_Ex_Square_1.png
END:VEVENT
BEGIN:VEVENT
DTSTART;TZID=America/Chicago:20251222T100000
DTEND;TZID=America/Chicago:20251222T130000
DTSTAMP:20260421T142322
CREATED:20251119T150456Z
LAST-MODIFIED:20251119T150456Z
UID:10005601-1766397600-1766408400@www.gurneeparkdistrict.com
SUMMARY:Member Lap Swim
DESCRIPTION:Reserved for FitNation members or day pass visitors. Lifeguards WILL NOT be on duty during member lap swim. View FitNation Pool Rules and Regulations
URL:https://www.gurneeparkdistrict.com/event/member-lap-swim-1297/
LOCATION:FitNation\, 1655 Nations Drive\, Gurnee\, IL\, 60031\, United States
CATEGORIES:FitNation Lap Swim
ATTACH;FMTTYPE=image/png:https://www.gurneeparkdistrict.com/wp-content/uploads/2024/02/Lap-Swim.png
END:VEVENT
BEGIN:VEVENT
DTSTART;TZID=America/Chicago:20251222T101500
DTEND;TZID=America/Chicago:20251222T110000
DTSTAMP:20260421T142322
CREATED:20251124T211910Z
LAST-MODIFIED:20251124T211910Z
UID:10005865-1766398500-1766401200@www.gurneeparkdistrict.com
SUMMARY:Zumba Gold with Elizabeth/Gina
DESCRIPTION:Zumba moves designed for the active older adult or those looking for a low impact workout.
URL:https://www.gurneeparkdistrict.com/event/zumba-gold-with-elizabeth-gina-89/
LOCATION:FitNation\, 1655 Nations Drive\, Gurnee\, IL\, 60031\, United States
CATEGORIES:Group Exercise
ATTACH;FMTTYPE=image/png:https://www.gurneeparkdistrict.com/wp-content/uploads/2024/01/FitN2020_Group_Ex_Square_1.png
END:VEVENT
BEGIN:VEVENT
DTSTART;TZID=America/Chicago:20251222T130000
DTEND;TZID=America/Chicago:20251222T160000
DTSTAMP:20260421T142322
CREATED:20251104T174428Z
LAST-MODIFIED:20251119T151021Z
UID:10005473-1766408400-1766419200@www.gurneeparkdistrict.com
SUMMARY:Winter Break Family Swim
DESCRIPTION:Gather the family and get ready to make a SPLASH! Family Swim times are available throughout Winter Break!  \n$6 (R) | $8 (NR) \nAll participants are required to pay admission\, which can be completed at the front desk upon arrival.
URL:https://www.gurneeparkdistrict.com/event/winter-break-family-swim-2/2025-12-22/
LOCATION:FitNation\, 1655 Nations Drive\, Gurnee\, IL\, 60031\, United States
CATEGORIES:Special Events
ATTACH;FMTTYPE=image/png:https://www.gurneeparkdistrict.com/wp-content/uploads/2025/11/GPD25_Family_Swim.png
END:VEVENT
BEGIN:VEVENT
DTSTART;TZID=America/Chicago:20251222T130000
DTEND;TZID=America/Chicago:20251222T160000
DTSTAMP:20260421T142322
CREATED:20251119T150457Z
LAST-MODIFIED:20251119T150950Z
UID:10005602-1766408400-1766419200@www.gurneeparkdistrict.com
SUMMARY:Member Lap and Family Swim Time
DESCRIPTION:Member Lap Swim: Reserved for FitNation members or day pass visitors. \nFamily Swim: Gather the family and get ready to make a SPLASH!\n$6R | $8NR\nAll participants are required to pay admission\, which can be completed at the front desk upon arrival.\nChildren under the age of 16 must be accompanied by an adult 18 years of age or older.
URL:https://www.gurneeparkdistrict.com/event/member-lap-and-family-swim-time-2/
LOCATION:FitNation\, 1655 Nations Drive\, Gurnee\, IL\, 60031\, United States
CATEGORIES:FitNation Lap Swim
ATTACH;FMTTYPE=image/png:https://www.gurneeparkdistrict.com/wp-content/uploads/2024/02/Lap-Swim.png
END:VEVENT
BEGIN:VEVENT
DTSTART;TZID=America/Chicago:20251222T160000
DTEND;TZID=America/Chicago:20251222T213000
DTSTAMP:20260421T142322
CREATED:20251119T150457Z
LAST-MODIFIED:20251119T150457Z
UID:10005603-1766419200-1766439000@www.gurneeparkdistrict.com
SUMMARY:Member Lap Swim
DESCRIPTION:Reserved for FitNation members or day pass visitors. Lifeguards WILL NOT be on duty during member lap swim. View FitNation Pool Rules and Regulations
URL:https://www.gurneeparkdistrict.com/event/member-lap-swim-1298/
LOCATION:FitNation\, 1655 Nations Drive\, Gurnee\, IL\, 60031\, United States
CATEGORIES:FitNation Lap Swim
ATTACH;FMTTYPE=image/png:https://www.gurneeparkdistrict.com/wp-content/uploads/2024/02/Lap-Swim.png
END:VEVENT
BEGIN:VEVENT
DTSTART;TZID=America/Chicago:20251222T173000
DTEND;TZID=America/Chicago:20251222T181500
DTSTAMP:20260421T142322
CREATED:20251124T211911Z
LAST-MODIFIED:20251124T211911Z
UID:10005866-1766424600-1766427300@www.gurneeparkdistrict.com
SUMMARY:Muscle Mashup and Core with Ilona
DESCRIPTION:This class will keep your mind and your muscles guessing what comes next. This strength class will use a variety of training equipment and great music to build muscle and tone your body.
URL:https://www.gurneeparkdistrict.com/event/muscle-mashup-and-core-with-ilona-8/
LOCATION:FitNation\, 1655 Nations Drive\, Gurnee\, IL\, 60031\, United States
CATEGORIES:Group Exercise
ATTACH;FMTTYPE=image/png:https://www.gurneeparkdistrict.com/wp-content/uploads/2024/01/FitN2020_Group_Ex_Square_1.png
END:VEVENT
BEGIN:VEVENT
DTSTART;TZID=America/Chicago:20251222T173000
DTEND;TZID=America/Chicago:20251222T182000
DTSTAMP:20260421T142322
CREATED:20251124T211912Z
LAST-MODIFIED:20251124T211912Z
UID:10005867-1766424600-1766427600@www.gurneeparkdistrict.com
SUMMARY:Zumba with April
DESCRIPTION:A fun\, Latin\, cardio dance class that combines all styles of Latin dance/music.
URL:https://www.gurneeparkdistrict.com/event/zumba-with-april-85/
LOCATION:FitNation\, 1655 Nations Drive\, Gurnee\, IL\, 60031\, United States
CATEGORIES:Group Exercise
ATTACH;FMTTYPE=image/png:https://www.gurneeparkdistrict.com/wp-content/uploads/2024/01/FitN2020_Group_Ex_Square_1.png
END:VEVENT
BEGIN:VEVENT
DTSTART;TZID=America/Chicago:20251222T174500
DTEND;TZID=America/Chicago:20251222T183500
DTSTAMP:20260421T142322
CREATED:20251124T211913Z
LAST-MODIFIED:20251124T211913Z
UID:10005868-1766425500-1766428500@www.gurneeparkdistrict.com
SUMMARY:Cycle with Linda
DESCRIPTION:An awesome indoor cycling class that provides fun and a challenging cardiovascular workout for all fitness levels. \nDue to limited space\, this class is available to 23 members on a first come\, first serve basis.
URL:https://www.gurneeparkdistrict.com/event/cycle-with-linda-92/
LOCATION:FitNation\, 1655 Nations Drive\, Gurnee\, IL\, 60031\, United States
CATEGORIES:Group Exercise
ATTACH;FMTTYPE=image/png:https://www.gurneeparkdistrict.com/wp-content/uploads/2024/01/FitN2020_Group_Ex_Square_1.png
END:VEVENT
BEGIN:VEVENT
DTSTART;TZID=America/Chicago:20251222T183000
DTEND;TZID=America/Chicago:20251222T192500
DTSTAMP:20260421T142322
CREATED:20251124T211915Z
LAST-MODIFIED:20251124T211915Z
UID:10005869-1766428200-1766431500@www.gurneeparkdistrict.com
SUMMARY:Body Balance with Erica
DESCRIPTION:A Yoga\, Tai Chi\, Pilates workout that builds flexibility\, strength and leaves you feeling centered and calm.
URL:https://www.gurneeparkdistrict.com/event/body-balance-with-erica-90/
LOCATION:FitNation\, 1655 Nations Drive\, Gurnee\, IL\, 60031\, United States
CATEGORIES:Group Exercise
ATTACH;FMTTYPE=image/png:https://www.gurneeparkdistrict.com/wp-content/uploads/2024/01/FitN2020_Group_Ex_Square_1.png
END:VEVENT
BEGIN:VEVENT
DTSTART;TZID=America/Chicago:20251223T050000
DTEND;TZID=America/Chicago:20251223T084500
DTSTAMP:20260421T142322
CREATED:20251119T150458Z
LAST-MODIFIED:20251119T150458Z
UID:10005604-1766466000-1766479500@www.gurneeparkdistrict.com
SUMMARY:Member Lap Swim
DESCRIPTION:Reserved for FitNation members or day pass visitors. Lifeguards WILL NOT be on duty during member lap swim. View FitNation Pool Rules and Regulations
URL:https://www.gurneeparkdistrict.com/event/member-lap-swim-1299/
LOCATION:FitNation\, 1655 Nations Drive\, Gurnee\, IL\, 60031\, United States
CATEGORIES:FitNation Lap Swim
ATTACH;FMTTYPE=image/png:https://www.gurneeparkdistrict.com/wp-content/uploads/2024/02/Lap-Swim.png
END:VEVENT
BEGIN:VEVENT
DTSTART;TZID=America/Chicago:20251223T050000
DTEND;TZID=America/Chicago:20251223T220000
DTSTAMP:20260421T142322
CREATED:20251124T204158Z
LAST-MODIFIED:20251124T204158Z
UID:10005686-1766466000-1766527200@www.gurneeparkdistrict.com
SUMMARY:FitNation Pickleball - Reservations Required
DESCRIPTION:1) Pickleball is reserved for FitNation members only.\n2) All pickleball players must check-in at the front desk prior to entering the Flex Studio.\n3) Reservations for pickleball play must be made online via our website and will only be held for 15 minutes past the start time of the reservation. The court will be released if the players don’t show by that time.\n4) Reservations made can be no longer than 1 hour per person/group. Multiple people in the same group cannot reserve the court for each person for 1 hour\n5) All group members need to be listed when the reservation is made.\n6) Paddles must be checked out from the front desk and a photo id is required in exchange for the equipment.\n7) Inappropriate language and fighting are prohibited at all times.
URL:https://www.gurneeparkdistrict.com/event/fitnation-pickleball-reservations-required-917/
LOCATION:FitNation\, 1655 Nations Drive\, Gurnee\, IL\, 60031\, United States
CATEGORIES:FitNation Pickleball
ATTACH;FMTTYPE=image/png:https://www.gurneeparkdistrict.com/wp-content/uploads/2024/04/FN-Pickleball_1.png
END:VEVENT
BEGIN:VEVENT
DTSTART;TZID=America/Chicago:20251223T063000
DTEND;TZID=America/Chicago:20251223T180000
DTSTAMP:20260421T142322
CREATED:20250613T202552Z
LAST-MODIFIED:20250613T202552Z
UID:10003062-1766471400-1766512800@www.gurneeparkdistrict.com
SUMMARY:Days Off School - "Game Show Day"
DESCRIPTION:Get ready for a day of friendly competition at Game Show Day! Kids will participate in fun\, team-based challenges like trivia\, relay races\, and wacky games that test their skills\, knowledge\, and creativity. It’s a day packed with laughs\, prizes\, and tons of fun! Please bring a sack lunch\, water bottle\, and dress for the weather (some activities may be held outside\, weather permitting).
URL:https://www.gurneeparkdistrict.com/event/days-off-school-game-show-day/
LOCATION:Hunt Club Park Community Center\, 920 North Hunt Club Road\, Gurnee\, IL\, 60031\, United States
CATEGORIES:Special Events
ATTACH;FMTTYPE=image/png:https://www.gurneeparkdistrict.com/wp-content/uploads/2025/06/GPD-2024-Days-Off-School_Calendar-District-50-56-1080-x-1080.png
END:VEVENT
BEGIN:VEVENT
DTSTART;TZID=America/Chicago:20251223T073000
DTEND;TZID=America/Chicago:20251223T082000
DTSTAMP:20260421T142322
CREATED:20251124T211916Z
LAST-MODIFIED:20251124T211916Z
UID:10005870-1766475000-1766478000@www.gurneeparkdistrict.com
SUMMARY:TBS with Joy
DESCRIPTION:A class consisting of multi-muscular\, functional strength and balance exercises using a variety of equipment and your own body resistance to build strength and to shape and tone the total body.
URL:https://www.gurneeparkdistrict.com/event/tbs-with-joy-97/
LOCATION:FitNation\, 1655 Nations Drive\, Gurnee\, IL\, 60031\, United States
CATEGORIES:Group Exercise
ATTACH;FMTTYPE=image/png:https://www.gurneeparkdistrict.com/wp-content/uploads/2024/01/FitN2020_Group_Ex_Square_1.png
END:VEVENT
BEGIN:VEVENT
DTSTART;TZID=America/Chicago:20251223T083000
DTEND;TZID=America/Chicago:20251223T090000
DTSTAMP:20260421T142322
CREATED:20251124T211916Z
LAST-MODIFIED:20251124T211916Z
UID:10005871-1766478600-1766480400@www.gurneeparkdistrict.com
SUMMARY:Tabata Cardio with Gina
DESCRIPTION:An intense HIIT cardio workout with 4 minute sets of work consisting of 8 20 sec rounds per set w/ a 10 sec rest.
URL:https://www.gurneeparkdistrict.com/event/tabata-cardio-with-gina-92/
LOCATION:FitNation\, 1655 Nations Drive\, Gurnee\, IL\, 60031\, United States
CATEGORIES:Group Exercise
ATTACH;FMTTYPE=image/png:https://www.gurneeparkdistrict.com/wp-content/uploads/2024/01/FitN2020_Group_Ex_Square_1.png
END:VEVENT
BEGIN:VEVENT
DTSTART;TZID=America/Chicago:20251223T090000
DTEND;TZID=America/Chicago:20251223T094500
DTSTAMP:20260421T142322
CREATED:20251124T211920Z
LAST-MODIFIED:20251124T211920Z
UID:10005873-1766480400-1766483100@www.gurneeparkdistrict.com
SUMMARY:Core and More with Gina
DESCRIPTION:Core & More: 30 or 45 minutes of Core Blast training combined with multi muscular strength moves.
URL:https://www.gurneeparkdistrict.com/event/core-and-more-with-gina-88/
LOCATION:FitNation\, 1655 Nations Drive\, Gurnee\, IL\, 60031\, United States
CATEGORIES:Group Exercise
ATTACH;FMTTYPE=image/png:https://www.gurneeparkdistrict.com/wp-content/uploads/2024/01/FitN2020_Group_Ex_Square_1.png
END:VEVENT
BEGIN:VEVENT
DTSTART;TZID=America/Chicago:20251223T090000
DTEND;TZID=America/Chicago:20251223T100000
DTSTAMP:20260421T142322
CREATED:20251124T211918Z
LAST-MODIFIED:20251124T211918Z
UID:10005872-1766480400-1766484000@www.gurneeparkdistrict.com
SUMMARY:HydroFit with Diane
DESCRIPTION:Hydro classes use the water’s resistance for an aerobic\, strengthening and ROM workout.  The water allows for less joint impact and an increase in hydrostatic pressure. A great option for active aging members or members returning back to fitness after an injury.
URL:https://www.gurneeparkdistrict.com/event/hydrofit-with-diane-167/
LOCATION:FitNation\, 1655 Nations Drive\, Gurnee\, IL\, 60031\, United States
CATEGORIES:Group Exercise
ATTACH;FMTTYPE=image/png:https://www.gurneeparkdistrict.com/wp-content/uploads/2024/01/FitN2020_Group_Ex_Square_1.png
END:VEVENT
BEGIN:VEVENT
DTSTART;TZID=America/Chicago:20251223T090000
DTEND;TZID=America/Chicago:20251223T103000
DTSTAMP:20260421T142322
CREATED:20251117T205415Z
LAST-MODIFIED:20260123T181305Z
UID:10005972-1766480400-1766485800@www.gurneeparkdistrict.com
SUMMARY:Toddler Open Gym
DESCRIPTION:$4 R / $5 NR | children under 12 months are free\n$35 R / $44 NR | 10 count punch pass\nPayment is per child. \nToddler Open Gym is available from November – March. \nGreat opportunity for parents\, guardians\, and children to play in a social environment. We ask that a parent(s)/guardian(s) remain with their child(ren) to supervise play.\nPlease note the following safety requests prior to participating in Toddler Open Gym: \n1. Designed for toddlers 0 – 5 years of age\n2. All children must be accompanied by an adult\n3. Please have payment and proof of residency available for our customer service team\n4. Gym shoes must be worn on the court\n5. Street shoes\, roller shoes\, and Heelys are not permitted\n6. Proper\, active attire must be worn\n7. Bottled water is the only food/beverage permitted\n8. Foul/abusive language\, and attempted or physical confrontation are not permitted\n9. Gurnee Park District reserves the right to cancel and/or change Toddler Open Gym schedule at any time.\n10. Failure to adhere to any rule can result in expulsion from the facility\, revocation of membership\, suspension or banning from Toddler Open Gym \n\n\n\n Add to calendar 
URL:https://www.gurneeparkdistrict.com/event/toddler-open-gym-21-2/2025-12-23/
LOCATION:Hunt Club Park Community Center\, 920 North Hunt Club Road\, Gurnee\, IL\, 60031\, United States
CATEGORIES:Special Events,Toddler Open Gym
ATTACH;FMTTYPE=image/png:https://www.gurneeparkdistrict.com/wp-content/uploads/2024/10/GPD24_ToddlerOG.png
END:VEVENT
BEGIN:VEVENT
DTSTART;TZID=America/Chicago:20251223T094500
DTEND;TZID=America/Chicago:20251223T104000
DTSTAMP:20260421T142322
CREATED:20251124T211920Z
LAST-MODIFIED:20251124T211920Z
UID:10005874-1766483100-1766486400@www.gurneeparkdistrict.com
SUMMARY:Body Combat with Elizabeth
DESCRIPTION:This fiercely energetic cardio program is inspired by martial arts and draws from a wide array of disciplines such as Karate\, Tae Kwon Do\, Tai Chi and Muay Thai\, supported by powerful music.
URL:https://www.gurneeparkdistrict.com/event/body-combat-with-elizabeth-362/
LOCATION:FitNation\, 1655 Nations Drive\, Gurnee\, IL\, 60031\, United States
CATEGORIES:Group Exercise
ATTACH;FMTTYPE=image/png:https://www.gurneeparkdistrict.com/wp-content/uploads/2024/01/FitN2020_Group_Ex_Square_1.png
END:VEVENT
BEGIN:VEVENT
DTSTART;TZID=America/Chicago:20251223T094500
DTEND;TZID=America/Chicago:20251223T104500
DTSTAMP:20260421T142322
CREATED:20251124T211922Z
LAST-MODIFIED:20251124T211922Z
UID:10005875-1766483100-1766486700@www.gurneeparkdistrict.com
SUMMARY:Yoga with Sharon
DESCRIPTION:In this class\, postures are practiced to align\, strengthen and promote flexibility. Breathing and meditation are also integrated. Emphasis on simplicity\, repetition\, and ease of movement. Full-body relaxation and balance are the goals\, as we make a full circuit of the bodyâ€™s range of motion with standing postures\, twists\, forward folds\, and hip openers. Unless otherwise speci-fied\, yoga classes will follow Hatha format. Vinyasa- Smooth transitions from pose to pose.  The body moves in sync with the breath. Gentle and Yin Yoga:  Slower  paced and more meditation held for 3-5 minutes.  Please bring a Yoga mat with you to class.
URL:https://www.gurneeparkdistrict.com/event/yoga-with-sharon-177/
LOCATION:FitNation\, 1655 Nations Drive\, Gurnee\, IL\, 60031\, United States
CATEGORIES:Group Exercise
ATTACH;FMTTYPE=image/png:https://www.gurneeparkdistrict.com/wp-content/uploads/2024/01/FitN2020_Group_Ex_Square_1.png
END:VEVENT
BEGIN:VEVENT
DTSTART;TZID=America/Chicago:20251223T100000
DTEND;TZID=America/Chicago:20251223T213000
DTSTAMP:20260421T142322
CREATED:20251119T150458Z
LAST-MODIFIED:20251119T150458Z
UID:10005605-1766484000-1766525400@www.gurneeparkdistrict.com
SUMMARY:Member Lap Swim
DESCRIPTION:Reserved for FitNation members or day pass visitors. Lifeguards WILL NOT be on duty during member lap swim. View FitNation Pool Rules and Regulations
URL:https://www.gurneeparkdistrict.com/event/member-lap-swim-1300/
LOCATION:FitNation\, 1655 Nations Drive\, Gurnee\, IL\, 60031\, United States
CATEGORIES:FitNation Lap Swim
ATTACH;FMTTYPE=image/png:https://www.gurneeparkdistrict.com/wp-content/uploads/2024/02/Lap-Swim.png
END:VEVENT
BEGIN:VEVENT
DTSTART;TZID=America/Chicago:20251223T104500
DTEND;TZID=America/Chicago:20251223T113000
DTSTAMP:20260421T142322
CREATED:20251124T211924Z
LAST-MODIFIED:20251124T211924Z
UID:10005876-1766486700-1766489400@www.gurneeparkdistrict.com
SUMMARY:Zumba with Elizabeth
DESCRIPTION:A fun\, Latin\, cardio dance class that combines all styles of Latin dance/music.
URL:https://www.gurneeparkdistrict.com/event/zumba-with-elizabeth-93/
LOCATION:FitNation\, 1655 Nations Drive\, Gurnee\, IL\, 60031\, United States
CATEGORIES:Group Exercise
ATTACH;FMTTYPE=image/png:https://www.gurneeparkdistrict.com/wp-content/uploads/2024/01/FitN2020_Group_Ex_Square_1.png
END:VEVENT
END:VCALENDAR