BEGIN:VCALENDAR
VERSION:2.0
PRODID:-//Gurnee Park District - ECPv6.15.20//NONSGML v1.0//EN
CALSCALE:GREGORIAN
METHOD:PUBLISH
X-ORIGINAL-URL:https://www.gurneeparkdistrict.com
X-WR-CALDESC:Events for Gurnee Park District
REFRESH-INTERVAL;VALUE=DURATION:PT1H
X-Robots-Tag:noindex
X-PUBLISHED-TTL:PT1H
BEGIN:VTIMEZONE
TZID:America/Chicago
BEGIN:DAYLIGHT
TZOFFSETFROM:-0600
TZOFFSETTO:-0500
TZNAME:CDT
DTSTART:20240310T080000
END:DAYLIGHT
BEGIN:STANDARD
TZOFFSETFROM:-0500
TZOFFSETTO:-0600
TZNAME:CST
DTSTART:20241103T070000
END:STANDARD
BEGIN:DAYLIGHT
TZOFFSETFROM:-0600
TZOFFSETTO:-0500
TZNAME:CDT
DTSTART:20250309T080000
END:DAYLIGHT
BEGIN:STANDARD
TZOFFSETFROM:-0500
TZOFFSETTO:-0600
TZNAME:CST
DTSTART:20251102T070000
END:STANDARD
BEGIN:DAYLIGHT
TZOFFSETFROM:-0600
TZOFFSETTO:-0500
TZNAME:CDT
DTSTART:20260308T080000
END:DAYLIGHT
BEGIN:STANDARD
TZOFFSETFROM:-0500
TZOFFSETTO:-0600
TZNAME:CST
DTSTART:20261101T070000
END:STANDARD
END:VTIMEZONE
BEGIN:VEVENT
DTSTART;TZID=America/Chicago:20251220T070000
DTEND;TZID=America/Chicago:20251220T080000
DTSTAMP:20260421T135554
CREATED:20251119T150449Z
LAST-MODIFIED:20251119T150449Z
UID:10005593-1766214000-1766217600@www.gurneeparkdistrict.com
SUMMARY:Member Lap Swim
DESCRIPTION:Reserved for FitNation members or day pass visitors. Lifeguards WILL NOT be on duty during member lap swim. View FitNation Pool Rules and Regulations
URL:https://www.gurneeparkdistrict.com/event/member-lap-swim-1292/
LOCATION:FitNation\, 1655 Nations Drive\, Gurnee\, IL\, 60031\, United States
CATEGORIES:FitNation Lap Swim
ATTACH;FMTTYPE=image/png:https://www.gurneeparkdistrict.com/wp-content/uploads/2024/02/Lap-Swim.png
END:VEVENT
BEGIN:VEVENT
DTSTART;TZID=America/Chicago:20251220T070000
DTEND;TZID=America/Chicago:20251220T090000
DTSTAMP:20260421T135554
CREATED:20251125T135617Z
LAST-MODIFIED:20251125T135617Z
UID:10005933-1766214000-1766221200@www.gurneeparkdistrict.com
SUMMARY:Adult Open Gym
DESCRIPTION:Tuesday Evening & Saturday Morning 19+ 	 \n– FitNation Members Only or 10 visit punch pass user open gym \n1. Payment or proof of FitNation membership must be made at the registration desk\n2. Gym shoes must be worn on the court\n3. Street shoes\, roller shoes\, and Heelys are not permitted\n4. Proper attire must be worn\n5. Bottled water is the only food/beverage permitted\n6. Foul or abusive language attempted confrontation or physical confrontation will result in immediate expulsion from the facility\n7. No person or team can “own”the court\n8. If only one court is available\, side courts might be required based on age\, skill level and the number of participants\n9.  If two courts are available\, courts might be divided by age\, skill level and the number of participants\n10. Teaching private lessons and conducting team practices are not permitted\n11. Gurnee Park District reserves the right to cancel and/or change this schedule at any time\n12. No dunking\n13. Failure to adhere to any rule can result in expulsion from the facility\, revocation of FitNation membership\, and/or suspension/banning from the open gym
URL:https://www.gurneeparkdistrict.com/event/adult-open-gym-155/
LOCATION:Hunt Club Park Community Center\, 920 North Hunt Club Road\, Gurnee\, IL\, 60031\, United States
CATEGORIES:Hunt Club Open Gym
ATTACH;FMTTYPE=image/png:https://www.gurneeparkdistrict.com/wp-content/uploads/2024/02/HC-Open-Gym.png
END:VEVENT
BEGIN:VEVENT
DTSTART;TZID=America/Chicago:20251220T070000
DTEND;TZID=America/Chicago:20251220T190000
DTSTAMP:20260421T135554
CREATED:20251124T204155Z
LAST-MODIFIED:20251124T204155Z
UID:10005683-1766214000-1766257200@www.gurneeparkdistrict.com
SUMMARY:FitNation Pickleball - Reservations Required
DESCRIPTION:1) Pickleball is reserved for FitNation members only.\n2) All pickleball players must check-in at the front desk prior to entering the Flex Studio.\n3) Reservations for pickleball play must be made online via our website and will only be held for 15 minutes past the start time of the reservation. The court will be released if the players don’t show by that time.\n4) Reservations made can be no longer than 1 hour per person/group. Multiple people in the same group cannot reserve the court for each person for 1 hour\n5) All group members need to be listed when the reservation is made.\n6) Paddles must be checked out from the front desk and a photo id is required in exchange for the equipment.\n7) Inappropriate language and fighting are prohibited at all times.
URL:https://www.gurneeparkdistrict.com/event/fitnation-pickleball-reservations-required-914/
LOCATION:FitNation\, 1655 Nations Drive\, Gurnee\, IL\, 60031\, United States
CATEGORIES:FitNation Pickleball
ATTACH;FMTTYPE=image/png:https://www.gurneeparkdistrict.com/wp-content/uploads/2024/04/FN-Pickleball_1.png
END:VEVENT
BEGIN:VEVENT
DTSTART;TZID=America/Chicago:20251220T073000
DTEND;TZID=America/Chicago:20251220T083000
DTSTAMP:20260421T135554
CREATED:20251124T211859Z
LAST-MODIFIED:20251124T211859Z
UID:10005848-1766215800-1766219400@www.gurneeparkdistrict.com
SUMMARY:Body Pump with Cristina
DESCRIPTION:A choreographed strength and conditioning classes that uses high repetition with lower weights. Fun and inspiring music is used to motivate participants through 10 powerful tracks. (Please note\, express classes will complete less than 10 tracks.)
URL:https://www.gurneeparkdistrict.com/event/body-pump-with-cristina-71/
LOCATION:FitNation\, 1655 Nations Drive\, Gurnee\, IL\, 60031\, United States
CATEGORIES:Group Exercise
ATTACH;FMTTYPE=image/png:https://www.gurneeparkdistrict.com/wp-content/uploads/2024/01/FitN2020_Group_Ex_Square_1.png
END:VEVENT
BEGIN:VEVENT
DTSTART;TZID=America/Chicago:20251220T074500
DTEND;TZID=America/Chicago:20251220T083500
DTSTAMP:20260421T135554
CREATED:20251124T211900Z
LAST-MODIFIED:20251124T211900Z
UID:10005849-1766216700-1766219700@www.gurneeparkdistrict.com
SUMMARY:Cycle with Kevin
DESCRIPTION:An awesome indoor cycling class that provides fun and a challenging cardiovascular workout for all fitness levels. \nDue to limited space\, this class is available to 23 members on a first come\, first serve basis.
URL:https://www.gurneeparkdistrict.com/event/cycle-with-kevin-96/
LOCATION:FitNation\, 1655 Nations Drive\, Gurnee\, IL\, 60031\, United States
CATEGORIES:Group Exercise
ATTACH;FMTTYPE=image/png:https://www.gurneeparkdistrict.com/wp-content/uploads/2024/01/FitN2020_Group_Ex_Square_1.png
END:VEVENT
BEGIN:VEVENT
DTSTART;TZID=America/Chicago:20251220T084500
DTEND;TZID=America/Chicago:20251220T093000
DTSTAMP:20260421T135554
CREATED:20251124T211900Z
LAST-MODIFIED:20251124T211900Z
UID:10005850-1766220300-1766223000@www.gurneeparkdistrict.com
SUMMARY:Rhythm and Power Ride with Cristina
DESCRIPTION:Get out of the cold for a ride filled with high energy intervals as you pedal and sweat along the latest beats featuring EDM\, hip hop\, and pop remixes. *This is a class designed for the winter months only*
URL:https://www.gurneeparkdistrict.com/event/rhythm-and-power-ride-with-cristina-8/
LOCATION:FitNation\, 1655 Nations Drive\, Gurnee\, IL\, 60031\, United States
CATEGORIES:Group Exercise
ATTACH;FMTTYPE=image/png:https://www.gurneeparkdistrict.com/wp-content/uploads/2024/01/FitN2020_Group_Ex_Square_1.png
END:VEVENT
BEGIN:VEVENT
DTSTART;TZID=America/Chicago:20251220T084500
DTEND;TZID=America/Chicago:20251220T093500
DTSTAMP:20260421T135554
CREATED:20251124T211901Z
LAST-MODIFIED:20251124T211901Z
UID:10005852-1766220300-1766223300@www.gurneeparkdistrict.com
SUMMARY:Cardio Sculpt with Ilona
DESCRIPTION:This low impact aerobic training will use light weight or body weight intervals to tone and strengthen.
URL:https://www.gurneeparkdistrict.com/event/cardio-sculpt-with-ilona-76/
LOCATION:FitNation\, 1655 Nations Drive\, Gurnee\, IL\, 60031\, United States
CATEGORIES:Group Exercise
ATTACH;FMTTYPE=image/png:https://www.gurneeparkdistrict.com/wp-content/uploads/2024/01/FitN2020_Group_Ex_Square_1.png
END:VEVENT
BEGIN:VEVENT
DTSTART;TZID=America/Chicago:20251220T084500
DTEND;TZID=America/Chicago:20251220T094500
DTSTAMP:20260421T135554
CREATED:20251124T211901Z
LAST-MODIFIED:20251124T211901Z
UID:10005851-1766220300-1766223900@www.gurneeparkdistrict.com
SUMMARY:Body Pump with Denise/Amy
DESCRIPTION:A choreographed strength and conditioning classes that uses high repetition with lower weights. Fun and inspiring music is used to motivate participants through 10 powerful tracks. (Please note\, express classes will complete less than 10 tracks.)
URL:https://www.gurneeparkdistrict.com/event/body-pump-with-denise-amy-83/
LOCATION:FitNation\, 1655 Nations Drive\, Gurnee\, IL\, 60031\, United States
CATEGORIES:Group Exercise
ATTACH;FMTTYPE=image/png:https://www.gurneeparkdistrict.com/wp-content/uploads/2024/01/FitN2020_Group_Ex_Square_1.png
END:VEVENT
BEGIN:VEVENT
DTSTART;TZID=America/Chicago:20251220T090000
DTEND;TZID=America/Chicago:20251220T090000
DTSTAMP:20260421T135554
CREATED:20250605T180510Z
LAST-MODIFIED:20251110T192759Z
UID:10003041-1766221200-1766221200@www.gurneeparkdistrict.com
SUMMARY:GO Gurnee Walking Club
DESCRIPTION:Join the GO Gurnee Walking Club at Gowe Park /Des Plaines River Trail (4621 McClure Avenue\, Gurnee)! \nView map location here! \nDirections/Walk Details: This trail is an access point to the Des Plaines River Trail. It is packed gravel. Mostly flat. We’ll be heading SOUTH on the Des Plaines River Trail. To Washington Street and back will be 2.5 miles. To Route 120 and back is 4 miles. Gowe Park is located behind Warren Township High School (O’Plaine Campus). Follow the access road (McClure Avenue) between the school and Grand Avenue towards the river. No restrooms. Pets allowed. \nNot a Walking Club member? Join for FREE today! \n 
URL:https://www.gurneeparkdistrict.com/event/go-gurnee-walking-club-102/
LOCATION:4621 McClure Avenue\, 4621 McClure Avenue\, Gurnee\, IL\, 60031\, United States
CATEGORIES:GO Gurnee
ATTACH;FMTTYPE=image/png:https://www.gurneeparkdistrict.com/wp-content/uploads/2024/07/GoGurnee-Winter_Walk-square.png
END:VEVENT
BEGIN:VEVENT
DTSTART;TZID=America/Chicago:20251220T100000
DTEND;TZID=America/Chicago:20251220T104500
DTSTAMP:20260421T135554
CREATED:20251124T211904Z
LAST-MODIFIED:20251124T211904Z
UID:10005854-1766224800-1766227500@www.gurneeparkdistrict.com
SUMMARY:Vinyasa Flow with Rachel
DESCRIPTION:An athletic approach to yoga using continuous movements and poses linked with the breath. This will get your heart rate up and have you sweating.  Please bring a yoga mat with you to class.
URL:https://www.gurneeparkdistrict.com/event/vinyasa-flow-with-rachel-28/
LOCATION:FitNation\, 1655 Nations Drive\, Gurnee\, IL\, 60031\, United States
CATEGORIES:Group Exercise
ATTACH;FMTTYPE=image/png:https://www.gurneeparkdistrict.com/wp-content/uploads/2024/01/FitN2020_Group_Ex_Square_1.png
END:VEVENT
BEGIN:VEVENT
DTSTART;TZID=America/Chicago:20251220T100000
DTEND;TZID=America/Chicago:20251220T110000
DTSTAMP:20260421T135554
CREATED:20251124T211902Z
LAST-MODIFIED:20251124T211902Z
UID:10005853-1766224800-1766228400@www.gurneeparkdistrict.com
SUMMARY:Zumba with Erica
DESCRIPTION:A fun\, Latin\, cardio dance class that combines all styles of Latin dance/music.
URL:https://www.gurneeparkdistrict.com/event/zumba-with-erica-92/
LOCATION:FitNation\, 1655 Nations Drive\, Gurnee\, IL\, 60031\, United States
CATEGORIES:Group Exercise
ATTACH;FMTTYPE=image/png:https://www.gurneeparkdistrict.com/wp-content/uploads/2024/01/FitN2020_Group_Ex_Square_1.png
END:VEVENT
BEGIN:VEVENT
DTSTART;TZID=America/Chicago:20251220T123000
DTEND;TZID=America/Chicago:20251220T163000
DTSTAMP:20260421T135554
CREATED:20251104T175125Z
LAST-MODIFIED:20251119T144921Z
UID:10005475-1766233800-1766248200@www.gurneeparkdistrict.com
SUMMARY:Winter Break Family Swim
DESCRIPTION:Gather the family and get ready to make a SPLASH! Family Swim times are available throughout Winter Break!  \n$6 (R) | $8 (NR) \nAll participants are required to pay admission\, which can be completed at the front desk upon arrival.
URL:https://www.gurneeparkdistrict.com/event/winter-break-family-swim-3/2025-12-20/
LOCATION:FitNation\, 1655 Nations Drive\, Gurnee\, IL\, 60031\, United States
CATEGORIES:Special Events
ATTACH;FMTTYPE=image/png:https://www.gurneeparkdistrict.com/wp-content/uploads/2025/11/GPD25_Family_Swim.png
END:VEVENT
BEGIN:VEVENT
DTSTART;TZID=America/Chicago:20251220T123000
DTEND;TZID=America/Chicago:20251220T163000
DTSTAMP:20260421T135554
CREATED:20251119T150450Z
LAST-MODIFIED:20251119T151158Z
UID:10005594-1766233800-1766248200@www.gurneeparkdistrict.com
SUMMARY:Member Lap and Family Swim
DESCRIPTION:Member Lap Swim: Reserved for FitNation members or day pass visitors. \nFamily Swim: Gather the family and get ready to make a SPLASH!\n$6R | $8NR\nAll participants are required to pay admission\, which can be completed at the front desk upon arrival.\nChildren under the age of 16 must be accompanied by an adult 18 years of age or older.
URL:https://www.gurneeparkdistrict.com/event/member-lap-and-family-swim-26/
LOCATION:FitNation\, 1655 Nations Drive\, Gurnee\, IL\, 60031\, United States
CATEGORIES:FitNation Lap Swim
ATTACH;FMTTYPE=image/png:https://www.gurneeparkdistrict.com/wp-content/uploads/2024/02/Lap-Swim.png
END:VEVENT
BEGIN:VEVENT
DTSTART;TZID=America/Chicago:20251220T163000
DTEND;TZID=America/Chicago:20251220T183000
DTSTAMP:20260421T135554
CREATED:20251119T150451Z
LAST-MODIFIED:20251119T150451Z
UID:10005595-1766248200-1766255400@www.gurneeparkdistrict.com
SUMMARY:Member Lap Swim
DESCRIPTION:Reserved for FitNation members or day pass visitors. Lifeguards WILL NOT be on duty during member lap swim. View FitNation Pool Rules and Regulations
URL:https://www.gurneeparkdistrict.com/event/member-lap-swim-1293/
LOCATION:FitNation\, 1655 Nations Drive\, Gurnee\, IL\, 60031\, United States
CATEGORIES:FitNation Lap Swim
ATTACH;FMTTYPE=image/png:https://www.gurneeparkdistrict.com/wp-content/uploads/2024/02/Lap-Swim.png
END:VEVENT
BEGIN:VEVENT
DTSTART;TZID=America/Chicago:20251221T070000
DTEND;TZID=America/Chicago:20251221T080000
DTSTAMP:20260421T135554
CREATED:20251119T150451Z
LAST-MODIFIED:20251119T150451Z
UID:10005596-1766300400-1766304000@www.gurneeparkdistrict.com
SUMMARY:POOL CLOSED - STAFF TRAINING
DESCRIPTION:
URL:https://www.gurneeparkdistrict.com/event/pool-closed-staff-training-21/
LOCATION:FitNation\, 1655 Nations Drive\, Gurnee\, IL\, 60031\, United States
CATEGORIES:FitNation Lap Swim
ATTACH;FMTTYPE=image/png:https://www.gurneeparkdistrict.com/wp-content/uploads/2024/02/Lap-Swim.png
END:VEVENT
BEGIN:VEVENT
DTSTART;TZID=America/Chicago:20251221T070000
DTEND;TZID=America/Chicago:20251221T090000
DTSTAMP:20260421T135554
CREATED:20251125T140005Z
LAST-MODIFIED:20251125T140005Z
UID:10005945-1766300400-1766307600@www.gurneeparkdistrict.com
SUMMARY:Hunt Club Open Pickleball
DESCRIPTION:FREE for FitNation Members\n$5 Fee at Hunt Club and $15 Fee at Nations Drive for Non Members\nPickleball nets will be set up for those who would like to drop-in to practices or play with a group.  Equipment is available to rent and return.  \nPlease note the following safety requests prior to participating:  \n1. Children 8 years and under must be accompanied by an adult\n2. Children 9-11 years old must have a parent or guardian present in the facility\n3. Proof of FitNation membership or payment must be made prior to participating\n4. Only those Gym Drop-In participants are allowed to participate.\n5. Gym shoes must be worn on the court\n6. Street shoes\, roller shoes and Heelys are not permitted\n7. Proper athletic attire must be worn\n8. Bottled water is the only food/beverage permitted\n9. Foul or abusive language or physical confrontation will result in immediate expulsion from the facility\n10. No person or team can own a specific pickleball court\n11. If only one pickleball court is available\, side courts might be required based on age\, skill level and the number of participants\n12. Teaching private lessons and conducting team practices are not permitted\n13. Hunt Club Park Community Center reserves the right to cancel and/or change the Drop-In schedule at any time \nFailure to adhere to any rule can lead to being asked to leave the facility and could result in revocation of FitNation membership\, suspension or banning from Gurnee Park District locations. Thank you for your cooperation.
URL:https://www.gurneeparkdistrict.com/event/hunt-club-open-pickleball-22/
LOCATION:Hunt Club Park Community Center\, 920 North Hunt Club Road\, Gurnee\, IL\, 60031\, United States
CATEGORIES:Hunt Club Pickleball
ATTACH;FMTTYPE=image/png:https://www.gurneeparkdistrict.com/wp-content/uploads/2024/02/HC-Pickleball.png
END:VEVENT
BEGIN:VEVENT
DTSTART;TZID=America/Chicago:20251221T070000
DTEND;TZID=America/Chicago:20251221T190000
DTSTAMP:20260421T135554
CREATED:20251124T204156Z
LAST-MODIFIED:20251124T204156Z
UID:10005684-1766300400-1766343600@www.gurneeparkdistrict.com
SUMMARY:FitNation Pickleball - Reservations Required
DESCRIPTION:1) Pickleball is reserved for FitNation members only.\n2) All pickleball players must check-in at the front desk prior to entering the Flex Studio.\n3) Reservations for pickleball play must be made online via our website and will only be held for 15 minutes past the start time of the reservation. The court will be released if the players don’t show by that time.\n4) Reservations made can be no longer than 1 hour per person/group. Multiple people in the same group cannot reserve the court for each person for 1 hour\n5) All group members need to be listed when the reservation is made.\n6) Paddles must be checked out from the front desk and a photo id is required in exchange for the equipment.\n7) Inappropriate language and fighting are prohibited at all times.
URL:https://www.gurneeparkdistrict.com/event/fitnation-pickleball-reservations-required-915/
LOCATION:FitNation\, 1655 Nations Drive\, Gurnee\, IL\, 60031\, United States
CATEGORIES:FitNation Pickleball
ATTACH;FMTTYPE=image/png:https://www.gurneeparkdistrict.com/wp-content/uploads/2024/04/FN-Pickleball_1.png
END:VEVENT
BEGIN:VEVENT
DTSTART;TZID=America/Chicago:20251221T083000
DTEND;TZID=America/Chicago:20251221T092000
DTSTAMP:20260421T135554
CREATED:20251124T211904Z
LAST-MODIFIED:20251124T211904Z
UID:10005855-1766305800-1766308800@www.gurneeparkdistrict.com
SUMMARY:Cycle with Tiffany
DESCRIPTION:An awesome indoor cycling class that provides fun and a challenging cardiovascular workout for all fitness levels. \nDue to limited space\, this class is available to 23 members on a first come\, first serve basis.
URL:https://www.gurneeparkdistrict.com/event/cycle-with-tiffany-183/
LOCATION:FitNation\, 1655 Nations Drive\, Gurnee\, IL\, 60031\, United States
CATEGORIES:Group Exercise
ATTACH;FMTTYPE=image/png:https://www.gurneeparkdistrict.com/wp-content/uploads/2024/01/FitN2020_Group_Ex_Square_1.png
END:VEVENT
BEGIN:VEVENT
DTSTART;TZID=America/Chicago:20251221T084500
DTEND;TZID=America/Chicago:20251221T094000
DTSTAMP:20260421T135554
CREATED:20251124T211905Z
LAST-MODIFIED:20251124T211905Z
UID:10005856-1766306700-1766310000@www.gurneeparkdistrict.com
SUMMARY:Body Balance with Amy
DESCRIPTION:A Yoga\, Tai Chi\, Pilates workout that builds flexibility\, strength and leaves you feeling centered and calm.
URL:https://www.gurneeparkdistrict.com/event/body-balance-with-amy-84/
LOCATION:FitNation\, 1655 Nations Drive\, Gurnee\, IL\, 60031\, United States
CATEGORIES:Group Exercise
ATTACH;FMTTYPE=image/png:https://www.gurneeparkdistrict.com/wp-content/uploads/2024/01/FitN2020_Group_Ex_Square_1.png
END:VEVENT
BEGIN:VEVENT
DTSTART;TZID=America/Chicago:20251221T093000
DTEND;TZID=America/Chicago:20251221T100000
DTSTAMP:20260421T135554
CREATED:20251124T211906Z
LAST-MODIFIED:20251124T211906Z
UID:10005857-1766309400-1766311200@www.gurneeparkdistrict.com
SUMMARY:Core and More with Elizabeth
DESCRIPTION:Core & More: 30 or 45 minutes of Core Blast training combined with multi muscular strength moves.
URL:https://www.gurneeparkdistrict.com/event/core-and-more-with-elizabeth-88/
LOCATION:FitNation\, 1655 Nations Drive\, Gurnee\, IL\, 60031\, United States
CATEGORIES:Group Exercise
ATTACH;FMTTYPE=image/png:https://www.gurneeparkdistrict.com/wp-content/uploads/2024/01/FitN2020_Group_Ex_Square_1.png
END:VEVENT
BEGIN:VEVENT
DTSTART;TZID=America/Chicago:20251221T100000
DTEND;TZID=America/Chicago:20251221T110000
DTSTAMP:20260421T135554
CREATED:20251124T211906Z
LAST-MODIFIED:20251124T211906Z
UID:10005858-1766311200-1766314800@www.gurneeparkdistrict.com
SUMMARY:Body Combat with Elizabeth
DESCRIPTION:This fiercely energetic cardio program is inspired by martial arts and draws from a wide array of disciplines such as Karate\, Tae Kwon Do\, Tai Chi and Muay Thai\, supported by powerful music.
URL:https://www.gurneeparkdistrict.com/event/body-combat-with-elizabeth-361/
LOCATION:FitNation\, 1655 Nations Drive\, Gurnee\, IL\, 60031\, United States
CATEGORIES:Group Exercise
ATTACH;FMTTYPE=image/png:https://www.gurneeparkdistrict.com/wp-content/uploads/2024/01/FitN2020_Group_Ex_Square_1.png
END:VEVENT
BEGIN:VEVENT
DTSTART;TZID=America/Chicago:20251221T120000
DTEND;TZID=America/Chicago:20251221T143000
DTSTAMP:20260421T135554
CREATED:20251119T150452Z
LAST-MODIFIED:20251119T150452Z
UID:10005597-1766318400-1766327400@www.gurneeparkdistrict.com
SUMMARY:Member Lap Swim
DESCRIPTION:Reserved for FitNation members or day pass visitors. Lifeguards WILL NOT be on duty during member lap swim. View FitNation Pool Rules and Regulations
URL:https://www.gurneeparkdistrict.com/event/member-lap-swim-1294/
LOCATION:FitNation\, 1655 Nations Drive\, Gurnee\, IL\, 60031\, United States
CATEGORIES:FitNation Lap Swim
ATTACH;FMTTYPE=image/png:https://www.gurneeparkdistrict.com/wp-content/uploads/2024/02/Lap-Swim.png
END:VEVENT
BEGIN:VEVENT
DTSTART;TZID=America/Chicago:20251221T143000
DTEND;TZID=America/Chicago:20251221T163000
DTSTAMP:20260421T135554
CREATED:20251104T174201Z
LAST-MODIFIED:20251119T150844Z
UID:10005470-1766327400-1766334600@www.gurneeparkdistrict.com
SUMMARY:Winter Break Family Swim
DESCRIPTION:Gather the family and get ready to make a SPLASH! Family Swim times are available throughout Winter Break!  \n$6 (R) | $8 (NR) \nAll participants are required to pay admission\, which can be completed at the front desk upon arrival.
URL:https://www.gurneeparkdistrict.com/event/winter-break-family-swim/2025-12-21/
LOCATION:FitNation\, 1655 Nations Drive\, Gurnee\, IL\, 60031\, United States
CATEGORIES:Special Events
ATTACH;FMTTYPE=image/png:https://www.gurneeparkdistrict.com/wp-content/uploads/2025/11/GPD25_Family_Swim.png
END:VEVENT
BEGIN:VEVENT
DTSTART;TZID=America/Chicago:20251221T143000
DTEND;TZID=America/Chicago:20251221T163000
DTSTAMP:20260421T135554
CREATED:20251119T150454Z
LAST-MODIFIED:20251119T150809Z
UID:10005598-1766327400-1766334600@www.gurneeparkdistrict.com
SUMMARY:Member Lap and Family Swim Time
DESCRIPTION:Member Lap Swim: Reserved for FitNation members or day pass visitors. \nFamily Swim: Gather the family and get ready to make a SPLASH!\n$6R | $8NR\nAll participants are required to pay admission\, which can be completed at the front desk upon arrival.\nChildren under the age of 16 must be accompanied by an adult 18 years of age or older.
URL:https://www.gurneeparkdistrict.com/event/member-lap-and-family-swim-time/
LOCATION:FitNation\, 1655 Nations Drive\, Gurnee\, IL\, 60031\, United States
CATEGORIES:FitNation Lap Swim
ATTACH;FMTTYPE=image/png:https://www.gurneeparkdistrict.com/wp-content/uploads/2024/02/Lap-Swim.png
END:VEVENT
BEGIN:VEVENT
DTSTART;TZID=America/Chicago:20251221T163000
DTEND;TZID=America/Chicago:20251221T183000
DTSTAMP:20260421T135554
CREATED:20251119T150454Z
LAST-MODIFIED:20251119T150454Z
UID:10005599-1766334600-1766341800@www.gurneeparkdistrict.com
SUMMARY:Member Lap Swim
DESCRIPTION:Reserved for FitNation members or day pass visitors. Lifeguards WILL NOT be on duty during member lap swim. View FitNation Pool Rules and Regulations
URL:https://www.gurneeparkdistrict.com/event/member-lap-swim-1295/
LOCATION:FitNation\, 1655 Nations Drive\, Gurnee\, IL\, 60031\, United States
CATEGORIES:FitNation Lap Swim
ATTACH;FMTTYPE=image/png:https://www.gurneeparkdistrict.com/wp-content/uploads/2024/02/Lap-Swim.png
END:VEVENT
BEGIN:VEVENT
DTSTART;TZID=America/Chicago:20251222T050000
DTEND;TZID=America/Chicago:20251222T084500
DTSTAMP:20260421T135554
CREATED:20251119T150455Z
LAST-MODIFIED:20251119T150455Z
UID:10005600-1766379600-1766393100@www.gurneeparkdistrict.com
SUMMARY:Member Lap Swim
DESCRIPTION:Reserved for FitNation members or day pass visitors. Lifeguards WILL NOT be on duty during member lap swim. View FitNation Pool Rules and Regulations
URL:https://www.gurneeparkdistrict.com/event/member-lap-swim-1296/
LOCATION:FitNation\, 1655 Nations Drive\, Gurnee\, IL\, 60031\, United States
CATEGORIES:FitNation Lap Swim
ATTACH;FMTTYPE=image/png:https://www.gurneeparkdistrict.com/wp-content/uploads/2024/02/Lap-Swim.png
END:VEVENT
BEGIN:VEVENT
DTSTART;TZID=America/Chicago:20251222T050000
DTEND;TZID=America/Chicago:20251222T220000
DTSTAMP:20260421T135554
CREATED:20251124T204157Z
LAST-MODIFIED:20251124T204157Z
UID:10005685-1766379600-1766440800@www.gurneeparkdistrict.com
SUMMARY:FitNation Pickleball - Reservations Required
DESCRIPTION:1) Pickleball is reserved for FitNation members only.\n2) All pickleball players must check-in at the front desk prior to entering the Flex Studio.\n3) Reservations for pickleball play must be made online via our website and will only be held for 15 minutes past the start time of the reservation. The court will be released if the players don’t show by that time.\n4) Reservations made can be no longer than 1 hour per person/group. Multiple people in the same group cannot reserve the court for each person for 1 hour\n5) All group members need to be listed when the reservation is made.\n6) Paddles must be checked out from the front desk and a photo id is required in exchange for the equipment.\n7) Inappropriate language and fighting are prohibited at all times.
URL:https://www.gurneeparkdistrict.com/event/fitnation-pickleball-reservations-required-916/
LOCATION:FitNation\, 1655 Nations Drive\, Gurnee\, IL\, 60031\, United States
CATEGORIES:FitNation Pickleball
ATTACH;FMTTYPE=image/png:https://www.gurneeparkdistrict.com/wp-content/uploads/2024/04/FN-Pickleball_1.png
END:VEVENT
BEGIN:VEVENT
DTSTART;TZID=America/Chicago:20251222T063000
DTEND;TZID=America/Chicago:20251222T180000
DTSTAMP:20260421T135554
CREATED:20250613T201506Z
LAST-MODIFIED:20250613T201506Z
UID:10003061-1766385000-1766426400@www.gurneeparkdistrict.com
SUMMARY:Days Off School - "Under the Sea Day"
DESCRIPTION:Dive into adventure at Under the Sea day! Kids will swim through a day of ocean-themed crafts\, sea creature games\, and exciting underwater explorations\, learning all about the wonders of the deep blue sea.\nPlease bring a sack lunch\, water bottle\, and dress for the weather (some activities may be held outside\, weather permitting).
URL:https://www.gurneeparkdistrict.com/event/days-off-school-under-the-sea-day/
LOCATION:Hunt Club Park Community Center\, 920 North Hunt Club Road\, Gurnee\, IL\, 60031\, United States
CATEGORIES:Special Events
ATTACH;FMTTYPE=image/png:https://www.gurneeparkdistrict.com/wp-content/uploads/2025/06/GPD-2024-Days-Off-School_Calendar-District-50-56-1080-x-1080.png
END:VEVENT
BEGIN:VEVENT
DTSTART;TZID=America/Chicago:20251222T083000
DTEND;TZID=America/Chicago:20251222T090000
DTSTAMP:20260421T135554
CREATED:20251124T211907Z
LAST-MODIFIED:20251124T211907Z
UID:10005859-1766392200-1766394000@www.gurneeparkdistrict.com
SUMMARY:Sculpt Series with Mandi
DESCRIPTION:Using a variety of equipment\, this 30 minute strength class will define and sculpt your muscles.  Each week will focus on a different muscle group.
URL:https://www.gurneeparkdistrict.com/event/sculpt-series-with-mandi-64/
LOCATION:FitNation\, 1655 Nations Drive\, Gurnee\, IL\, 60031\, United States
CATEGORIES:Group Exercise
ATTACH;FMTTYPE=image/png:https://www.gurneeparkdistrict.com/wp-content/uploads/2024/01/FitN2020_Group_Ex_Square_1.png
END:VEVENT
BEGIN:VEVENT
DTSTART;TZID=America/Chicago:20251222T084500
DTEND;TZID=America/Chicago:20251222T093500
DTSTAMP:20260421T135554
CREATED:20251124T211908Z
LAST-MODIFIED:20251124T211908Z
UID:10005860-1766393100-1766396100@www.gurneeparkdistrict.com
SUMMARY:Cycle with Tiffany
DESCRIPTION:An awesome indoor cycling class that provides fun and a challenging cardiovascular workout for all fitness levels. \nDue to limited space\, this class is available to 23 members on a first come\, first serve basis.
URL:https://www.gurneeparkdistrict.com/event/cycle-with-tiffany-184/
LOCATION:FitNation\, 1655 Nations Drive\, Gurnee\, IL\, 60031\, United States
CATEGORIES:Group Exercise
ATTACH;FMTTYPE=image/png:https://www.gurneeparkdistrict.com/wp-content/uploads/2024/01/FitN2020_Group_Ex_Square_1.png
END:VEVENT
END:VCALENDAR