BEGIN:VCALENDAR
VERSION:2.0
PRODID:-//Gurnee Park District - ECPv6.15.20//NONSGML v1.0//EN
CALSCALE:GREGORIAN
METHOD:PUBLISH
X-ORIGINAL-URL:https://www.gurneeparkdistrict.com
X-WR-CALDESC:Events for Gurnee Park District
REFRESH-INTERVAL;VALUE=DURATION:PT1H
X-Robots-Tag:noindex
X-PUBLISHED-TTL:PT1H
BEGIN:VTIMEZONE
TZID:America/Chicago
BEGIN:DAYLIGHT
TZOFFSETFROM:-0600
TZOFFSETTO:-0500
TZNAME:CDT
DTSTART:20250309T080000
END:DAYLIGHT
BEGIN:STANDARD
TZOFFSETFROM:-0500
TZOFFSETTO:-0600
TZNAME:CST
DTSTART:20251102T070000
END:STANDARD
BEGIN:DAYLIGHT
TZOFFSETFROM:-0600
TZOFFSETTO:-0500
TZNAME:CDT
DTSTART:20260308T080000
END:DAYLIGHT
BEGIN:STANDARD
TZOFFSETFROM:-0500
TZOFFSETTO:-0600
TZNAME:CST
DTSTART:20261101T070000
END:STANDARD
BEGIN:DAYLIGHT
TZOFFSETFROM:-0600
TZOFFSETTO:-0500
TZNAME:CDT
DTSTART:20270314T080000
END:DAYLIGHT
BEGIN:STANDARD
TZOFFSETFROM:-0500
TZOFFSETTO:-0600
TZNAME:CST
DTSTART:20271107T070000
END:STANDARD
END:VTIMEZONE
BEGIN:VEVENT
DTSTART;TZID=America/Chicago:20260709T190000
DTEND;TZID=America/Chicago:20260709T203000
DTSTAMP:20260419T195313
CREATED:20260417T194205Z
LAST-MODIFIED:20260417T194205Z
UID:10007708-1783623600-1783629000@www.gurneeparkdistrict.com
SUMMARY:Sounds of Summer Concert - Billy Elton (FREE)
DESCRIPTION:Join us for Sounds of Summer\, our FREE summer concert series! “Billy Elton” will be performing!\n \nThursday\, July 97:00pmViking Park Band Shell | 4374 Old Grand Avenue\, GurneeAll ages welcome!FREE!\n \nBe sure to bring blankets or chairs.\nDogs are welcome and should be well-behaved and remain on a leash at all times.\n \nRemember to check Rainout Line for inclement weather updates: https://rainoutline.com/gurneeparkdistrict
URL:https://www.gurneeparkdistrict.com/event/sounds-of-summer-concert-billy-elton-free-2/
LOCATION:Viking Park\, 4374 Old Grand Avenue\, Gurnee\, IL\, 60031\, United States
CATEGORIES:Special Events
ATTACH;FMTTYPE=image/png:https://www.gurneeparkdistrict.com/wp-content/uploads/2026/04/GPD2026-Sounds-of-Summer-Adult-Social-Campaign_Calendar-3-1080-x-1080--scaled.png
END:VEVENT
END:VCALENDAR