BEGIN:VCALENDAR
VERSION:2.0
PRODID:-//Gurnee Park District - ECPv6.15.20//NONSGML v1.0//EN
CALSCALE:GREGORIAN
METHOD:PUBLISH
X-ORIGINAL-URL:https://www.gurneeparkdistrict.com
X-WR-CALDESC:Events for Gurnee Park District
REFRESH-INTERVAL;VALUE=DURATION:PT1H
X-Robots-Tag:noindex
X-PUBLISHED-TTL:PT1H
BEGIN:VTIMEZONE
TZID:America/Chicago
BEGIN:DAYLIGHT
TZOFFSETFROM:-0600
TZOFFSETTO:-0500
TZNAME:CDT
DTSTART:20250309T080000
END:DAYLIGHT
BEGIN:STANDARD
TZOFFSETFROM:-0500
TZOFFSETTO:-0600
TZNAME:CST
DTSTART:20251102T070000
END:STANDARD
BEGIN:DAYLIGHT
TZOFFSETFROM:-0600
TZOFFSETTO:-0500
TZNAME:CDT
DTSTART:20260308T080000
END:DAYLIGHT
BEGIN:STANDARD
TZOFFSETFROM:-0500
TZOFFSETTO:-0600
TZNAME:CST
DTSTART:20261101T070000
END:STANDARD
BEGIN:DAYLIGHT
TZOFFSETFROM:-0600
TZOFFSETTO:-0500
TZNAME:CDT
DTSTART:20270314T080000
END:DAYLIGHT
BEGIN:STANDARD
TZOFFSETFROM:-0500
TZOFFSETTO:-0600
TZNAME:CST
DTSTART:20271107T070000
END:STANDARD
END:VTIMEZONE
BEGIN:VEVENT
DTSTART;TZID=America/Chicago:20260419T070000
DTEND;TZID=America/Chicago:20260419T080000
DTSTAMP:20260421T145310
CREATED:20260319T131539Z
LAST-MODIFIED:20260319T131539Z
UID:10007385-1776582000-1776585600@www.gurneeparkdistrict.com
SUMMARY:Member Lap Swim
DESCRIPTION:Reserved for FitNation members or day pass visitors. Lifeguards WILL NOT be on duty during member lap swim. View FitNation Pool Rules and Regulations
URL:https://www.gurneeparkdistrict.com/event/member-lap-swim-1547/
LOCATION:FitNation\, 1655 Nations Drive\, Gurnee\, IL\, 60031\, United States
CATEGORIES:FitNation Lap Swim
ATTACH;FMTTYPE=image/png:https://www.gurneeparkdistrict.com/wp-content/uploads/2024/02/Lap-Swim.png
END:VEVENT
BEGIN:VEVENT
DTSTART;TZID=America/Chicago:20260419T070000
DTEND;TZID=America/Chicago:20260419T090000
DTSTAMP:20260421T145310
CREATED:20260319T130922Z
LAST-MODIFIED:20260319T130922Z
UID:10007342-1776582000-1776589200@www.gurneeparkdistrict.com
SUMMARY:Open Pickleball
DESCRIPTION:FREE for FitNation Members\n$5 Fee at Hunt Club and $15 Fee at Nations Drive for Non Members\nPickleball nets will be set up for those who would like to drop-in to practices or play with a group.  Equipment is available to rent and return.  \nPlease note the following safety requests prior to participating:  \n1. Children 8 years and under must be accompanied by an adult\n2. Children 9-11 years old must have a parent or guardian present in the facility\n3. Proof of FitNation membership or payment must be made prior to participating\n4. Only those Gym Drop-In participants are allowed to participate.\n5. Gym shoes must be worn on the court\n6. Street shoes\, roller shoes and Heelys are not permitted\n7. Proper athletic attire must be worn\n8. Bottled water is the only food/beverage permitted\n9. Foul or abusive language or physical confrontation will result in immediate expulsion from the facility\n10. No person or team can own a specific pickleball court\n11. If only one pickleball court is available\, side courts might be required based on age\, skill level and the number of participants\n12. Teaching private lessons and conducting team practices are not permitted\n13. Hunt Club Park Community Center reserves the right to cancel and/or change the Drop-In schedule at any time \nFailure to adhere to any rule can lead to being asked to leave the facility and could result in revocation of FitNation membership\, suspension or banning from Gurnee Park District locations. Thank you for your cooperation.
URL:https://www.gurneeparkdistrict.com/event/open-pickleball-287/
LOCATION:Hunt Club Park Community Center\, 920 North Hunt Club Road\, Gurnee\, IL\, 60031\, United States
CATEGORIES:Hunt Club Pickleball
ATTACH;FMTTYPE=image/png:https://www.gurneeparkdistrict.com/wp-content/uploads/2024/02/HC-Pickleball.png
END:VEVENT
BEGIN:VEVENT
DTSTART;TZID=America/Chicago:20260419T070000
DTEND;TZID=America/Chicago:20260419T190000
DTSTAMP:20260421T145310
CREATED:20260319T132254Z
LAST-MODIFIED:20260319T132254Z
UID:10007442-1776582000-1776625200@www.gurneeparkdistrict.com
SUMMARY:FitNation Pickleball - Reservations Required
DESCRIPTION:1) Pickleball is reserved for FitNation members only.\n2) All pickleball players must check-in at the front desk prior to entering the Flex Studio.\n3) Reservations for pickleball play must be made online via our website and will only be held for 15 minutes past the start time of the reservation. The court will be released if the players don’t show by that time.\n4) Reservations made can be no longer than 1 hour per person/group. Multiple people in the same group cannot reserve the court for each person for 1 hour\n5) All group members need to be listed when the reservation is made.\n6) Paddles must be checked out from the front desk and a photo id is required in exchange for the equipment.\n7) Inappropriate language and fighting are prohibited at all times.
URL:https://www.gurneeparkdistrict.com/event/fitnation-pickleball-reservations-required-1090/
LOCATION:FitNation\, 1655 Nations Drive\, Gurnee\, IL\, 60031\, United States
CATEGORIES:FitNation Pickleball
ATTACH;FMTTYPE=image/png:https://www.gurneeparkdistrict.com/wp-content/uploads/2024/04/FN-Pickleball_1.png
END:VEVENT
BEGIN:VEVENT
DTSTART;TZID=America/Chicago:20260419T083000
DTEND;TZID=America/Chicago:20260419T092000
DTSTAMP:20260421T145310
CREATED:20260327T132817Z
LAST-MODIFIED:20260327T132817Z
UID:10007596-1776587400-1776590400@www.gurneeparkdistrict.com
SUMMARY:Cycle with Tiffany
DESCRIPTION:An awesome indoor cycling class that provides fun and a challenging cardiovascular workout for all fitness levels. \nDue to limited space\, this class is available to 23 members on a first come\, first serve basis.
URL:https://www.gurneeparkdistrict.com/event/cycle-with-tiffany-217/
LOCATION:FitNation\, 1655 Nations Drive\, Gurnee\, IL\, 60031\, United States
CATEGORIES:Group Exercise
ATTACH;FMTTYPE=image/png:https://www.gurneeparkdistrict.com/wp-content/uploads/2024/01/FitN2020_Group_Ex_Square_1.png
END:VEVENT
BEGIN:VEVENT
DTSTART;TZID=America/Chicago:20260419T084500
DTEND;TZID=America/Chicago:20260419T094000
DTSTAMP:20260421T145310
CREATED:20260327T132818Z
LAST-MODIFIED:20260327T132818Z
UID:10007597-1776588300-1776591600@www.gurneeparkdistrict.com
SUMMARY:Body Balance with Amy
DESCRIPTION:A Yoga\, Tai Chi\, Pilates workout that builds flexibility\, strength and leaves you feeling centered and calm.
URL:https://www.gurneeparkdistrict.com/event/body-balance-with-amy-101/
LOCATION:FitNation\, 1655 Nations Drive\, Gurnee\, IL\, 60031\, United States
CATEGORIES:Group Exercise
ATTACH;FMTTYPE=image/png:https://www.gurneeparkdistrict.com/wp-content/uploads/2024/01/FitN2020_Group_Ex_Square_1.png
END:VEVENT
BEGIN:VEVENT
DTSTART;TZID=America/Chicago:20260419T090000
DTEND;TZID=America/Chicago:20260419T103000
DTSTAMP:20260421T145310
CREATED:20251111T201411Z
LAST-MODIFIED:20260325T132412Z
UID:10005543-1776589200-1776594600@www.gurneeparkdistrict.com
SUMMARY:GO Gurnee Walking & Wagging
DESCRIPTION:Join us for a FREE GO Gurnee “Walking and Wagging” event on Sunday\, April 19!\n \nBring your four-legged best friend for a guided walk around the trails of University Park! Attendees will receive FREE pet-friendly GO Gurnee gifts (while supplies last).\n \nSunday\, April 19\n9:00-10:30am\nUniversity Park | 3858 University Ave.\n \nThis is a FREE event\, but please make sure to register!
URL:https://www.gurneeparkdistrict.com/event/go-gurnee-walkin-waggin-2/
LOCATION:university park\, 3858 University Avenue\, Gurnee\, IL\, 60031\, United States
CATEGORIES:GO Gurnee,Special Events
ATTACH;FMTTYPE=image/png:https://www.gurneeparkdistrict.com/wp-content/uploads/2025/02/GPD-2024-GO-Gurnee-Walking-Wagging-September_Calendar-1080-x-1080.png
END:VEVENT
BEGIN:VEVENT
DTSTART;TZID=America/Chicago:20260419T093000
DTEND;TZID=America/Chicago:20260419T100000
DTSTAMP:20260421T145310
CREATED:20260327T132818Z
LAST-MODIFIED:20260327T132818Z
UID:10007598-1776591000-1776592800@www.gurneeparkdistrict.com
SUMMARY:Core and More with Elizabeth
DESCRIPTION:Core & More: 30 or 45 minutes of Core Blast training combined with multi muscular strength moves.
URL:https://www.gurneeparkdistrict.com/event/core-and-more-with-elizabeth-105/
LOCATION:FitNation\, 1655 Nations Drive\, Gurnee\, IL\, 60031\, United States
CATEGORIES:Group Exercise
ATTACH;FMTTYPE=image/png:https://www.gurneeparkdistrict.com/wp-content/uploads/2024/01/FitN2020_Group_Ex_Square_1.png
END:VEVENT
BEGIN:VEVENT
DTSTART;TZID=America/Chicago:20260419T100000
DTEND;TZID=America/Chicago:20260419T110000
DTSTAMP:20260421T145310
CREATED:20260327T132819Z
LAST-MODIFIED:20260327T132819Z
UID:10007599-1776592800-1776596400@www.gurneeparkdistrict.com
SUMMARY:Body Combat with Elizabeth
DESCRIPTION:This fiercely energetic cardio program is inspired by martial arts and draws from a wide array of disciplines such as Karate\, Tae Kwon Do\, Tai Chi and Muay Thai\, supported by powerful music.
URL:https://www.gurneeparkdistrict.com/event/body-combat-with-elizabeth-425/
LOCATION:FitNation\, 1655 Nations Drive\, Gurnee\, IL\, 60031\, United States
CATEGORIES:Group Exercise
ATTACH;FMTTYPE=image/png:https://www.gurneeparkdistrict.com/wp-content/uploads/2024/01/FitN2020_Group_Ex_Square_1.png
END:VEVENT
BEGIN:VEVENT
DTSTART;TZID=America/Chicago:20260419T123000
DTEND;TZID=America/Chicago:20260419T183000
DTSTAMP:20260421T145310
CREATED:20260319T131540Z
LAST-MODIFIED:20260319T131540Z
UID:10007386-1776601800-1776623400@www.gurneeparkdistrict.com
SUMMARY:Member Lap Swim
DESCRIPTION:Reserved for FitNation members or day pass visitors. Lifeguards WILL NOT be on duty during member lap swim. View FitNation Pool Rules and Regulations
URL:https://www.gurneeparkdistrict.com/event/member-lap-swim-1548/
LOCATION:FitNation\, 1655 Nations Drive\, Gurnee\, IL\, 60031\, United States
CATEGORIES:FitNation Lap Swim
ATTACH;FMTTYPE=image/png:https://www.gurneeparkdistrict.com/wp-content/uploads/2024/02/Lap-Swim.png
END:VEVENT
END:VCALENDAR