BEGIN:VCALENDAR
VERSION:2.0
PRODID:-//Gurnee Park District - ECPv6.15.20//NONSGML v1.0//EN
CALSCALE:GREGORIAN
METHOD:PUBLISH
X-ORIGINAL-URL:https://www.gurneeparkdistrict.com
X-WR-CALDESC:Events for Gurnee Park District
REFRESH-INTERVAL;VALUE=DURATION:PT1H
X-Robots-Tag:noindex
X-PUBLISHED-TTL:PT1H
BEGIN:VTIMEZONE
TZID:America/Chicago
BEGIN:DAYLIGHT
TZOFFSETFROM:-0600
TZOFFSETTO:-0500
TZNAME:CDT
DTSTART:20250309T080000
END:DAYLIGHT
BEGIN:STANDARD
TZOFFSETFROM:-0500
TZOFFSETTO:-0600
TZNAME:CST
DTSTART:20251102T070000
END:STANDARD
BEGIN:DAYLIGHT
TZOFFSETFROM:-0600
TZOFFSETTO:-0500
TZNAME:CDT
DTSTART:20260308T080000
END:DAYLIGHT
BEGIN:STANDARD
TZOFFSETFROM:-0500
TZOFFSETTO:-0600
TZNAME:CST
DTSTART:20261101T070000
END:STANDARD
BEGIN:DAYLIGHT
TZOFFSETFROM:-0600
TZOFFSETTO:-0500
TZNAME:CDT
DTSTART:20270314T080000
END:DAYLIGHT
BEGIN:STANDARD
TZOFFSETFROM:-0500
TZOFFSETTO:-0600
TZNAME:CST
DTSTART:20271107T070000
END:STANDARD
END:VTIMEZONE
BEGIN:VEVENT
DTSTART;TZID=America/Chicago:20260414T113000
DTEND;TZID=America/Chicago:20260414T130000
DTSTAMP:20260420T220725
CREATED:20260219T220551Z
LAST-MODIFIED:20260219T220551Z
UID:10006917-1776166200-1776171600@www.gurneeparkdistrict.com
SUMMARY:Monthly Mixer (55+) - Cruising into Spring
DESCRIPTION:Set sail for a tropical getaway at our April mixer! \nEnjoy a Beach Club sub sandwich from Jimmy Johns\, chips\, and a tropical dessert. Following lunch\, keep the cruise vibes going with the sounds of tropical music from “Tropixplosion Solo Steel Drums” that will transport you straight to the islands! \nTuesday\, April 14\n11:30am-1:00pm\nViking Park Dance Hall\n*Registration Deadline 4/9 \nSave your seat!
URL:https://www.gurneeparkdistrict.com/event/monthly-mixer-55-cruising-into-spring/
LOCATION:Viking Park Community Center\, 4374 Old Grand Avenue\, Gurnee\, IL\, 60031\, United States
CATEGORIES:Special Events
ATTACH;FMTTYPE=image/png:https://www.gurneeparkdistrict.com/wp-content/uploads/2024/05/MONTHLY-MIXERS-55-1.png
END:VEVENT
END:VCALENDAR