BEGIN:VCALENDAR
VERSION:2.0
PRODID:-//Gurnee Park District - ECPv6.15.20//NONSGML v1.0//EN
CALSCALE:GREGORIAN
METHOD:PUBLISH
X-ORIGINAL-URL:https://www.gurneeparkdistrict.com
X-WR-CALDESC:Events for Gurnee Park District
REFRESH-INTERVAL;VALUE=DURATION:PT1H
X-Robots-Tag:noindex
X-PUBLISHED-TTL:PT1H
BEGIN:VTIMEZONE
TZID:America/Chicago
BEGIN:DAYLIGHT
TZOFFSETFROM:-0600
TZOFFSETTO:-0500
TZNAME:CDT
DTSTART:20250309T080000
END:DAYLIGHT
BEGIN:STANDARD
TZOFFSETFROM:-0500
TZOFFSETTO:-0600
TZNAME:CST
DTSTART:20251102T070000
END:STANDARD
BEGIN:DAYLIGHT
TZOFFSETFROM:-0600
TZOFFSETTO:-0500
TZNAME:CDT
DTSTART:20260308T080000
END:DAYLIGHT
BEGIN:STANDARD
TZOFFSETFROM:-0500
TZOFFSETTO:-0600
TZNAME:CST
DTSTART:20261101T070000
END:STANDARD
BEGIN:DAYLIGHT
TZOFFSETFROM:-0600
TZOFFSETTO:-0500
TZNAME:CDT
DTSTART:20270314T080000
END:DAYLIGHT
BEGIN:STANDARD
TZOFFSETFROM:-0500
TZOFFSETTO:-0600
TZNAME:CST
DTSTART:20271107T070000
END:STANDARD
END:VTIMEZONE
BEGIN:VEVENT
DTSTART;TZID=America/Chicago:20260328T083000
DTEND;TZID=America/Chicago:20260328T110000
DTSTAMP:20260421T225926
CREATED:20251111T201032Z
LAST-MODIFIED:20251215T205812Z
UID:10005542-1774686600-1774695600@www.gurneeparkdistrict.com
SUMMARY:Bunny Bash
DESCRIPTION:Families are sure to have a hare-raising\, egg-citing\, and egg-cellent time at this fun filled event! Event includes Easter Egg Hunt\, craft\, and continental breakfast and pictures with the Easter Bunny. Event areas are staggered based on age groups to allow for smaller numbers while inside. \nParents and children must preregister for this event\, and an adult 18+ must attend with their children. Parents and children 10 years & up attending the event MUST register for the breakfast only option. \nSaturday\, March 28\nThree sessions to choose from:\n    – 8:30-9:30am\n    – 9:15-10:15am\n    – 10:00-11:00am\nViking Park  \nThank you to our sponsor\, BCU\, for making this event possible! \nSave your spot!
URL:https://www.gurneeparkdistrict.com/event/bunny-bash-3/
LOCATION:Viking Park Community Center\, 4374 Old Grand Avenue\, Gurnee\, IL\, 60031\, United States
CATEGORIES:Special Events
ATTACH;FMTTYPE=image/png:https://www.gurneeparkdistrict.com/wp-content/uploads/2024/11/GPD2025_Bunny-Bash_Instagram-Post-Pt-1-1080-x-1080.png
END:VEVENT
BEGIN:VEVENT
DTSTART;TZID=America/Chicago:20260328T120000
DTEND;TZID=America/Chicago:20260328T150000
DTSTAMP:20260421T225926
CREATED:20251106T184031Z
LAST-MODIFIED:20251111T202415Z
UID:10005527-1774699200-1774710000@www.gurneeparkdistrict.com
SUMMARY:Youth Learn to Sew Workshop - Custom Stuffie
DESCRIPTION:Choose your fabric\, cut using templates\, and sew together your very own one-of-a-kind stuffed friend. \nSaturday\, March 28\n12:00-3:00pm\nHunt Club Park Community Center\nAges 9-13 \nSave your spot! \nLearn to Sew Workshops with Loopy Connections – Discover the joy of sewing in a relaxed\, project-based format led by Loopy Connections\, Northern Illinois’ community fiber-arts nonprofit. Youth workshops will provide hands-on guidance in learning the basics of a sewing machine\, understanding the parts\, threading\, loading a bobbin\, and sewing simple seams.  \nEach class features a different\, fun\, beginner-friendly project to take home\, so you can sign up for just one or return for multiple workshops to continue building skills\, confidence\, and creativity at your own page.  \nNo prior sewing experience required.\nAll materials and equipment provided. 
URL:https://www.gurneeparkdistrict.com/event/youth-learn-to-sew-workshop-custom-stuffie/
LOCATION:Hunt Club Park Community Center\, 920 North Hunt Club Road\, Gurnee\, IL\, 60031\, United States
CATEGORIES:Special Events
ATTACH;FMTTYPE=image/png:https://www.gurneeparkdistrict.com/wp-content/uploads/2025/11/GPD2026_Learn_to_Sew_Workshops.png
END:VEVENT
END:VCALENDAR