BEGIN:VCALENDAR
VERSION:2.0
PRODID:-//Gurnee Park District - ECPv6.15.20//NONSGML v1.0//EN
CALSCALE:GREGORIAN
METHOD:PUBLISH
X-WR-CALNAME:Gurnee Park District
X-ORIGINAL-URL:https://www.gurneeparkdistrict.com
X-WR-CALDESC:Events for Gurnee Park District
REFRESH-INTERVAL;VALUE=DURATION:PT1H
X-Robots-Tag:noindex
X-PUBLISHED-TTL:PT1H
BEGIN:VTIMEZONE
TZID:America/Chicago
BEGIN:DAYLIGHT
TZOFFSETFROM:-0600
TZOFFSETTO:-0500
TZNAME:CDT
DTSTART:20250309T080000
END:DAYLIGHT
BEGIN:STANDARD
TZOFFSETFROM:-0500
TZOFFSETTO:-0600
TZNAME:CST
DTSTART:20251102T070000
END:STANDARD
BEGIN:DAYLIGHT
TZOFFSETFROM:-0600
TZOFFSETTO:-0500
TZNAME:CDT
DTSTART:20260308T080000
END:DAYLIGHT
BEGIN:STANDARD
TZOFFSETFROM:-0500
TZOFFSETTO:-0600
TZNAME:CST
DTSTART:20261101T070000
END:STANDARD
BEGIN:DAYLIGHT
TZOFFSETFROM:-0600
TZOFFSETTO:-0500
TZNAME:CDT
DTSTART:20270314T080000
END:DAYLIGHT
BEGIN:STANDARD
TZOFFSETFROM:-0500
TZOFFSETTO:-0600
TZNAME:CST
DTSTART:20271107T070000
END:STANDARD
END:VTIMEZONE
BEGIN:VEVENT
DTSTART;TZID=America/Chicago:20260327T063000
DTEND;TZID=America/Chicago:20260327T180000
DTSTAMP:20260423T121444
CREATED:20251106T174257Z
LAST-MODIFIED:20251106T174257Z
UID:10005519-1774593000-1774634400@www.gurneeparkdistrict.com
SUMMARY:Days Off School - "Tropical Day"
DESCRIPTION:Kids will celebrate island vibes with creative crafts\, lively games\, and tropical-themed fun. \nPlease bring a sack lunch\, water bottle\, and dress for the weather (some activities may be held outside\, weather permitting). \nSave your spot!
URL:https://www.gurneeparkdistrict.com/event/days-off-school-tropical-day/
LOCATION:Hunt Club Park Community Center\, 920 North Hunt Club Road\, Gurnee\, IL\, 60031\, United States
CATEGORIES:Special Events
ATTACH;FMTTYPE=image/png:https://www.gurneeparkdistrict.com/wp-content/uploads/2025/06/GPD-2024-Days-Off-School_Calendar-District-50-56-1080-x-1080.png
END:VEVENT
BEGIN:VEVENT
DTSTART;TZID=America/Chicago:20260327T160000
DTEND;TZID=America/Chicago:20260327T173000
DTSTAMP:20260423T121444
CREATED:20251106T170546Z
LAST-MODIFIED:20260312T165317Z
UID:10005509-1774627200-1774632600@www.gurneeparkdistrict.com
SUMMARY:CANCELED Spring Break Dance Camps - "Enchanted Forest"
DESCRIPTION:This event has been CANCELED due to low enrollment. \nDance like faeries\, woodland creatures\, and magical friends in a whimsical forest adventure! \nFriday\, March 27\n4:00-5:30pm\nHunt Club Park Community Center\nAges 5-7 \nSpring Break Dance Camps – a week of movement\, music\, and fun! Dancers of all levels can join for one day\, several days\, or the full week to explore different styles\, learn new skills\, and play creative games.  \nSave your spot!
URL:https://www.gurneeparkdistrict.com/event/spring-break-dance-camps-enchanted-forest/
LOCATION:Hunt Club Park Community Center\, 920 North Hunt Club Road\, Gurnee\, IL\, 60031\, United States
CATEGORIES:Special Events
ATTACH;FMTTYPE=image/png:https://www.gurneeparkdistrict.com/wp-content/uploads/2025/11/1.png
END:VEVENT
BEGIN:VEVENT
DTSTART;TZID=America/Chicago:20260327T160000
DTEND;TZID=America/Chicago:20260327T173000
DTSTAMP:20260423T121444
CREATED:20251106T173259Z
LAST-MODIFIED:20260312T165407Z
UID:10005514-1774627200-1774632600@www.gurneeparkdistrict.com
SUMMARY:CANCELED Spring Break Theatre Camps - "Wild World"
DESCRIPTION:This event has been CANCELED due to low enrollment. \nInvent zany characters and crazy adventures in your own imaginative worlds! \nFriday\, March 27\n4:00-5:30pm\nHunt Club Park Community Center\nAges 8-12 \nSpring Break Theatre Camps – Lights\, laughter\, action! Campers can register for one day\, multiple days\, or the full week to build acting\, creativity\, and teamwork skills through theatre games\, scene work\, and imaginative storytelling.   \nSave your spot!
URL:https://www.gurneeparkdistrict.com/event/spring-break-theatre-camps-wild-world/
LOCATION:Hunt Club Park Community Center\, 920 North Hunt Club Road\, Gurnee\, IL\, 60031\, United States
CATEGORIES:Special Events
ATTACH;FMTTYPE=image/png:https://www.gurneeparkdistrict.com/wp-content/uploads/2025/11/2.png
END:VEVENT
END:VCALENDAR