BEGIN:VCALENDAR
VERSION:2.0
PRODID:-//Gurnee Park District - ECPv6.15.20//NONSGML v1.0//EN
CALSCALE:GREGORIAN
METHOD:PUBLISH
X-WR-CALNAME:Gurnee Park District
X-ORIGINAL-URL:https://www.gurneeparkdistrict.com
X-WR-CALDESC:Events for Gurnee Park District
REFRESH-INTERVAL;VALUE=DURATION:PT1H
X-Robots-Tag:noindex
X-PUBLISHED-TTL:PT1H
BEGIN:VTIMEZONE
TZID:America/Chicago
BEGIN:DAYLIGHT
TZOFFSETFROM:-0600
TZOFFSETTO:-0500
TZNAME:CDT
DTSTART:20250309T080000
END:DAYLIGHT
BEGIN:STANDARD
TZOFFSETFROM:-0500
TZOFFSETTO:-0600
TZNAME:CST
DTSTART:20251102T070000
END:STANDARD
BEGIN:DAYLIGHT
TZOFFSETFROM:-0600
TZOFFSETTO:-0500
TZNAME:CDT
DTSTART:20260308T080000
END:DAYLIGHT
BEGIN:STANDARD
TZOFFSETFROM:-0500
TZOFFSETTO:-0600
TZNAME:CST
DTSTART:20261101T070000
END:STANDARD
BEGIN:DAYLIGHT
TZOFFSETFROM:-0600
TZOFFSETTO:-0500
TZNAME:CDT
DTSTART:20270314T080000
END:DAYLIGHT
BEGIN:STANDARD
TZOFFSETFROM:-0500
TZOFFSETTO:-0600
TZNAME:CST
DTSTART:20271107T070000
END:STANDARD
END:VTIMEZONE
BEGIN:VEVENT
DTSTART;TZID=America/Chicago:20260323T063000
DTEND;TZID=America/Chicago:20260323T180000
DTSTAMP:20260423T103351
CREATED:20251104T214105Z
LAST-MODIFIED:20251104T214105Z
UID:10005493-1774247400-1774288800@www.gurneeparkdistrict.com
SUMMARY:Days Off School - "Magic and Mystery"
DESCRIPTION:A day of surprise awaits! Children will explore magic tricks\, solve mysteries\, and enjoy creative crafts. \nPlease bring a sack lunch\, water bottle\, and dress for the weather (some activities may be held outside\, weather permitting). \nSave your spot!
URL:https://www.gurneeparkdistrict.com/event/days-off-school-magic-and-mystery/
LOCATION:Hunt Club Park Community Center\, 920 North Hunt Club Road\, Gurnee\, IL\, 60031\, United States
CATEGORIES:Special Events
ATTACH;FMTTYPE=image/png:https://www.gurneeparkdistrict.com/wp-content/uploads/2024/07/GPD-2024-Days-Off-School_Calendar-District-50-56-1080-x-1080.png
END:VEVENT
BEGIN:VEVENT
DTSTART;TZID=America/Chicago:20260323T160000
DTEND;TZID=America/Chicago:20260323T173000
DTSTAMP:20260423T103351
CREATED:20251105T210921Z
LAST-MODIFIED:20260312T164640Z
UID:10005505-1774281600-1774287000@www.gurneeparkdistrict.com
SUMMARY:CANCELED Spring Break Dance Camps - "Super Moves"
DESCRIPTION:This event has been CANCELED due to low enrollement. \nLeap\, spin\, and strike heroic poses in this action-packed dance adventure! \nMonday\, March 23\n4:00-5:30pm\nHunt Club Park Community Center\nAges 5-7 \nSpring Break Dance Camps – a week of movement\, music\, and fun! Dancers of all levels can join for one day\, several days\, or the full week to explore different styles\, learn new skills\, and play creative games.  \nSave your spot! \n 
URL:https://www.gurneeparkdistrict.com/event/spring-break-dance-camps-super-moves/
LOCATION:Hunt Club Park Community Center\, 920 North Hunt Club Road\, Gurnee\, IL\, 60031\, United States
CATEGORIES:Special Events
ATTACH;FMTTYPE=image/png:https://www.gurneeparkdistrict.com/wp-content/uploads/2025/11/1.png
END:VEVENT
BEGIN:VEVENT
DTSTART;TZID=America/Chicago:20260323T160000
DTEND;TZID=America/Chicago:20260323T173000
DTSTAMP:20260423T103351
CREATED:20251106T171007Z
LAST-MODIFIED:20260312T164733Z
UID:10005510-1774281600-1774287000@www.gurneeparkdistrict.com
SUMMARY:CANCELED Spring Break Theatre Camps - "Storybook Frenzy"
DESCRIPTION:This event has been CANCELED due to low enrollment. \nTurn classic stories upside down with silly twists\, laughs\, and fun! \nMonday\, March 23\n4:00-5:30pm\nHunt Club Park Community Center\nAges 8-12 \nSpring Break Theatre Camps – Lights\, laughter\, action! Campers can register for one day\, multiple days\, or the full week to build acting\, creativity\, and teamwork skills through theatre games\, scene work\, and imaginative storytelling.   \nSave your spot!
URL:https://www.gurneeparkdistrict.com/event/spring-break-theatre-camps-storybook-frenzy/
LOCATION:Hunt Club Park Community Center\, 920 North Hunt Club Road\, Gurnee\, IL\, 60031\, United States
CATEGORIES:Special Events
ATTACH;FMTTYPE=image/png:https://www.gurneeparkdistrict.com/wp-content/uploads/2025/11/2.png
END:VEVENT
BEGIN:VEVENT
DTSTART;TZID=America/Chicago:20260323T180000
DTEND;TZID=America/Chicago:20260323T200000
DTSTAMP:20260423T103351
CREATED:20251106T173925Z
LAST-MODIFIED:20251106T173925Z
UID:10005515-1774288800-1774296000@www.gurneeparkdistrict.com
SUMMARY:Spring Break Open Studio Dance
DESCRIPTION:Polish your skills in a supportive\, open studio environment! Instructors will be on hand to offer tips\, feedback\, and guidance – perfect for preparing for your next audition or tryout! \nMonday\, March 23-Thursday\, March 26\n6:00-8:00pm\nHunt Club Park Community Center\nAges 13-17\nDaily Fee: $10R/$13NR \nSign up here!
URL:https://www.gurneeparkdistrict.com/event/spring-break-open-studio-dance/2026-03-23/
LOCATION:Hunt Club Park Community Center\, 920 North Hunt Club Road\, Gurnee\, IL\, 60031\, United States
CATEGORIES:Special Events
ATTACH;FMTTYPE=image/png:https://www.gurneeparkdistrict.com/wp-content/uploads/2025/11/3.png
END:VEVENT
END:VCALENDAR