BEGIN:VCALENDAR
VERSION:2.0
PRODID:-//Gurnee Park District - ECPv6.15.20//NONSGML v1.0//EN
CALSCALE:GREGORIAN
METHOD:PUBLISH
X-ORIGINAL-URL:https://www.gurneeparkdistrict.com
X-WR-CALDESC:Events for Gurnee Park District
REFRESH-INTERVAL;VALUE=DURATION:PT1H
X-Robots-Tag:noindex
X-PUBLISHED-TTL:PT1H
BEGIN:VTIMEZONE
TZID:America/Chicago
BEGIN:DAYLIGHT
TZOFFSETFROM:-0600
TZOFFSETTO:-0500
TZNAME:CDT
DTSTART:20250309T080000
END:DAYLIGHT
BEGIN:STANDARD
TZOFFSETFROM:-0500
TZOFFSETTO:-0600
TZNAME:CST
DTSTART:20251102T070000
END:STANDARD
BEGIN:DAYLIGHT
TZOFFSETFROM:-0600
TZOFFSETTO:-0500
TZNAME:CDT
DTSTART:20260308T080000
END:DAYLIGHT
BEGIN:STANDARD
TZOFFSETFROM:-0500
TZOFFSETTO:-0600
TZNAME:CST
DTSTART:20261101T070000
END:STANDARD
BEGIN:DAYLIGHT
TZOFFSETFROM:-0600
TZOFFSETTO:-0500
TZNAME:CDT
DTSTART:20270314T080000
END:DAYLIGHT
BEGIN:STANDARD
TZOFFSETFROM:-0500
TZOFFSETTO:-0600
TZNAME:CST
DTSTART:20271107T070000
END:STANDARD
END:VTIMEZONE
BEGIN:VEVENT
DTSTART;TZID=America/Chicago:20260307T183000
DTEND;TZID=America/Chicago:20260307T213000
DTSTAMP:20260422T094507
CREATED:20251107T203254Z
LAST-MODIFIED:20251107T203254Z
UID:10005537-1772908200-1772919000@www.gurneeparkdistrict.com
SUMMARY:Board Game Blitz (21+)
DESCRIPTION:If you love playing board games and are a little or a lot competitive\, then get a team of 4 together for the 1st Adult Game Night Tournament at Bittersweet Golf Club! Teams of four players will play between 4-6 different board games rotat\,ing games/tables throughout the evening. Each team will receive points for the position their team is in at the end of each game. At the end of the night\, points will be totaled to see which team wins the Great Board Game Blitz! \nFood\, snacks\, and cocktails will be available for purchase at Bittersweet’s “Fireside Grill”.  \nSaturday\, March 7\n6:30-9:30pm\nBittersweet Golf Club\n$10R/$13NR \nRegistration deadline: 2/27/26 \nSave your spot!
URL:https://www.gurneeparkdistrict.com/event/board-game-blitz-21/
LOCATION:Bittersweet Golf Course\, 875 Almond Road\, Gurnee\, IL\, 60031\, United States
CATEGORIES:Special Events
ATTACH;FMTTYPE=image/png:https://www.gurneeparkdistrict.com/wp-content/uploads/2025/11/Board-Game-Blitz.png
END:VEVENT
END:VCALENDAR