BEGIN:VCALENDAR
VERSION:2.0
PRODID:-//Gurnee Park District - ECPv6.15.20//NONSGML v1.0//EN
CALSCALE:GREGORIAN
METHOD:PUBLISH
X-WR-CALNAME:Gurnee Park District
X-ORIGINAL-URL:https://www.gurneeparkdistrict.com
X-WR-CALDESC:Events for Gurnee Park District
REFRESH-INTERVAL;VALUE=DURATION:PT1H
X-Robots-Tag:noindex
X-PUBLISHED-TTL:PT1H
BEGIN:VTIMEZONE
TZID:America/Chicago
BEGIN:DAYLIGHT
TZOFFSETFROM:-0600
TZOFFSETTO:-0500
TZNAME:CDT
DTSTART:20250309T080000
END:DAYLIGHT
BEGIN:STANDARD
TZOFFSETFROM:-0500
TZOFFSETTO:-0600
TZNAME:CST
DTSTART:20251102T070000
END:STANDARD
BEGIN:DAYLIGHT
TZOFFSETFROM:-0600
TZOFFSETTO:-0500
TZNAME:CDT
DTSTART:20260308T080000
END:DAYLIGHT
BEGIN:STANDARD
TZOFFSETFROM:-0500
TZOFFSETTO:-0600
TZNAME:CST
DTSTART:20261101T070000
END:STANDARD
BEGIN:DAYLIGHT
TZOFFSETFROM:-0600
TZOFFSETTO:-0500
TZNAME:CDT
DTSTART:20270314T080000
END:DAYLIGHT
BEGIN:STANDARD
TZOFFSETFROM:-0500
TZOFFSETTO:-0600
TZNAME:CST
DTSTART:20271107T070000
END:STANDARD
END:VTIMEZONE
BEGIN:VEVENT
DTSTART;TZID=America/Chicago:20260119T063000
DTEND;TZID=America/Chicago:20260119T180000
DTSTAMP:20260423T183101
CREATED:20250708T160826Z
LAST-MODIFIED:20251104T212832Z
UID:10003491-1768804200-1768845600@www.gurneeparkdistrict.com
SUMMARY:Days Off School - "Hollywood Day"
DESCRIPTION:Roll out the red carpet for Hollywood Day! Kids will step into the spotlight as they create their own movie stars\, design costumes\, and participate in fun movie inspired games and challenges. From acting out scenes to making their own movie trailers\, it’s a day full of creativity\, glam\, and lights\, camera\, action!\nPlease bring a sack lunch\, water bottle\, and dress for the weather (some activities may be held outside\, weather permitting).
URL:https://www.gurneeparkdistrict.com/event/days-off-school-hollywood-day-district-50/
LOCATION:Hunt Club Park Community Center\, 920 North Hunt Club Road\, Gurnee\, IL\, 60031\, United States
CATEGORIES:Special Events
ATTACH;FMTTYPE=image/png:https://www.gurneeparkdistrict.com/wp-content/uploads/2025/06/GPD-2024-Days-Off-School_Calendar-District-50-1080-x-1080.png
END:VEVENT
END:VCALENDAR