BEGIN:VCALENDAR
VERSION:2.0
PRODID:-//Gurnee Park District - ECPv6.15.20//NONSGML v1.0//EN
CALSCALE:GREGORIAN
METHOD:PUBLISH
X-WR-CALNAME:Gurnee Park District
X-ORIGINAL-URL:https://www.gurneeparkdistrict.com
X-WR-CALDESC:Events for Gurnee Park District
REFRESH-INTERVAL;VALUE=DURATION:PT1H
X-Robots-Tag:noindex
X-PUBLISHED-TTL:PT1H
BEGIN:VTIMEZONE
TZID:America/Chicago
BEGIN:DAYLIGHT
TZOFFSETFROM:-0600
TZOFFSETTO:-0500
TZNAME:CDT
DTSTART:20250309T080000
END:DAYLIGHT
BEGIN:STANDARD
TZOFFSETFROM:-0500
TZOFFSETTO:-0600
TZNAME:CST
DTSTART:20251102T070000
END:STANDARD
BEGIN:DAYLIGHT
TZOFFSETFROM:-0600
TZOFFSETTO:-0500
TZNAME:CDT
DTSTART:20260308T080000
END:DAYLIGHT
BEGIN:STANDARD
TZOFFSETFROM:-0500
TZOFFSETTO:-0600
TZNAME:CST
DTSTART:20261101T070000
END:STANDARD
BEGIN:DAYLIGHT
TZOFFSETFROM:-0600
TZOFFSETTO:-0500
TZNAME:CDT
DTSTART:20270314T080000
END:DAYLIGHT
BEGIN:STANDARD
TZOFFSETFROM:-0500
TZOFFSETTO:-0600
TZNAME:CST
DTSTART:20271107T070000
END:STANDARD
END:VTIMEZONE
BEGIN:VEVENT
DTSTART;TZID=America/Chicago:20260117T120000
DTEND;TZID=America/Chicago:20260117T150000
DTSTAMP:20260424T005508
CREATED:20251106T184522Z
LAST-MODIFIED:20251106T184537Z
UID:10005528-1768651200-1768662000@www.gurneeparkdistrict.com
SUMMARY:Adult Learn to Sew Workshop - Quilted Glasses Case
DESCRIPTION:Learn basic quilting techniques while sewing through multiple fabric layers to create a padded case for your sunglasses or reading glasses. \nSaturday\, January 17\n12:00-3:00pm\nHunt Club Park Community Center\nAges 14+ \nSave your spot! \nLearn to Sew Workshops with Loopy Connections – Discover the joy of sewing in a relaxed\, project-based format led by Loopy Connections\, Northern Illinois’ community fiber-arts nonprofit. Adult workshops will provide hands-on guidance in learning the basics of a sewing machine\, understanding the parts\, threading\, loading a bobbin\, and sewing simple seams.  \nEach class features a different\, fun\, beginner-friendly project to take home\, so you can sign up for just one or return for multiple workshops to continue building skills\, confidence\, and creativity at your own page.  \nNo prior sewing experience required.\nAll materials and equipment provided. 
URL:https://www.gurneeparkdistrict.com/event/adult-learn-to-sew-workshop-glasses-case/
LOCATION:Hunt Club Park Community Center\, 920 North Hunt Club Road\, Gurnee\, IL\, 60031\, United States
CATEGORIES:Special Events
ATTACH;FMTTYPE=image/png:https://www.gurneeparkdistrict.com/wp-content/uploads/2025/11/GPD2026_Learn_to_Sew_Workshops.png
END:VEVENT
END:VCALENDAR