BEGIN:VCALENDAR
VERSION:2.0
PRODID:-//Gurnee Park District - ECPv6.15.20//NONSGML v1.0//EN
CALSCALE:GREGORIAN
METHOD:PUBLISH
X-ORIGINAL-URL:https://www.gurneeparkdistrict.com
X-WR-CALDESC:Events for Gurnee Park District
REFRESH-INTERVAL;VALUE=DURATION:PT1H
X-Robots-Tag:noindex
X-PUBLISHED-TTL:PT1H
BEGIN:VTIMEZONE
TZID:America/Chicago
BEGIN:DAYLIGHT
TZOFFSETFROM:-0600
TZOFFSETTO:-0500
TZNAME:CDT
DTSTART:20240310T080000
END:DAYLIGHT
BEGIN:STANDARD
TZOFFSETFROM:-0500
TZOFFSETTO:-0600
TZNAME:CST
DTSTART:20241103T070000
END:STANDARD
BEGIN:DAYLIGHT
TZOFFSETFROM:-0600
TZOFFSETTO:-0500
TZNAME:CDT
DTSTART:20250309T080000
END:DAYLIGHT
BEGIN:STANDARD
TZOFFSETFROM:-0500
TZOFFSETTO:-0600
TZNAME:CST
DTSTART:20251102T070000
END:STANDARD
BEGIN:DAYLIGHT
TZOFFSETFROM:-0600
TZOFFSETTO:-0500
TZNAME:CDT
DTSTART:20260308T080000
END:DAYLIGHT
BEGIN:STANDARD
TZOFFSETFROM:-0500
TZOFFSETTO:-0600
TZNAME:CST
DTSTART:20261101T070000
END:STANDARD
END:VTIMEZONE
BEGIN:VEVENT
DTSTART;TZID=America/Chicago:20251222T063000
DTEND;TZID=America/Chicago:20251222T180000
DTSTAMP:20260421T164900
CREATED:20250613T201506Z
LAST-MODIFIED:20250613T201506Z
UID:10003061-1766385000-1766426400@www.gurneeparkdistrict.com
SUMMARY:Days Off School - "Under the Sea Day"
DESCRIPTION:Dive into adventure at Under the Sea day! Kids will swim through a day of ocean-themed crafts\, sea creature games\, and exciting underwater explorations\, learning all about the wonders of the deep blue sea.\nPlease bring a sack lunch\, water bottle\, and dress for the weather (some activities may be held outside\, weather permitting).
URL:https://www.gurneeparkdistrict.com/event/days-off-school-under-the-sea-day/
LOCATION:Hunt Club Park Community Center\, 920 North Hunt Club Road\, Gurnee\, IL\, 60031\, United States
CATEGORIES:Special Events
ATTACH;FMTTYPE=image/png:https://www.gurneeparkdistrict.com/wp-content/uploads/2025/06/GPD-2024-Days-Off-School_Calendar-District-50-56-1080-x-1080.png
END:VEVENT
BEGIN:VEVENT
DTSTART;TZID=America/Chicago:20251222T130000
DTEND;TZID=America/Chicago:20251222T160000
DTSTAMP:20260421T164900
CREATED:20251104T174428Z
LAST-MODIFIED:20251119T151021Z
UID:10005473-1766408400-1766419200@www.gurneeparkdistrict.com
SUMMARY:Winter Break Family Swim
DESCRIPTION:Gather the family and get ready to make a SPLASH! Family Swim times are available throughout Winter Break!  \n$6 (R) | $8 (NR) \nAll participants are required to pay admission\, which can be completed at the front desk upon arrival.
URL:https://www.gurneeparkdistrict.com/event/winter-break-family-swim-2/2025-12-22/
LOCATION:FitNation\, 1655 Nations Drive\, Gurnee\, IL\, 60031\, United States
CATEGORIES:Special Events
ATTACH;FMTTYPE=image/png:https://www.gurneeparkdistrict.com/wp-content/uploads/2025/11/GPD25_Family_Swim.png
END:VEVENT
END:VCALENDAR