BEGIN:VCALENDAR
VERSION:2.0
PRODID:-//Gurnee Park District - ECPv6.15.20//NONSGML v1.0//EN
CALSCALE:GREGORIAN
METHOD:PUBLISH
X-WR-CALNAME:Gurnee Park District
X-ORIGINAL-URL:https://www.gurneeparkdistrict.com
X-WR-CALDESC:Events for Gurnee Park District
REFRESH-INTERVAL;VALUE=DURATION:PT1H
X-Robots-Tag:noindex
X-PUBLISHED-TTL:PT1H
BEGIN:VTIMEZONE
TZID:America/Chicago
BEGIN:DAYLIGHT
TZOFFSETFROM:-0600
TZOFFSETTO:-0500
TZNAME:CDT
DTSTART:20240310T080000
END:DAYLIGHT
BEGIN:STANDARD
TZOFFSETFROM:-0500
TZOFFSETTO:-0600
TZNAME:CST
DTSTART:20241103T070000
END:STANDARD
BEGIN:DAYLIGHT
TZOFFSETFROM:-0600
TZOFFSETTO:-0500
TZNAME:CDT
DTSTART:20250309T080000
END:DAYLIGHT
BEGIN:STANDARD
TZOFFSETFROM:-0500
TZOFFSETTO:-0600
TZNAME:CST
DTSTART:20251102T070000
END:STANDARD
BEGIN:DAYLIGHT
TZOFFSETFROM:-0600
TZOFFSETTO:-0500
TZNAME:CDT
DTSTART:20260308T080000
END:DAYLIGHT
BEGIN:STANDARD
TZOFFSETFROM:-0500
TZOFFSETTO:-0600
TZNAME:CST
DTSTART:20261101T070000
END:STANDARD
END:VTIMEZONE
BEGIN:VEVENT
DTSTART;TZID=America/Chicago:20251123T070000
DTEND;TZID=America/Chicago:20251123T080000
DTSTAMP:20260420T113416
CREATED:20251021T203110Z
LAST-MODIFIED:20251021T203110Z
UID:10004999-1763881200-1763884800@www.gurneeparkdistrict.com
SUMMARY:POOL CLOSED - STAFF TRAINING/ADULT SWIM LESSONS
DESCRIPTION:
URL:https://www.gurneeparkdistrict.com/event/pool-closed-staff-training-adult-swim-lessons-6/
LOCATION:FitNation\, 1655 Nations Drive\, Gurnee\, IL\, 60031\, United States
CATEGORIES:FitNation Lap Swim
ATTACH;FMTTYPE=image/png:https://www.gurneeparkdistrict.com/wp-content/uploads/2024/02/Lap-Swim.png
END:VEVENT
BEGIN:VEVENT
DTSTART;TZID=America/Chicago:20251123T070000
DTEND;TZID=America/Chicago:20251123T090000
DTSTAMP:20260420T113416
CREATED:20251028T154010Z
LAST-MODIFIED:20251028T154010Z
UID:10005245-1763881200-1763888400@www.gurneeparkdistrict.com
SUMMARY:Hunt Club Open Pickleball
DESCRIPTION:FREE for FitNation Members\n$5 Fee at Hunt Club and $15 Fee at Nations Drive for Non Members\nPickleball nets will be set up for those who would like to drop-in to practices or play with a group.  Equipment is available to rent and return.  \nPlease note the following safety requests prior to participating:  \n1. Children 8 years and under must be accompanied by an adult\n2. Children 9-11 years old must have a parent or guardian present in the facility\n3. Proof of FitNation membership or payment must be made prior to participating\n4. Only those Gym Drop-In participants are allowed to participate.\n5. Gym shoes must be worn on the court\n6. Street shoes\, roller shoes and Heelys are not permitted\n7. Proper athletic attire must be worn\n8. Bottled water is the only food/beverage permitted\n9. Foul or abusive language or physical confrontation will result in immediate expulsion from the facility\n10. No person or team can own a specific pickleball court\n11. If only one pickleball court is available\, side courts might be required based on age\, skill level and the number of participants\n12. Teaching private lessons and conducting team practices are not permitted\n13. Hunt Club Park Community Center reserves the right to cancel and/or change the Drop-In schedule at any time \nFailure to adhere to any rule can lead to being asked to leave the facility and could result in revocation of FitNation membership\, suspension or banning from Gurnee Park District locations. Thank you for your cooperation.
URL:https://www.gurneeparkdistrict.com/event/hunt-club-open-pickleball-15/
LOCATION:Hunt Club Park Community Center\, 920 North Hunt Club Road\, Gurnee\, IL\, 60031\, United States
CATEGORIES:Hunt Club Pickleball
ATTACH;FMTTYPE=image/png:https://www.gurneeparkdistrict.com/wp-content/uploads/2024/02/HC-Pickleball.png
END:VEVENT
BEGIN:VEVENT
DTSTART;TZID=America/Chicago:20251123T070000
DTEND;TZID=America/Chicago:20251123T190000
DTSTAMP:20260420T113416
CREATED:20251024T202337Z
LAST-MODIFIED:20251024T202337Z
UID:10005045-1763881200-1763924400@www.gurneeparkdistrict.com
SUMMARY:FitNation Pickleball - Reservations Required
DESCRIPTION:1) Pickleball is reserved for FitNation members only.\n2) All pickleball players must check-in at the front desk prior to entering the Flex Studio.\n3) Reservations for pickleball play must be made online via our website and will only be held for 15 minutes past the start time of the reservation. The court will be released if the players don’t show by that time.\n4) Reservations made can be no longer than 1 hour per person/group. Multiple people in the same group cannot reserve the court for each person for 1 hour\n5) All group members need to be listed when the reservation is made.\n6) Paddles must be checked out from the front desk and a photo id is required in exchange for the equipment.\n7) Inappropriate language and fighting are prohibited at all times.
URL:https://www.gurneeparkdistrict.com/event/fitnation-pickleball-reservations-required-880/
LOCATION:FitNation\, 1655 Nations Drive\, Gurnee\, IL\, 60031\, United States
CATEGORIES:FitNation Pickleball
ATTACH;FMTTYPE=image/png:https://www.gurneeparkdistrict.com/wp-content/uploads/2024/04/FN-Pickleball_1.png
END:VEVENT
BEGIN:VEVENT
DTSTART;TZID=America/Chicago:20251123T083000
DTEND;TZID=America/Chicago:20251123T092000
DTSTAMP:20260420T113416
CREATED:20251028T162316Z
LAST-MODIFIED:20251028T162316Z
UID:10005419-1763886600-1763889600@www.gurneeparkdistrict.com
SUMMARY:Cycle with Tiffany
DESCRIPTION:An awesome indoor cycling class that provides fun and a challenging cardiovascular workout for all fitness levels. \nDue to limited space\, this class is available to 23 members on a first come\, first serve basis.
URL:https://www.gurneeparkdistrict.com/event/cycle-with-tiffany-175/
LOCATION:FitNation\, 1655 Nations Drive\, Gurnee\, IL\, 60031\, United States
CATEGORIES:Group Exercise
ATTACH;FMTTYPE=image/png:https://www.gurneeparkdistrict.com/wp-content/uploads/2024/01/FitN2020_Group_Ex_Square_1.png
END:VEVENT
BEGIN:VEVENT
DTSTART;TZID=America/Chicago:20251123T084500
DTEND;TZID=America/Chicago:20251123T094000
DTSTAMP:20260420T113416
CREATED:20251028T162316Z
LAST-MODIFIED:20251028T162316Z
UID:10005420-1763887500-1763890800@www.gurneeparkdistrict.com
SUMMARY:Body Balance with Amy
DESCRIPTION:A Yoga\, Tai Chi\, Pilates workout that builds flexibility\, strength and leaves you feeling centered and calm.
URL:https://www.gurneeparkdistrict.com/event/body-balance-with-amy-80/
LOCATION:FitNation\, 1655 Nations Drive\, Gurnee\, IL\, 60031\, United States
CATEGORIES:Group Exercise
ATTACH;FMTTYPE=image/png:https://www.gurneeparkdistrict.com/wp-content/uploads/2024/01/FitN2020_Group_Ex_Square_1.png
END:VEVENT
BEGIN:VEVENT
DTSTART;TZID=America/Chicago:20251123T093000
DTEND;TZID=America/Chicago:20251123T100000
DTSTAMP:20260420T113416
CREATED:20251028T162317Z
LAST-MODIFIED:20251028T162317Z
UID:10005421-1763890200-1763892000@www.gurneeparkdistrict.com
SUMMARY:Core and More with Elizabeth
DESCRIPTION:Core & More: 30 or 45 minutes of Core Blast training combined with multi muscular strength moves.
URL:https://www.gurneeparkdistrict.com/event/core-and-more-with-elizabeth-84/
LOCATION:FitNation\, 1655 Nations Drive\, Gurnee\, IL\, 60031\, United States
CATEGORIES:Group Exercise
ATTACH;FMTTYPE=image/png:https://www.gurneeparkdistrict.com/wp-content/uploads/2024/01/FitN2020_Group_Ex_Square_1.png
END:VEVENT
BEGIN:VEVENT
DTSTART;TZID=America/Chicago:20251123T100000
DTEND;TZID=America/Chicago:20251123T110000
DTSTAMP:20260420T113416
CREATED:20251028T162317Z
LAST-MODIFIED:20251028T162317Z
UID:10005422-1763892000-1763895600@www.gurneeparkdistrict.com
SUMMARY:Body Step with Denise
DESCRIPTION:Compelling cardio fitness that shapes and tones the legs\, improves coordination\, bone density\, posture and agility with easy to follow choreographed combinations using an adjustable step platform.
URL:https://www.gurneeparkdistrict.com/event/body-step-with-denise-2/
LOCATION:FitNation\, 1655 Nations Drive\, Gurnee\, IL\, 60031\, United States
CATEGORIES:Group Exercise
ATTACH;FMTTYPE=image/png:https://www.gurneeparkdistrict.com/wp-content/uploads/2024/01/FitN2020_Group_Ex_Square_1.png
END:VEVENT
BEGIN:VEVENT
DTSTART;TZID=America/Chicago:20251123T123000
DTEND;TZID=America/Chicago:20251123T183000
DTSTAMP:20260420T113416
CREATED:20251021T203111Z
LAST-MODIFIED:20251021T203111Z
UID:10005000-1763901000-1763922600@www.gurneeparkdistrict.com
SUMMARY:Member Lap Swim
DESCRIPTION:Reserved for FitNation members or day pass visitors. Lifeguards WILL NOT be on duty during member lap swim. View FitNation Pool Rules and Regulations
URL:https://www.gurneeparkdistrict.com/event/member-lap-swim-1239/
LOCATION:FitNation\, 1655 Nations Drive\, Gurnee\, IL\, 60031\, United States
CATEGORIES:FitNation Lap Swim
ATTACH;FMTTYPE=image/png:https://www.gurneeparkdistrict.com/wp-content/uploads/2024/02/Lap-Swim.png
END:VEVENT
END:VCALENDAR