BEGIN:VCALENDAR
VERSION:2.0
PRODID:-//Gurnee Park District - ECPv6.15.20//NONSGML v1.0//EN
CALSCALE:GREGORIAN
METHOD:PUBLISH
X-WR-CALNAME:Gurnee Park District
X-ORIGINAL-URL:https://www.gurneeparkdistrict.com
X-WR-CALDESC:Events for Gurnee Park District
REFRESH-INTERVAL;VALUE=DURATION:PT1H
X-Robots-Tag:noindex
X-PUBLISHED-TTL:PT1H
BEGIN:VTIMEZONE
TZID:America/Chicago
BEGIN:DAYLIGHT
TZOFFSETFROM:-0600
TZOFFSETTO:-0500
TZNAME:CDT
DTSTART:20240310T080000
END:DAYLIGHT
BEGIN:STANDARD
TZOFFSETFROM:-0500
TZOFFSETTO:-0600
TZNAME:CST
DTSTART:20241103T070000
END:STANDARD
BEGIN:DAYLIGHT
TZOFFSETFROM:-0600
TZOFFSETTO:-0500
TZNAME:CDT
DTSTART:20250309T080000
END:DAYLIGHT
BEGIN:STANDARD
TZOFFSETFROM:-0500
TZOFFSETTO:-0600
TZNAME:CST
DTSTART:20251102T070000
END:STANDARD
BEGIN:DAYLIGHT
TZOFFSETFROM:-0600
TZOFFSETTO:-0500
TZNAME:CDT
DTSTART:20260308T080000
END:DAYLIGHT
BEGIN:STANDARD
TZOFFSETFROM:-0500
TZOFFSETTO:-0600
TZNAME:CST
DTSTART:20261101T070000
END:STANDARD
END:VTIMEZONE
BEGIN:VEVENT
DTSTART;TZID=America/Chicago:20251002T063000
DTEND;TZID=America/Chicago:20251002T180000
DTSTAMP:20260420T033020
CREATED:20250611T141602Z
LAST-MODIFIED:20250611T141625Z
UID:10003049-1759386600-1759428000@www.gurneeparkdistrict.com
SUMMARY:Days Off School - "Bugs and Butterflies Day"
DESCRIPTION:Grab your magnifying glasses and get ready to explore the world of insects at Bugs and Butterfly Day! Kids will dive into fun experiences like bug hunts\, butterfly crafts\, and nature walks.\nPlease bring a sack lunch\, water bottle\, and dress for the weather (some activities may be held outside\, weather permitting). \nThis is a non-school day for District 56 students. Minimum number of participants: 15
URL:https://www.gurneeparkdistrict.com/event/19945/
LOCATION:Viking Park Community Center\, 4374 Old Grand Avenue\, Gurnee\, IL\, 60031\, United States
CATEGORIES:Special Events
ATTACH;FMTTYPE=image/png:https://www.gurneeparkdistrict.com/wp-content/uploads/2025/06/GPD-2024-Days-Off-School_Calendar-District-56-1080-x-1080.png
END:VEVENT
END:VCALENDAR