BEGIN:VCALENDAR
VERSION:2.0
PRODID:-//Gurnee Park District - ECPv6.15.20//NONSGML v1.0//EN
CALSCALE:GREGORIAN
METHOD:PUBLISH
X-WR-CALNAME:Gurnee Park District
X-ORIGINAL-URL:https://www.gurneeparkdistrict.com
X-WR-CALDESC:Events for Gurnee Park District
REFRESH-INTERVAL;VALUE=DURATION:PT1H
X-Robots-Tag:noindex
X-PUBLISHED-TTL:PT1H
BEGIN:VTIMEZONE
TZID:America/Chicago
BEGIN:DAYLIGHT
TZOFFSETFROM:-0600
TZOFFSETTO:-0500
TZNAME:CDT
DTSTART:20240310T080000
END:DAYLIGHT
BEGIN:STANDARD
TZOFFSETFROM:-0500
TZOFFSETTO:-0600
TZNAME:CST
DTSTART:20241103T070000
END:STANDARD
BEGIN:DAYLIGHT
TZOFFSETFROM:-0600
TZOFFSETTO:-0500
TZNAME:CDT
DTSTART:20250309T080000
END:DAYLIGHT
BEGIN:STANDARD
TZOFFSETFROM:-0500
TZOFFSETTO:-0600
TZNAME:CST
DTSTART:20251102T070000
END:STANDARD
BEGIN:DAYLIGHT
TZOFFSETFROM:-0600
TZOFFSETTO:-0500
TZNAME:CDT
DTSTART:20260308T080000
END:DAYLIGHT
BEGIN:STANDARD
TZOFFSETFROM:-0500
TZOFFSETTO:-0600
TZNAME:CST
DTSTART:20261101T070000
END:STANDARD
END:VTIMEZONE
BEGIN:VEVENT
DTSTART;TZID=America/Chicago:20250913T070000
DTEND;TZID=America/Chicago:20250913T080000
DTSTAMP:20260423T211540
CREATED:20250826T123803Z
LAST-MODIFIED:20250826T123803Z
UID:10004243-1757746800-1757750400@www.gurneeparkdistrict.com
SUMMARY:Member Lap Swim
DESCRIPTION:Reserved for FitNation members or day pass visitors. Lifeguards WILL NOT be on duty during member lap swim. View FitNation Pool Rules and Regulations
URL:https://www.gurneeparkdistrict.com/event/member-lap-swim-1081/
LOCATION:FitNation\, 1655 Nations Drive\, Gurnee\, IL\, 60031\, United States
CATEGORIES:FitNation Lap Swim
ATTACH;FMTTYPE=image/png:https://www.gurneeparkdistrict.com/wp-content/uploads/2024/02/Lap-Swim.png
END:VEVENT
BEGIN:VEVENT
DTSTART;TZID=America/Chicago:20250913T070000
DTEND;TZID=America/Chicago:20250913T090000
DTSTAMP:20260423T211540
CREATED:20250826T142913Z
LAST-MODIFIED:20250826T142913Z
UID:10004518-1757746800-1757754000@www.gurneeparkdistrict.com
SUMMARY:FitNation Pickleball - Reservations Required
DESCRIPTION:1) Pickleball is reserved for FitNation members only.\n2) All pickleball players must check-in at the front desk prior to entering the Flex Studio.\n3) Reservations for pickleball play must be made online via our website and will only be held for 15 minutes past the start time of the reservation. The court will be released if the players don’t show by that time.\n4) Reservations made can be no longer than 1 hour per person/group. Multiple people in the same group cannot reserve the court for each person for 1 hour\n5) All group members need to be listed when the reservation is made.\n6) Paddles must be checked out from the front desk and a photo id is required in exchange for the equipment.\n7) Inappropriate language and fighting are prohibited at all times.
URL:https://www.gurneeparkdistrict.com/event/fitnation-pickleball-reservations-required-772/
LOCATION:FitNation\, 1655 Nations Drive\, Gurnee\, IL\, 60031\, United States
CATEGORIES:FitNation Pickleball
ATTACH;FMTTYPE=image/png:https://www.gurneeparkdistrict.com/wp-content/uploads/2024/04/FN-Pickleball_1.png
END:VEVENT
BEGIN:VEVENT
DTSTART;TZID=America/Chicago:20250913T073000
DTEND;TZID=America/Chicago:20250913T083000
DTSTAMP:20260423T211540
CREATED:20250826T124528Z
LAST-MODIFIED:20250826T124528Z
UID:10004347-1757748600-1757752200@www.gurneeparkdistrict.com
SUMMARY:Body Pump with Cristina
DESCRIPTION:A choreographed strength and conditioning classes that uses high repetition with lower weights. Fun and inspiring music is used to motivate participants through 10 powerful tracks. (Please note\, express classes will complete less than 10 tracks.)
URL:https://www.gurneeparkdistrict.com/event/body-pump-with-cristina-57/
LOCATION:FitNation\, 1655 Nations Drive\, Gurnee\, IL\, 60031\, United States
CATEGORIES:Group Exercise
ATTACH;FMTTYPE=image/png:https://www.gurneeparkdistrict.com/wp-content/uploads/2024/01/FitN2020_Group_Ex_Square_1.png
END:VEVENT
BEGIN:VEVENT
DTSTART;TZID=America/Chicago:20250913T074500
DTEND;TZID=America/Chicago:20250913T083500
DTSTAMP:20260423T211540
CREATED:20250826T124528Z
LAST-MODIFIED:20250826T124528Z
UID:10004348-1757749500-1757752500@www.gurneeparkdistrict.com
SUMMARY:Cycle with Kevin
DESCRIPTION:An awesome indoor cycling class that provides fun and a challenging cardiovascular workout for all fitness levels. \nDue to limited space\, this class is available to 23 members on a first come\, first serve basis.
URL:https://www.gurneeparkdistrict.com/event/cycle-with-kevin-81/
LOCATION:FitNation\, 1655 Nations Drive\, Gurnee\, IL\, 60031\, United States
CATEGORIES:Group Exercise
ATTACH;FMTTYPE=image/png:https://www.gurneeparkdistrict.com/wp-content/uploads/2024/01/FitN2020_Group_Ex_Square_1.png
END:VEVENT
BEGIN:VEVENT
DTSTART;TZID=America/Chicago:20250913T084500
DTEND;TZID=America/Chicago:20250913T093500
DTSTAMP:20260423T211540
CREATED:20250826T124530Z
LAST-MODIFIED:20250826T124530Z
UID:10004350-1757753100-1757756100@www.gurneeparkdistrict.com
SUMMARY:Cardio Sculpt with Ilona
DESCRIPTION:This low impact aerobic training will use light weight or body weight intervals to tone and strengthen.
URL:https://www.gurneeparkdistrict.com/event/cardio-sculpt-with-ilona-62/
LOCATION:FitNation\, 1655 Nations Drive\, Gurnee\, IL\, 60031\, United States
CATEGORIES:Group Exercise
ATTACH;FMTTYPE=image/png:https://www.gurneeparkdistrict.com/wp-content/uploads/2024/01/FitN2020_Group_Ex_Square_1.png
END:VEVENT
BEGIN:VEVENT
DTSTART;TZID=America/Chicago:20250913T084500
DTEND;TZID=America/Chicago:20250913T094500
DTSTAMP:20260423T211540
CREATED:20250826T124529Z
LAST-MODIFIED:20250826T124529Z
UID:10004349-1757753100-1757756700@www.gurneeparkdistrict.com
SUMMARY:Body Pump with Denise/ Amy
DESCRIPTION:A choreographed strength and conditioning classes that uses high repetition with lower weights. Fun and inspiring music is used to motivate participants through 10 powerful tracks. (Please note\, express classes will complete less than 10 tracks.)
URL:https://www.gurneeparkdistrict.com/event/body-pump-with-denise-amy-69/
LOCATION:FitNation\, 1655 Nations Drive\, Gurnee\, IL\, 60031\, United States
CATEGORIES:Group Exercise
ATTACH;FMTTYPE=image/png:https://www.gurneeparkdistrict.com/wp-content/uploads/2024/01/FitN2020_Group_Ex_Square_1.png
END:VEVENT
BEGIN:VEVENT
DTSTART;TZID=America/Chicago:20250913T090000
DTEND;TZID=America/Chicago:20250913T090000
DTSTAMP:20260423T211540
CREATED:20250604T193323Z
LAST-MODIFIED:20250605T133352Z
UID:10003030-1757754000-1757754000@www.gurneeparkdistrict.com
SUMMARY:GO Gurnee Walking Club
DESCRIPTION:Join the GO Gurnee Walking Club at the Nippersink Forrest Preserve (900 W. Belvidere Road\, Round Lake)! \nView map location here! \nDirections/Walk Details: Park in the 1st parking lot to the RIGHT by picnic Shelter A. Packed gravel trails with gently rolling hills. 2 interconnected looping trails. The main trail is 1.5-miles. If you take the side path North to Nippersink Road & back you will add another 1.5 miles for a nice 3-mile walk. Pets allowed. Restrooms available. Not much shade. \nNot a Walking Club member? Join for FREE today!
URL:https://www.gurneeparkdistrict.com/event/go-gurnee-walking-club-88/
LOCATION:Nippersink Forest Preserve\, 900 W. Belvidere Road\, Round Lake\, IL\, 60073\, United States
CATEGORIES:GO Gurnee
ATTACH;FMTTYPE=image/jpeg:https://www.gurneeparkdistrict.com/wp-content/uploads/2024/01/GoGurnee-Spring_Summer_Walks-square.jpg
END:VEVENT
BEGIN:VEVENT
DTSTART;TZID=America/Chicago:20250913T100000
DTEND;TZID=America/Chicago:20250913T104500
DTSTAMP:20260423T211540
CREATED:20250826T124531Z
LAST-MODIFIED:20250826T124531Z
UID:10004352-1757757600-1757760300@www.gurneeparkdistrict.com
SUMMARY:Vinyasa Flow with Rachel
DESCRIPTION:An athletic approach to yoga using continuous movements and poses linked with the breath. This will get your heart rate up and have you sweating.  Please bring a yoga mat with you to class.
URL:https://www.gurneeparkdistrict.com/event/vinyasa-flow-with-rachel-14/
LOCATION:FitNation\, 1655 Nations Drive\, Gurnee\, IL\, 60031\, United States
CATEGORIES:Group Exercise
ATTACH;FMTTYPE=image/png:https://www.gurneeparkdistrict.com/wp-content/uploads/2024/01/FitN2020_Group_Ex_Square_1.png
END:VEVENT
BEGIN:VEVENT
DTSTART;TZID=America/Chicago:20250913T100000
DTEND;TZID=America/Chicago:20250913T110000
DTSTAMP:20260423T211540
CREATED:20250826T124531Z
LAST-MODIFIED:20250826T124531Z
UID:10004351-1757757600-1757761200@www.gurneeparkdistrict.com
SUMMARY:Zumba with Erica
DESCRIPTION:A fun\, Latin\, cardio dance class that combines all styles of Latin dance/music.
URL:https://www.gurneeparkdistrict.com/event/zumba-with-erica-78/
LOCATION:FitNation\, 1655 Nations Drive\, Gurnee\, IL\, 60031\, United States
CATEGORIES:Group Exercise
ATTACH;FMTTYPE=image/png:https://www.gurneeparkdistrict.com/wp-content/uploads/2024/01/FitN2020_Group_Ex_Square_1.png
END:VEVENT
BEGIN:VEVENT
DTSTART;TZID=America/Chicago:20250913T113000
DTEND;TZID=America/Chicago:20250913T183000
DTSTAMP:20260423T211540
CREATED:20250826T123803Z
LAST-MODIFIED:20250826T123803Z
UID:10004244-1757763000-1757788200@www.gurneeparkdistrict.com
SUMMARY:Member Lap Swim
DESCRIPTION:Reserved for FitNation members or day pass visitors. Lifeguards WILL NOT be on duty during member lap swim. View FitNation Pool Rules and Regulations
URL:https://www.gurneeparkdistrict.com/event/member-lap-swim-1082/
LOCATION:FitNation\, 1655 Nations Drive\, Gurnee\, IL\, 60031\, United States
CATEGORIES:FitNation Lap Swim
ATTACH;FMTTYPE=image/png:https://www.gurneeparkdistrict.com/wp-content/uploads/2024/02/Lap-Swim.png
END:VEVENT
BEGIN:VEVENT
DTSTART;TZID=America/Chicago:20250913T120000
DTEND;TZID=America/Chicago:20250913T190000
DTSTAMP:20260423T211540
CREATED:20250826T142914Z
LAST-MODIFIED:20250826T142914Z
UID:10004519-1757764800-1757790000@www.gurneeparkdistrict.com
SUMMARY:FitNation Pickleball - Reservations Required
DESCRIPTION:1) Pickleball is reserved for FitNation members only.\n2) All pickleball players must check-in at the front desk prior to entering the Flex Studio.\n3) Reservations for pickleball play must be made online via our website and will only be held for 15 minutes past the start time of the reservation. The court will be released if the players don’t show by that time.\n4) Reservations made can be no longer than 1 hour per person/group. Multiple people in the same group cannot reserve the court for each person for 1 hour\n5) All group members need to be listed when the reservation is made.\n6) Paddles must be checked out from the front desk and a photo id is required in exchange for the equipment.\n7) Inappropriate language and fighting are prohibited at all times.
URL:https://www.gurneeparkdistrict.com/event/fitnation-pickleball-reservations-required-773/
LOCATION:FitNation\, 1655 Nations Drive\, Gurnee\, IL\, 60031\, United States
CATEGORIES:FitNation Pickleball
ATTACH;FMTTYPE=image/png:https://www.gurneeparkdistrict.com/wp-content/uploads/2024/04/FN-Pickleball_1.png
END:VEVENT
BEGIN:VEVENT
DTSTART;TZID=America/Chicago:20250913T130000
DTEND;TZID=America/Chicago:20250913T150000
DTSTAMP:20260423T211540
CREATED:20250730T130248Z
LAST-MODIFIED:20250826T141413Z
UID:10004509-1757768400-1757775600@www.gurneeparkdistrict.com
SUMMARY:Family Open Gym
DESCRIPTION:Fee: $5.00 | FREE to FitNation Members\nFamilies are invited to open gym. All ages and ability levels are encouraged to have some fun\, play pick up games or practice skills.\nGurnee Park District requests that guests and FitNation members are aware of the following regulations. \n1. Children 8 years and under must be accompanied by an adult\n2. Children 9-11 years old must have a parent or guardian present in the facility\n3. Payment or proof of FitNation membership must be made at the registration desk\n4. Gym shoes must be worn on the court\n5. Street shoes\, roller shoes\, and Heelys are not permitted\n6. Proper attire must be worn.\n7. Bottled water is the only food/beverage permitted\n8. Foul or abusive language attempted confrontation or physical confrontation will result in immediate expulsion from the facility\n9. No person or team can “own” the court.\n10. If only one court is available\, side courts might be required based on age\, skill level and the number of participants\n11. If two courts are available\, courts might be divided by age\, skill level and the number of participants.\n12. Teaching private lessons and conducting team practices are not permitted.\n13. Gurnee Park District reserves the right to cancel and/or change this schedule at any time\n14. No dunking\n15. Failure to adhere to any rule can result in expulsion from the facility\, revocation of FitNation membership\, and/or suspension/banning from the open gym.
URL:https://www.gurneeparkdistrict.com/event/family-open-gym-67/2025-09-13/
LOCATION:Hunt Club Park Community Center\, 920 North Hunt Club Road\, Gurnee\, IL\, 60031\, United States
CATEGORIES:Hunt Club Open Gym
ATTACH;FMTTYPE=image/png:https://www.gurneeparkdistrict.com/wp-content/uploads/2024/02/HC-Open-Gym.png
END:VEVENT
BEGIN:VEVENT
DTSTART;TZID=America/Chicago:20250913T170000
DTEND;TZID=America/Chicago:20250913T200000
DTSTAMP:20260423T211540
CREATED:20250609T132650Z
LAST-MODIFIED:20250609T132719Z
UID:10003043-1757782800-1757793600@www.gurneeparkdistrict.com
SUMMARY:Parents Night Out
DESCRIPTION:Parents spend a night out while we take care of the kids! Parent’s Night Out events at Gurnee Park District include an evening of fun age-appropriate activities for children ages 1 -11* such as games\, crafts\, sports\, and more! A dinner of cheese pizza\, juice\, and water will be provided. \n*Children 1-3 years old will have separate activities.
URL:https://www.gurneeparkdistrict.com/event/parents-night-out-5/2025-09-13/
LOCATION:Hunt Club Park Community Center\, 920 North Hunt Club Road\, Gurnee\, IL\, 60031\, United States
CATEGORIES:Special Events
ATTACH;FMTTYPE=image/png:https://www.gurneeparkdistrict.com/wp-content/uploads/2025/06/GPD2025_Parents-Night-Out_Social_Calendar-1080-x-1080.png
END:VEVENT
END:VCALENDAR