BEGIN:VCALENDAR
VERSION:2.0
PRODID:-//Gurnee Park District - ECPv6.15.20//NONSGML v1.0//EN
CALSCALE:GREGORIAN
METHOD:PUBLISH
X-WR-CALNAME:Gurnee Park District
X-ORIGINAL-URL:https://www.gurneeparkdistrict.com
X-WR-CALDESC:Events for Gurnee Park District
REFRESH-INTERVAL;VALUE=DURATION:PT1H
X-Robots-Tag:noindex
X-PUBLISHED-TTL:PT1H
BEGIN:VTIMEZONE
TZID:America/Chicago
BEGIN:DAYLIGHT
TZOFFSETFROM:-0600
TZOFFSETTO:-0500
TZNAME:CDT
DTSTART:20240310T080000
END:DAYLIGHT
BEGIN:STANDARD
TZOFFSETFROM:-0500
TZOFFSETTO:-0600
TZNAME:CST
DTSTART:20241103T070000
END:STANDARD
BEGIN:DAYLIGHT
TZOFFSETFROM:-0600
TZOFFSETTO:-0500
TZNAME:CDT
DTSTART:20250309T080000
END:DAYLIGHT
BEGIN:STANDARD
TZOFFSETFROM:-0500
TZOFFSETTO:-0600
TZNAME:CST
DTSTART:20251102T070000
END:STANDARD
BEGIN:DAYLIGHT
TZOFFSETFROM:-0600
TZOFFSETTO:-0500
TZNAME:CDT
DTSTART:20260308T080000
END:DAYLIGHT
BEGIN:STANDARD
TZOFFSETFROM:-0500
TZOFFSETTO:-0600
TZNAME:CST
DTSTART:20261101T070000
END:STANDARD
END:VTIMEZONE
BEGIN:VEVENT
DTSTART;VALUE=DATE:20250830
DTEND;VALUE=DATE:20250831
DTSTAMP:20260419T071604
CREATED:20250708T133739Z
LAST-MODIFIED:20250708T134240Z
UID:10003480-1756512000-1756598399@www.gurneeparkdistrict.com
SUMMARY:GO Gurnee Walking Marathon
DESCRIPTION:Walk your way to 26.2 miles on your own time and at your own pace! Track your progress\, stay active\, and be a part of a community that’s going the distance together! \nGo beyond the marathon and aim for the Ultra Challenge\, a full 160K (100 miles) for our overachievers! Give-aways and get-togethers throughout the contest.  \nContest dates: \nAugust 30-November 30
URL:https://www.gurneeparkdistrict.com/event/go-gurnee-walking-marathon/
LOCATION:IL
CATEGORIES:GO Gurnee
ATTACH;FMTTYPE=image/png:https://www.gurneeparkdistrict.com/wp-content/uploads/2025/07/Untitled-design-36.png
END:VEVENT
BEGIN:VEVENT
DTSTART;TZID=America/Chicago:20250830T050000
DTEND;TZID=America/Chicago:20250830T220000
DTSTAMP:20260419T071604
CREATED:20250822T164320Z
LAST-MODIFIED:20250822T164501Z
UID:10003853-1756530000-1756591200@www.gurneeparkdistrict.com
SUMMARY:Pool Closed for Annual Maintenance
DESCRIPTION:The FitNation indoor pool and hot tub will be closed for annual maintenance beginning Sunday\, August 24 – Monday\, September 1.  \nThe pool and hot tub will reopen on Tuesday\, September 2.  \nThank you for your patience and understanding as we work to make FitNation the best of the best!
URL:https://www.gurneeparkdistrict.com/event/pool-closed-for-annual-maintenance/2025-08-30/
LOCATION:FitNation\, 1655 Nations Drive\, Gurnee\, IL\, 60031\, United States
CATEGORIES:FitNation Lap Swim
ATTACH;FMTTYPE=image/png:https://www.gurneeparkdistrict.com/wp-content/uploads/2025/08/Annual-Pool-Maintenance.png
END:VEVENT
BEGIN:VEVENT
DTSTART;TZID=America/Chicago:20250830T070000
DTEND;TZID=America/Chicago:20250830T080000
DTSTAMP:20260419T071604
CREATED:20250724T143529Z
LAST-MODIFIED:20250724T143529Z
UID:10003541-1756537200-1756540800@www.gurneeparkdistrict.com
SUMMARY:FitNation Pickleball - Reservations Required
DESCRIPTION:1) Pickleball is reserved for FitNation members only.\n2) All pickleball players must check-in at the front desk prior to entering the Flex Studio.\n3) Reservations for pickleball play must be made online via our website and will only be held for 15 minutes past the start time of the reservation. The court will be released if the players donâ€™t show by that time.\n4) Reservations made can be no longer than 1 hour per person/group. Multiple people in the same group cannot reserve the court for each person for 1 hour\n5) All group members need to be listed when the reservation is made.\n6) Paddles must be checked out from the front desk and a photo id is required in exchange for the equipment.\n7) Inappropriate language and fighting are prohibited at all times.
URL:https://www.gurneeparkdistrict.com/event/fitnation-pickleball-reservations-required-761/
LOCATION:FitNation\, 1655 Nations Drive\, Gurnee\, IL\, 60031\, United States
CATEGORIES:FitNation Pickleball
ATTACH;FMTTYPE=image/png:https://www.gurneeparkdistrict.com/wp-content/uploads/2024/04/FN-Pickleball_1.png
END:VEVENT
BEGIN:VEVENT
DTSTART;TZID=America/Chicago:20250830T070000
DTEND;TZID=America/Chicago:20250830T090000
DTSTAMP:20260419T071604
CREATED:20250730T130247Z
LAST-MODIFIED:20250730T130247Z
UID:10003837-1756537200-1756544400@www.gurneeparkdistrict.com
SUMMARY:Adult Open Gym
DESCRIPTION:Tuesday Evening & Saturday Morning 19+ 	 \n– FitNation Members Only or 10 visit punch pass user open gym \n1. Payment or proof of FitNation membership must be made at the registration desk\n2. Gym shoes must be worn on the court\n3. Street shoes\, roller shoes\, and Heelys are not permitted\n4. Proper attire must be worn\n5. Bottled water is the only food/beverage permitted\n6. Foul or abusive language attempted confrontation or physical confrontation will result in immediate expulsion from the facility\n7. No person or team can “own” the court\n8. If only one court is available\, side courts might be required based on age\, skill level and the number of participants\n9.  If two courts are available\, courts might be divided by age\, skill level and the number of participants\n10. Teaching private lessons and conducting team practices are not permitted\n11. Gurnee Park District reserves the right to cancel and/or change this schedule at any time\n12. No dunking\n13. Failure to adhere to any rule can result in expulsion from the facility\, revocation of FitNation membership\, and/or suspension/banning from the open gym
URL:https://www.gurneeparkdistrict.com/event/adult-open-gym-128/
LOCATION:Hunt Club Park Community Center\, 920 North Hunt Club Road\, Gurnee\, IL\, 60031\, United States
CATEGORIES:Hunt Club Open Gym
ATTACH;FMTTYPE=image/png:https://www.gurneeparkdistrict.com/wp-content/uploads/2024/02/HC-Open-Gym.png
END:VEVENT
BEGIN:VEVENT
DTSTART;TZID=America/Chicago:20250830T073000
DTEND;TZID=America/Chicago:20250830T083000
DTSTAMP:20260419T071604
CREATED:20250729T160408Z
LAST-MODIFIED:20250729T160408Z
UID:10003751-1756539000-1756542600@www.gurneeparkdistrict.com
SUMMARY:Body Pump with Cristina
DESCRIPTION:A choreographed strength and conditioning classes that uses high repetition with lower weights. Fun and inspiring music is used to motivate participants through 10 powerful tracks. (Please note\, express classes will complete less than 10 tracks.)
URL:https://www.gurneeparkdistrict.com/event/body-pump-with-cristina-55/
LOCATION:FitNation\, 1655 Nations Drive\, Gurnee\, IL\, 60031\, United States
CATEGORIES:Group Exercise
ATTACH;FMTTYPE=image/png:https://www.gurneeparkdistrict.com/wp-content/uploads/2024/01/FitN2020_Group_Ex_Square_1.png
END:VEVENT
BEGIN:VEVENT
DTSTART;TZID=America/Chicago:20250830T074500
DTEND;TZID=America/Chicago:20250830T083500
DTSTAMP:20260419T071604
CREATED:20250729T160408Z
LAST-MODIFIED:20250729T160408Z
UID:10003752-1756539900-1756542900@www.gurneeparkdistrict.com
SUMMARY:Cycle with Kevin
DESCRIPTION:An awesome indoor cycling class that provides fun and a challenging cardiovascular workout for all fitness levels. \nDue to limited space\, this class is available to 23 members on a first come\, first serve basis.
URL:https://www.gurneeparkdistrict.com/event/cycle-with-kevin-79/
LOCATION:FitNation\, 1655 Nations Drive\, Gurnee\, IL\, 60031\, United States
CATEGORIES:Group Exercise
ATTACH;FMTTYPE=image/png:https://www.gurneeparkdistrict.com/wp-content/uploads/2024/01/FitN2020_Group_Ex_Square_1.png
END:VEVENT
BEGIN:VEVENT
DTSTART;TZID=America/Chicago:20250830T084500
DTEND;TZID=America/Chicago:20250830T093500
DTSTAMP:20260419T071604
CREATED:20250729T160409Z
LAST-MODIFIED:20250729T160409Z
UID:10003754-1756543500-1756546500@www.gurneeparkdistrict.com
SUMMARY:Cardio Sculpt with Ilona
DESCRIPTION:This low impact aerobic training will use light weight or body weight intervals to tone and strengthen.
URL:https://www.gurneeparkdistrict.com/event/cardio-sculpt-with-ilona-60/
LOCATION:FitNation\, 1655 Nations Drive\, Gurnee\, IL\, 60031\, United States
CATEGORIES:Group Exercise
ATTACH;FMTTYPE=image/png:https://www.gurneeparkdistrict.com/wp-content/uploads/2024/01/FitN2020_Group_Ex_Square_1.png
END:VEVENT
BEGIN:VEVENT
DTSTART;TZID=America/Chicago:20250830T084500
DTEND;TZID=America/Chicago:20250830T094500
DTSTAMP:20260419T071604
CREATED:20250729T160409Z
LAST-MODIFIED:20250729T160409Z
UID:10003753-1756543500-1756547100@www.gurneeparkdistrict.com
SUMMARY:Body Pump with Denise/Amy
DESCRIPTION:A choreographed strength and conditioning classes that uses high repetition with lower weights. Fun and inspiring music is used to motivate participants through 10 powerful tracks. (Please note\, express classes will complete less than 10 tracks.)
URL:https://www.gurneeparkdistrict.com/event/body-pump-with-denise-amy-68/
LOCATION:FitNation\, 1655 Nations Drive\, Gurnee\, IL\, 60031\, United States
CATEGORIES:Group Exercise
ATTACH;FMTTYPE=image/png:https://www.gurneeparkdistrict.com/wp-content/uploads/2024/01/FitN2020_Group_Ex_Square_1.png
END:VEVENT
BEGIN:VEVENT
DTSTART;TZID=America/Chicago:20250830T090000
DTEND;TZID=America/Chicago:20250830T090000
DTSTAMP:20260419T071604
CREATED:20250410T204411Z
LAST-MODIFIED:20250410T204455Z
UID:10002119-1756544400-1756544400@www.gurneeparkdistrict.com
SUMMARY:GO Gurnee Walking Club
DESCRIPTION:Join the GO Gurnee Walking Club at Betty Russell Park Trail / Pembrook Woods (5300 Pinewood Road\, Gurnee)! \nView map location here! \nDirections/Walk Details: This walk contains a mostly flat\, gravel path with some paved areas (you’ll find a bit of an incline the closer you get to Milwaukee Avenue). Walk options include a one-mile loop to the water tower and back; a 2-mile loop to Pembrook Woods; or a 4 mile loop to the Silo. Each option does not include much shade. Pet friendly\, with restrooms available.  \nNot a Walking Club member? Join for FREE today!
URL:https://www.gurneeparkdistrict.com/event/go-gurnee-walking-club-86/
LOCATION:Betty Russell Park\, 5300 Pinewood Road\, Gurnee\, IL\, 60031\, United States
CATEGORIES:GO Gurnee
ATTACH;FMTTYPE=image/jpeg:https://www.gurneeparkdistrict.com/wp-content/uploads/2024/01/GoGurnee-Spring_Summer_Walks-square.jpg
END:VEVENT
BEGIN:VEVENT
DTSTART;TZID=America/Chicago:20250830T100000
DTEND;TZID=America/Chicago:20250830T104500
DTSTAMP:20260419T071604
CREATED:20250729T160410Z
LAST-MODIFIED:20250729T160410Z
UID:10003756-1756548000-1756550700@www.gurneeparkdistrict.com
SUMMARY:Vinyasa Flow with Rachel
DESCRIPTION:An athletic approach to yoga using continuous movements and poses linked with the breath. This will get your heart rate up and have you sweating.  Please bring a yoga mat with you to class.
URL:https://www.gurneeparkdistrict.com/event/vinyasa-flow-with-rachel-13/
LOCATION:FitNation\, 1655 Nations Drive\, Gurnee\, IL\, 60031\, United States
CATEGORIES:Group Exercise
ATTACH;FMTTYPE=image/png:https://www.gurneeparkdistrict.com/wp-content/uploads/2024/01/FitN2020_Group_Ex_Square_1.png
END:VEVENT
BEGIN:VEVENT
DTSTART;TZID=America/Chicago:20250830T100000
DTEND;TZID=America/Chicago:20250830T110000
DTSTAMP:20260419T071604
CREATED:20250729T160410Z
LAST-MODIFIED:20250729T160410Z
UID:10003755-1756548000-1756551600@www.gurneeparkdistrict.com
SUMMARY:Zumba with Erica
DESCRIPTION:A fun\, Latin\, cardio dance class that combines all styles of Latin dance/music.
URL:https://www.gurneeparkdistrict.com/event/zumba-with-erica-77/
LOCATION:FitNation\, 1655 Nations Drive\, Gurnee\, IL\, 60031\, United States
CATEGORIES:Group Exercise
ATTACH;FMTTYPE=image/png:https://www.gurneeparkdistrict.com/wp-content/uploads/2024/01/FitN2020_Group_Ex_Square_1.png
END:VEVENT
BEGIN:VEVENT
DTSTART;TZID=America/Chicago:20250830T120000
DTEND;TZID=America/Chicago:20250830T190000
DTSTAMP:20260419T071604
CREATED:20250724T143530Z
LAST-MODIFIED:20250724T143530Z
UID:10003542-1756555200-1756580400@www.gurneeparkdistrict.com
SUMMARY:FitNation Pickleball - Reservations Required
DESCRIPTION:1) Pickleball is reserved for FitNation members only.\n2) All pickleball players must check-in at the front desk prior to entering the Flex Studio.\n3) Reservations for pickleball play must be made online via our website and will only be held for 15 minutes past the start time of the reservation. The court will be released if the players donâ€™t show by that time.\n4) Reservations made can be no longer than 1 hour per person/group. Multiple people in the same group cannot reserve the court for each person for 1 hour\n5) All group members need to be listed when the reservation is made.\n6) Paddles must be checked out from the front desk and a photo id is required in exchange for the equipment.\n7) Inappropriate language and fighting are prohibited at all times.
URL:https://www.gurneeparkdistrict.com/event/fitnation-pickleball-reservations-required-762/
LOCATION:FitNation\, 1655 Nations Drive\, Gurnee\, IL\, 60031\, United States
CATEGORIES:FitNation Pickleball
ATTACH;FMTTYPE=image/png:https://www.gurneeparkdistrict.com/wp-content/uploads/2024/04/FN-Pickleball_1.png
END:VEVENT
BEGIN:VEVENT
DTSTART;TZID=America/Chicago:20250830T130000
DTEND;TZID=America/Chicago:20250830T150000
DTSTAMP:20260419T071604
CREATED:20250730T130248Z
LAST-MODIFIED:20250826T141413Z
UID:10003838-1756558800-1756566000@www.gurneeparkdistrict.com
SUMMARY:Family Open Gym
DESCRIPTION:Fee: $5.00 | FREE to FitNation Members\nFamilies are invited to open gym. All ages and ability levels are encouraged to have some fun\, play pick up games or practice skills.\nGurnee Park District requests that guests and FitNation members are aware of the following regulations. \n1. Children 8 years and under must be accompanied by an adult\n2. Children 9-11 years old must have a parent or guardian present in the facility\n3. Payment or proof of FitNation membership must be made at the registration desk\n4. Gym shoes must be worn on the court\n5. Street shoes\, roller shoes\, and Heelys are not permitted\n6. Proper attire must be worn.\n7. Bottled water is the only food/beverage permitted\n8. Foul or abusive language attempted confrontation or physical confrontation will result in immediate expulsion from the facility\n9. No person or team can “own” the court.\n10. If only one court is available\, side courts might be required based on age\, skill level and the number of participants\n11. If two courts are available\, courts might be divided by age\, skill level and the number of participants.\n12. Teaching private lessons and conducting team practices are not permitted.\n13. Gurnee Park District reserves the right to cancel and/or change this schedule at any time\n14. No dunking\n15. Failure to adhere to any rule can result in expulsion from the facility\, revocation of FitNation membership\, and/or suspension/banning from the open gym.
URL:https://www.gurneeparkdistrict.com/event/family-open-gym-67/2025-08-30/
LOCATION:Hunt Club Park Community Center\, 920 North Hunt Club Road\, Gurnee\, IL\, 60031\, United States
CATEGORIES:Hunt Club Open Gym
ATTACH;FMTTYPE=image/png:https://www.gurneeparkdistrict.com/wp-content/uploads/2024/02/HC-Open-Gym.png
END:VEVENT
END:VCALENDAR