BEGIN:VCALENDAR
VERSION:2.0
PRODID:-//Gurnee Park District - ECPv6.15.20//NONSGML v1.0//EN
CALSCALE:GREGORIAN
METHOD:PUBLISH
X-ORIGINAL-URL:https://www.gurneeparkdistrict.com
X-WR-CALDESC:Events for Gurnee Park District
REFRESH-INTERVAL;VALUE=DURATION:PT1H
X-Robots-Tag:noindex
X-PUBLISHED-TTL:PT1H
BEGIN:VTIMEZONE
TZID:America/Chicago
BEGIN:DAYLIGHT
TZOFFSETFROM:-0600
TZOFFSETTO:-0500
TZNAME:CDT
DTSTART:20240310T080000
END:DAYLIGHT
BEGIN:STANDARD
TZOFFSETFROM:-0500
TZOFFSETTO:-0600
TZNAME:CST
DTSTART:20241103T070000
END:STANDARD
BEGIN:DAYLIGHT
TZOFFSETFROM:-0600
TZOFFSETTO:-0500
TZNAME:CDT
DTSTART:20250309T080000
END:DAYLIGHT
BEGIN:STANDARD
TZOFFSETFROM:-0500
TZOFFSETTO:-0600
TZNAME:CST
DTSTART:20251102T070000
END:STANDARD
BEGIN:DAYLIGHT
TZOFFSETFROM:-0600
TZOFFSETTO:-0500
TZNAME:CDT
DTSTART:20260308T080000
END:DAYLIGHT
BEGIN:STANDARD
TZOFFSETFROM:-0500
TZOFFSETTO:-0600
TZNAME:CST
DTSTART:20261101T070000
END:STANDARD
END:VTIMEZONE
BEGIN:VEVENT
DTSTART;TZID=America/Chicago:20250819T050000
DTEND;TZID=America/Chicago:20250819T084500
DTSTAMP:20260419T203838
CREATED:20250729T170321Z
LAST-MODIFIED:20250729T170321Z
UID:10003807-1755579600-1755593100@www.gurneeparkdistrict.com
SUMMARY:Member Lap Swim
DESCRIPTION:Reserved for FitNation members or day pass visitors. Lifeguards WILL NOT be on duty during member lap swim. View FitNation Pool Rules and Regulations
URL:https://www.gurneeparkdistrict.com/event/member-lap-swim-1054/
LOCATION:FitNation\, 1655 Nations Drive\, Gurnee\, IL\, 60031\, United States
CATEGORIES:FitNation Lap Swim
ATTACH;FMTTYPE=image/png:https://www.gurneeparkdistrict.com/wp-content/uploads/2024/02/Lap-Swim.png
END:VEVENT
BEGIN:VEVENT
DTSTART;TZID=America/Chicago:20250819T050000
DTEND;TZID=America/Chicago:20250819T220000
DTSTAMP:20260419T203838
CREATED:20250724T143518Z
LAST-MODIFIED:20250724T143518Z
UID:10003524-1755579600-1755640800@www.gurneeparkdistrict.com
SUMMARY:FitNation Pickleball - Reservations Required
DESCRIPTION:1) Pickleball is reserved for FitNation members only.\n2) All pickleball players must check-in at the front desk prior to entering the Flex Studio.\n3) Reservations for pickleball play must be made online via our website and will only be held for 15 minutes past the start time of the reservation. The court will be released if the players donâ€™t show by that time.\n4) Reservations made can be no longer than 1 hour per person/group. Multiple people in the same group cannot reserve the court for each person for 1 hour\n5) All group members need to be listed when the reservation is made.\n6) Paddles must be checked out from the front desk and a photo id is required in exchange for the equipment.\n7) Inappropriate language and fighting are prohibited at all times.
URL:https://www.gurneeparkdistrict.com/event/fitnation-pickleball-reservations-required-744/
LOCATION:FitNation\, 1655 Nations Drive\, Gurnee\, IL\, 60031\, United States
CATEGORIES:FitNation Pickleball
ATTACH;FMTTYPE=image/png:https://www.gurneeparkdistrict.com/wp-content/uploads/2024/04/FN-Pickleball_1.png
END:VEVENT
BEGIN:VEVENT
DTSTART;TZID=America/Chicago:20250819T073000
DTEND;TZID=America/Chicago:20250819T082000
DTSTAMP:20260419T203838
CREATED:20250729T160322Z
LAST-MODIFIED:20250729T160322Z
UID:10003667-1755588600-1755591600@www.gurneeparkdistrict.com
SUMMARY:TBS with Joy
DESCRIPTION:A class consisting of multi-muscular\, functional strength and balance exercises using a variety of equipment and your own body resistance to build strength and to shape and tone the total body.
URL:https://www.gurneeparkdistrict.com/event/tbs-with-joy-63/
LOCATION:FitNation\, 1655 Nations Drive\, Gurnee\, IL\, 60031\, United States
CATEGORIES:Group Exercise
ATTACH;FMTTYPE=image/png:https://www.gurneeparkdistrict.com/wp-content/uploads/2024/01/FitN2020_Group_Ex_Square_1.png
END:VEVENT
BEGIN:VEVENT
DTSTART;TZID=America/Chicago:20250819T083000
DTEND;TZID=America/Chicago:20250819T090000
DTSTAMP:20260419T203838
CREATED:20250729T160322Z
LAST-MODIFIED:20250729T160322Z
UID:10003668-1755592200-1755594000@www.gurneeparkdistrict.com
SUMMARY:Tabata Cardio with Gina
DESCRIPTION:An intense HIIT cardio workout with 4 minute sets of work consisting of 8 20 sec rounds per set w/ a 10 sec rest.
URL:https://www.gurneeparkdistrict.com/event/tabata-cardio-with-gina-75/
LOCATION:FitNation\, 1655 Nations Drive\, Gurnee\, IL\, 60031\, United States
CATEGORIES:Group Exercise
ATTACH;FMTTYPE=image/png:https://www.gurneeparkdistrict.com/wp-content/uploads/2024/01/FitN2020_Group_Ex_Square_1.png
END:VEVENT
BEGIN:VEVENT
DTSTART;TZID=America/Chicago:20250819T090000
DTEND;TZID=America/Chicago:20250819T094500
DTSTAMP:20260419T203838
CREATED:20250729T160324Z
LAST-MODIFIED:20250729T160324Z
UID:10003670-1755594000-1755596700@www.gurneeparkdistrict.com
SUMMARY:Core and More with Gina
DESCRIPTION:Core & More: 30 or 45 minutes of Core Blast training combined with multi muscular strength moves.
URL:https://www.gurneeparkdistrict.com/event/core-and-more-with-gina-71/
LOCATION:FitNation\, 1655 Nations Drive\, Gurnee\, IL\, 60031\, United States
CATEGORIES:Group Exercise
ATTACH;FMTTYPE=image/png:https://www.gurneeparkdistrict.com/wp-content/uploads/2024/01/FitN2020_Group_Ex_Square_1.png
END:VEVENT
BEGIN:VEVENT
DTSTART;TZID=America/Chicago:20250819T090000
DTEND;TZID=America/Chicago:20250819T100000
DTSTAMP:20260419T203838
CREATED:20250729T160323Z
LAST-MODIFIED:20250729T160323Z
UID:10003669-1755594000-1755597600@www.gurneeparkdistrict.com
SUMMARY:HydroFit with Diane
DESCRIPTION:Hydro classes use the water’s resistance for an aerobic\, strengthening and ROM workout.  The water allows for less joint impact and an increase in hydrostatic pressure. A great option for active aging members or members returning back to fitness after an injury.
URL:https://www.gurneeparkdistrict.com/event/hydrofit-with-diane-142/
LOCATION:FitNation\, 1655 Nations Drive\, Gurnee\, IL\, 60031\, United States
CATEGORIES:Group Exercise
ATTACH;FMTTYPE=image/png:https://www.gurneeparkdistrict.com/wp-content/uploads/2024/01/FitN2020_Group_Ex_Square_1.png
END:VEVENT
BEGIN:VEVENT
DTSTART;TZID=America/Chicago:20250819T094500
DTEND;TZID=America/Chicago:20250819T104000
DTSTAMP:20260419T203838
CREATED:20250729T160324Z
LAST-MODIFIED:20250729T160324Z
UID:10003671-1755596700-1755600000@www.gurneeparkdistrict.com
SUMMARY:Body Combat with Elizabeth
DESCRIPTION:This fiercely energetic cardio program is inspired by martial arts and draws from a wide array of disciplines such as Karate\, Tae Kwon Do\, Tai Chi and Muay Thai\, supported by powerful music.
URL:https://www.gurneeparkdistrict.com/event/body-combat-with-elizabeth-294/
LOCATION:FitNation\, 1655 Nations Drive\, Gurnee\, IL\, 60031\, United States
CATEGORIES:Group Exercise
ATTACH;FMTTYPE=image/png:https://www.gurneeparkdistrict.com/wp-content/uploads/2024/01/FitN2020_Group_Ex_Square_1.png
END:VEVENT
BEGIN:VEVENT
DTSTART;TZID=America/Chicago:20250819T094500
DTEND;TZID=America/Chicago:20250819T104500
DTSTAMP:20260419T203838
CREATED:20250729T160325Z
LAST-MODIFIED:20250729T160325Z
UID:10003672-1755596700-1755600300@www.gurneeparkdistrict.com
SUMMARY:Yoga with Sharon
DESCRIPTION:In this class\, postures are practiced to align\, strengthen and promote flexibility. Breathing and meditation are also integrated. Emphasis on simplicity\, repetition\, and ease of movement. Full-body relaxation and balance are the goals\, as we make a full circuit of the body’s range of motion with standing postures\, twists\, forward folds\, and hip openers. Unless otherwise speci-fied\, yoga classes will follow Hatha format. Vinyasa- Smooth transitions from pose to pose.  The body moves in sync with the breath. Gentle and Yin Yoga:  Slower  paced and more meditation held for 3-5 minutes.  Please bring a Yoga mat with you to class.
URL:https://www.gurneeparkdistrict.com/event/yoga-with-sharon-144/
LOCATION:FitNation\, 1655 Nations Drive\, Gurnee\, IL\, 60031\, United States
CATEGORIES:Group Exercise
ATTACH;FMTTYPE=image/png:https://www.gurneeparkdistrict.com/wp-content/uploads/2024/01/FitN2020_Group_Ex_Square_1.png
END:VEVENT
BEGIN:VEVENT
DTSTART;TZID=America/Chicago:20250819T100000
DTEND;TZID=America/Chicago:20250819T213000
DTSTAMP:20260419T203838
CREATED:20250729T170321Z
LAST-MODIFIED:20250729T170321Z
UID:10003808-1755597600-1755639000@www.gurneeparkdistrict.com
SUMMARY:Member Lap Swim
DESCRIPTION:Reserved for FitNation members or day pass visitors. Lifeguards WILL NOT be on duty during member lap swim. View FitNation Pool Rules and Regulations
URL:https://www.gurneeparkdistrict.com/event/member-lap-swim-1055/
LOCATION:FitNation\, 1655 Nations Drive\, Gurnee\, IL\, 60031\, United States
CATEGORIES:FitNation Lap Swim
ATTACH;FMTTYPE=image/png:https://www.gurneeparkdistrict.com/wp-content/uploads/2024/02/Lap-Swim.png
END:VEVENT
BEGIN:VEVENT
DTSTART;TZID=America/Chicago:20250819T103000
DTEND;TZID=America/Chicago:20250819T111500
DTSTAMP:20260419T203838
CREATED:20250423T153222Z
LAST-MODIFIED:20250507T140432Z
UID:10002190-1755599400-1755602100@www.gurneeparkdistrict.com
SUMMARY:Children's Concert Series - Nanny Nikki
DESCRIPTION:Join us for our FREE Sounds of Summer Children’s Series featuring Nanny Nikki!\nTuesday\, August 1910:30-11:15 amViking Park Band Shell | 4374 Old Grand Avenue\, GurneeChildren’s ConcertFREE!\n \nWe’re proud to partner with our friends at Forest Orthodontics & Pediatric Dentistry.Forest Orthodontics & Pediatrics’ SMILE Ice Cream Truck will be onsite! The team will be serving up FREE\, sweet treats to guests (while supplies last)!\n \nBe sure to bring blankets/chairs and feel free to stay and play – bring a picnic and plan an afternoon at the park!\n \nRemember to check Rainout Line for inclement weather updates.
URL:https://www.gurneeparkdistrict.com/event/childrens-concert-series-nanny-nikki/
LOCATION:Viking Park\, 4374 Old Grand Avenue\, Gurnee\, IL\, 60031\, United States
CATEGORIES:Special Events
ATTACH;FMTTYPE=image/png:https://www.gurneeparkdistrict.com/wp-content/uploads/2025/04/GPD2025_Sounds-of-Summer_Kids_Social-Campaign_Calendar-3-1080-x-1080.png
END:VEVENT
BEGIN:VEVENT
DTSTART;TZID=America/Chicago:20250819T104500
DTEND;TZID=America/Chicago:20250819T113000
DTSTAMP:20260419T203838
CREATED:20250729T160325Z
LAST-MODIFIED:20250729T160325Z
UID:10003673-1755600300-1755603000@www.gurneeparkdistrict.com
SUMMARY:Zumba with Elizabeth
DESCRIPTION:A fun\, Latin\, cardio dance class that combines all styles of Latin dance/music.
URL:https://www.gurneeparkdistrict.com/event/zumba-with-elizabeth-75/
LOCATION:FitNation\, 1655 Nations Drive\, Gurnee\, IL\, 60031\, United States
CATEGORIES:Group Exercise
ATTACH;FMTTYPE=image/png:https://www.gurneeparkdistrict.com/wp-content/uploads/2024/01/FitN2020_Group_Ex_Square_1.png
END:VEVENT
BEGIN:VEVENT
DTSTART;TZID=America/Chicago:20250819T171500
DTEND;TZID=America/Chicago:20250819T180000
DTSTAMP:20260419T203838
CREATED:20250729T160326Z
LAST-MODIFIED:20250729T160326Z
UID:10003674-1755623700-1755626400@www.gurneeparkdistrict.com
SUMMARY:Body Step Express with Denise
DESCRIPTION:Compelling cardio fitness that shapes and tones the legs\, improves coordination\, bone density\, posture and agility with easy to follow choreographed combinations using an adjustable step platform.
URL:https://www.gurneeparkdistrict.com/event/body-step-express-with-denise-69/
LOCATION:FitNation\, 1655 Nations Drive\, Gurnee\, IL\, 60031\, United States
CATEGORIES:Group Exercise
ATTACH;FMTTYPE=image/png:https://www.gurneeparkdistrict.com/wp-content/uploads/2024/01/FitN2020_Group_Ex_Square_1.png
END:VEVENT
BEGIN:VEVENT
DTSTART;TZID=America/Chicago:20250819T181500
DTEND;TZID=America/Chicago:20250819T190000
DTSTAMP:20260419T203838
CREATED:20250729T160327Z
LAST-MODIFIED:20250729T160327Z
UID:10003676-1755627300-1755630000@www.gurneeparkdistrict.com
SUMMARY:Barre with Erica
DESCRIPTION:Barre – A class that combines moves based on classical ballet using a ballet barre for balance and strength.  \n*Add Group Exercise to your FitNation membership for an additional $12 per month.
URL:https://www.gurneeparkdistrict.com/event/barre-with-erica-74/
LOCATION:FitNation\, 1655 Nations Drive\, Gurnee\, IL\, 60031\, United States
CATEGORIES:Group Exercise
ATTACH;FMTTYPE=image/png:https://www.gurneeparkdistrict.com/wp-content/uploads/2024/01/FitN2020_Group_Ex_Square_1.png
END:VEVENT
BEGIN:VEVENT
DTSTART;TZID=America/Chicago:20250819T181500
DTEND;TZID=America/Chicago:20250819T191500
DTSTAMP:20260419T203838
CREATED:20250729T160326Z
LAST-MODIFIED:20250729T160326Z
UID:10003675-1755627300-1755630900@www.gurneeparkdistrict.com
SUMMARY:Body Pump with Denise
DESCRIPTION:A choreographed strength and conditioning classes that uses high repetition with lower weights. Fun and inspiring music is used to motivate participants through 10 powerful tracks. (Please note\, express classes will complete less than 10 tracks.)
URL:https://www.gurneeparkdistrict.com/event/body-pump-with-denise-147/
LOCATION:FitNation\, 1655 Nations Drive\, Gurnee\, IL\, 60031\, United States
CATEGORIES:Group Exercise
ATTACH;FMTTYPE=image/png:https://www.gurneeparkdistrict.com/wp-content/uploads/2024/01/FitN2020_Group_Ex_Square_1.png
END:VEVENT
END:VCALENDAR