BEGIN:VCALENDAR
VERSION:2.0
PRODID:-//Gurnee Park District - ECPv6.15.20//NONSGML v1.0//EN
CALSCALE:GREGORIAN
METHOD:PUBLISH
X-ORIGINAL-URL:https://www.gurneeparkdistrict.com
X-WR-CALDESC:Events for Gurnee Park District
REFRESH-INTERVAL;VALUE=DURATION:PT1H
X-Robots-Tag:noindex
X-PUBLISHED-TTL:PT1H
BEGIN:VTIMEZONE
TZID:America/Chicago
BEGIN:DAYLIGHT
TZOFFSETFROM:-0600
TZOFFSETTO:-0500
TZNAME:CDT
DTSTART:20240310T080000
END:DAYLIGHT
BEGIN:STANDARD
TZOFFSETFROM:-0500
TZOFFSETTO:-0600
TZNAME:CST
DTSTART:20241103T070000
END:STANDARD
BEGIN:DAYLIGHT
TZOFFSETFROM:-0600
TZOFFSETTO:-0500
TZNAME:CDT
DTSTART:20250309T080000
END:DAYLIGHT
BEGIN:STANDARD
TZOFFSETFROM:-0500
TZOFFSETTO:-0600
TZNAME:CST
DTSTART:20251102T070000
END:STANDARD
BEGIN:DAYLIGHT
TZOFFSETFROM:-0600
TZOFFSETTO:-0500
TZNAME:CDT
DTSTART:20260308T080000
END:DAYLIGHT
BEGIN:STANDARD
TZOFFSETFROM:-0500
TZOFFSETTO:-0600
TZNAME:CST
DTSTART:20261101T070000
END:STANDARD
END:VTIMEZONE
BEGIN:VEVENT
DTSTART;TZID=America/Chicago:20250731T180000
DTEND;TZID=America/Chicago:20250731T193000
DTSTAMP:20260425T221912
CREATED:20250506T200615Z
LAST-MODIFIED:20250506T200615Z
UID:10002656-1753984800-1753990200@www.gurneeparkdistrict.com
SUMMARY:Girls Who Grill Class (18+)
DESCRIPTION:Have you always wanted to learn how to grill? Now is your chance! Grab a friend and sign up for this beginner class instructed by “Babs Boards” to learn how to grill on a gas grill. Class sizes are small for more hands-on learning time. Enjoy time with your friends while learning the top grilling tips for successful grilling. The class includes all supplies and a delicious tasting of all the fabulous grilled meal at the end of the class.  \nAbout Babs: After a successful 25-year corporate career\, Babs followed her passion for entertaining and founded Babs Boards in 2021. She has taught over 130 Girls Who Grill and charcuterie classes\, inspiring more women to step up to the grill with confidence. Babs has been a guest chef at The Weber Grill Cooking School\, was the only female competitor in an Ace Hardware’s Wings Competition\, and regularly appears on Chicago morning TV\, showcasing grilling and entertaining tips. On April 2nd\, she made her QVC debut with Char Crust\, bringing her grilling expertise to a national audience.  Babs mission isn’t about being the best pit master—it’s about making grilling approachable\, fun\, and accessible for everyone. \nThursday\, July 31\n6:00-7:30pm\nViking Park Shelter \nSave your spot! 
URL:https://www.gurneeparkdistrict.com/event/girls-who-grill-class-18/
LOCATION:Viking Park\, 4374 Old Grand Avenue\, Gurnee\, IL\, 60031\, United States
CATEGORIES:Special Events
ATTACH;FMTTYPE=image/png:https://www.gurneeparkdistrict.com/wp-content/uploads/2025/05/GPD2025_New-Adult-Programming_Calendar-1080-x-1080-copy.png
END:VEVENT
END:VCALENDAR