BEGIN:VCALENDAR
VERSION:2.0
PRODID:-//Gurnee Park District - ECPv6.15.20//NONSGML v1.0//EN
CALSCALE:GREGORIAN
METHOD:PUBLISH
X-ORIGINAL-URL:https://www.gurneeparkdistrict.com
X-WR-CALDESC:Events for Gurnee Park District
REFRESH-INTERVAL;VALUE=DURATION:PT1H
X-Robots-Tag:noindex
X-PUBLISHED-TTL:PT1H
BEGIN:VTIMEZONE
TZID:America/Chicago
BEGIN:DAYLIGHT
TZOFFSETFROM:-0600
TZOFFSETTO:-0500
TZNAME:CDT
DTSTART:20240310T080000
END:DAYLIGHT
BEGIN:STANDARD
TZOFFSETFROM:-0500
TZOFFSETTO:-0600
TZNAME:CST
DTSTART:20241103T070000
END:STANDARD
BEGIN:DAYLIGHT
TZOFFSETFROM:-0600
TZOFFSETTO:-0500
TZNAME:CDT
DTSTART:20250309T080000
END:DAYLIGHT
BEGIN:STANDARD
TZOFFSETFROM:-0500
TZOFFSETTO:-0600
TZNAME:CST
DTSTART:20251102T070000
END:STANDARD
BEGIN:DAYLIGHT
TZOFFSETFROM:-0600
TZOFFSETTO:-0500
TZNAME:CDT
DTSTART:20260308T080000
END:DAYLIGHT
BEGIN:STANDARD
TZOFFSETFROM:-0500
TZOFFSETTO:-0600
TZNAME:CST
DTSTART:20261101T070000
END:STANDARD
END:VTIMEZONE
BEGIN:VEVENT
DTSTART;TZID=America/Chicago:20250730T050000
DTEND;TZID=America/Chicago:20250730T160000
DTSTAMP:20260423T132906
CREATED:20250630T173304Z
LAST-MODIFIED:20250630T173304Z
UID:10003454-1753851600-1753891200@www.gurneeparkdistrict.com
SUMMARY:Member Lap Swim
DESCRIPTION:Reserved for FitNation members or day pass visitors. Lifeguards WILL NOT be on duty during member lap swim. View FitNation Pool Rules and Regulations
URL:https://www.gurneeparkdistrict.com/event/member-lap-swim-1020/
LOCATION:FitNation\, 1655 Nations Drive\, Gurnee\, IL\, 60031\, United States
CATEGORIES:FitNation Lap Swim
ATTACH;FMTTYPE=image/png:https://www.gurneeparkdistrict.com/wp-content/uploads/2024/02/Lap-Swim.png
END:VEVENT
BEGIN:VEVENT
DTSTART;TZID=America/Chicago:20250730T050000
DTEND;TZID=America/Chicago:20250730T170000
DTSTAMP:20260423T132906
CREATED:20250624T125048Z
LAST-MODIFIED:20250624T125048Z
UID:10003110-1753851600-1753894800@www.gurneeparkdistrict.com
SUMMARY:FitNation Pickleball - Reservations Required
DESCRIPTION:1) Pickleball is reserved for FitNation members only.\n2) Masks are not required within FitNation or any Gurnee Park District Facility.\n3) All pickleball players must check-in at the front desk prior to entering the Flex Studio.\n4) Reservations for pickleball play must be made online via our website and will only be held for 15 minutes past the start time of the reservation. The court will be released if the players don’t show by that time.\n5) Reservations made can be no longer than 1 hour per person/group. Multiple people in the same group cannot reserve the court for each person for 1 hour\n6) All group members need to be listed when the reservation is made.\n7) Paddles must be checked out from the front desk and a photo id is required in exchange for the equipment.\n8) Inappropriate language and fighting are prohibited at all times.
URL:https://www.gurneeparkdistrict.com/event/fitnation-pickleball-reservations-required-714/
LOCATION:FitNation\, 1655 Nations Drive\, Gurnee\, IL\, 60031\, United States
CATEGORIES:FitNation Pickleball
ATTACH;FMTTYPE=image/png:https://www.gurneeparkdistrict.com/wp-content/uploads/2024/04/FN-Pickleball_1.png
END:VEVENT
BEGIN:VEVENT
DTSTART;TZID=America/Chicago:20250730T083000
DTEND;TZID=America/Chicago:20250730T090000
DTSTAMP:20260423T132906
CREATED:20250624T135746Z
LAST-MODIFIED:20250624T135746Z
UID:10003349-1753864200-1753866000@www.gurneeparkdistrict.com
SUMMARY:FREE Group Ex Week for ALL FitNation Members 7/27-8/2 - Guts and Butts with Mandi
DESCRIPTION:This 30 minute powerhouse class will work to strengthen the core and define the back side. Using a variety of equipment you will work both the front and back.\nFREE Group Ex Week for ALL FitNation Members 7/27-8/2
URL:https://www.gurneeparkdistrict.com/event/free-group-ex-week-for-all-fitnation-members-7-27-8-2-guts-and-butts-with-mandi/
LOCATION:FitNation\, 1655 Nations Drive\, Gurnee\, IL\, 60031\, United States
CATEGORIES:Group Exercise
ATTACH;FMTTYPE=image/png:https://www.gurneeparkdistrict.com/wp-content/uploads/2024/01/FitN2020_Group_Ex_Square_1.png
END:VEVENT
BEGIN:VEVENT
DTSTART;TZID=America/Chicago:20250730T090000
DTEND;TZID=America/Chicago:20250730T094500
DTSTAMP:20260423T132906
CREATED:20250624T135746Z
LAST-MODIFIED:20250624T135746Z
UID:10003350-1753866000-1753868700@www.gurneeparkdistrict.com
SUMMARY:FREE Group Ex Week for ALL FitNation Members 7/27-8/2 - Rhythm and Power Ride POP UP with Cristina
DESCRIPTION:This 45 minute class will focus on a high intensity indoor cycle ride to increase your heart rate and burn fat in a shorter amount of time.   All levels are welcome and modifications for a lower intensity will be given.\nFREE Group Ex Week for ALL FitNation Members 7/27-8/2
URL:https://www.gurneeparkdistrict.com/event/free-group-ex-week-for-all-fitnation-members-7-27-8-2-rhythm-and-power-ride-pop-up-with-cristina/
LOCATION:FitNation\, 1655 Nations Drive\, Gurnee\, IL\, 60031\, United States
CATEGORIES:Group Exercise
ATTACH;FMTTYPE=image/png:https://www.gurneeparkdistrict.com/wp-content/uploads/2024/01/FitN2020_Group_Ex_Square_1.png
END:VEVENT
BEGIN:VEVENT
DTSTART;TZID=America/Chicago:20250730T090000
DTEND;TZID=America/Chicago:20250730T094500
DTSTAMP:20260423T132906
CREATED:20250624T135747Z
LAST-MODIFIED:20250624T135747Z
UID:10003351-1753866000-1753868700@www.gurneeparkdistrict.com
SUMMARY:FREE Group Ex Week for ALL FitNation Members 7/27-8/2 - Body Step Express with Mandi
DESCRIPTION:Compelling cardio fitness that shapes and tones the legs\, improves coordination\, bone density\, posture and agility with easy to follow choreographed combinations using an adjustable step platform.\nFREE Group Ex Week for ALL FitNation Members 7/27-8/2
URL:https://www.gurneeparkdistrict.com/event/free-group-ex-week-for-all-fitnation-members-7-27-8-2-body-step-express-with-mandi/
LOCATION:FitNation\, 1655 Nations Drive\, Gurnee\, IL\, 60031\, United States
CATEGORIES:Group Exercise
ATTACH;FMTTYPE=image/png:https://www.gurneeparkdistrict.com/wp-content/uploads/2024/01/FitN2020_Group_Ex_Square_1.png
END:VEVENT
BEGIN:VEVENT
DTSTART;TZID=America/Chicago:20250730T100000
DTEND;TZID=America/Chicago:20250730T105000
DTSTAMP:20260423T132906
CREATED:20250624T135747Z
LAST-MODIFIED:20250624T135747Z
UID:10003353-1753869600-1753872600@www.gurneeparkdistrict.com
SUMMARY:FREE Group Ex Week for ALL FitNation Members 7/27-8/2 - Supported Stretch and Balance with Diane
DESCRIPTION:This class is designed for anyone with wrist\, knee\, or shoulder issues who still want the benefits of yoga. A chair will be provided.  This class will help improve balance and flexibility and give you a great stretch without having to get up and down on the mat.\nFREE Group Ex Week for ALL FitNation Members 7/27-8/2
URL:https://www.gurneeparkdistrict.com/event/free-group-ex-week-for-all-fitnation-members-7-27-8-2-supported-stretch-and-balance-with-diane/
LOCATION:FitNation\, 1655 Nations Drive\, Gurnee\, IL\, 60031\, United States
CATEGORIES:Group Exercise
ATTACH;FMTTYPE=image/png:https://www.gurneeparkdistrict.com/wp-content/uploads/2024/01/FitN2020_Group_Ex_Square_1.png
END:VEVENT
BEGIN:VEVENT
DTSTART;TZID=America/Chicago:20250730T100000
DTEND;TZID=America/Chicago:20250730T105500
DTSTAMP:20260423T132906
CREATED:20250624T135747Z
LAST-MODIFIED:20250624T135747Z
UID:10003352-1753869600-1753872900@www.gurneeparkdistrict.com
SUMMARY:FREE Group Ex Week for ALL FitNation Members 7/27-8/2 - Body Pump with Gina
DESCRIPTION:A choreographed strength and conditioning classes that uses high repetition with lower weights. Fun and inspiring music is used to motivate participants through 10 powerful tracks. (Please note\, express classes will complete less than 10 tracks.)\nFREE Group Ex Week for ALL FitNation Members 7/27-8/2
URL:https://www.gurneeparkdistrict.com/event/free-group-ex-week-for-all-fitnation-members-7-27-8-2-body-pump-with-gina/
LOCATION:FitNation\, 1655 Nations Drive\, Gurnee\, IL\, 60031\, United States
CATEGORIES:Group Exercise
ATTACH;FMTTYPE=image/png:https://www.gurneeparkdistrict.com/wp-content/uploads/2024/01/FitN2020_Group_Ex_Square_1.png
END:VEVENT
BEGIN:VEVENT
DTSTART;TZID=America/Chicago:20250730T110000
DTEND;TZID=America/Chicago:20250730T115000
DTSTAMP:20260423T132906
CREATED:20250624T135748Z
LAST-MODIFIED:20250624T135748Z
UID:10003354-1753873200-1753876200@www.gurneeparkdistrict.com
SUMMARY:FREE Group Ex Week for ALL FitNation Members 7/27-8/2 - Cardio Combo Gold with Gina
DESCRIPTION:Fun fitness class designed for the active older adult. This combination class pairs non-impact cardio\, strength exercises\, balance and flexibility.\nFREE Group Ex Week for ALL FitNation Members 7/27-8/2
URL:https://www.gurneeparkdistrict.com/event/free-group-ex-week-for-all-fitnation-members-7-27-8-2-cardio-combo-gold-with-gina/
LOCATION:FitNation\, 1655 Nations Drive\, Gurnee\, IL\, 60031\, United States
CATEGORIES:Group Exercise
ATTACH;FMTTYPE=image/png:https://www.gurneeparkdistrict.com/wp-content/uploads/2024/01/FitN2020_Group_Ex_Square_1.png
END:VEVENT
BEGIN:VEVENT
DTSTART;TZID=America/Chicago:20250730T170000
DTEND;TZID=America/Chicago:20250730T174500
DTSTAMP:20260423T132906
CREATED:20250624T135748Z
LAST-MODIFIED:20250624T135748Z
UID:10003355-1753894800-1753897500@www.gurneeparkdistrict.com
SUMMARY:FREE Group Ex Week for ALL FitNation Members 7/27-8/2 - Booty Burn POP UP with Mandi
DESCRIPTION:Build up your back side with this 45 minutes all glutes and quads class.  A variety of equipment will be used and your booty will be on fire when you are done.\nFREE Group Ex Week for ALL FitNation Members 7/27-8/2
URL:https://www.gurneeparkdistrict.com/event/free-group-ex-week-for-all-fitnation-members-7-27-8-2-booty-burn-pop-up-with-mandi/
LOCATION:FitNation\, 1655 Nations Drive\, Gurnee\, IL\, 60031\, United States
CATEGORIES:Group Exercise
ATTACH;FMTTYPE=image/png:https://www.gurneeparkdistrict.com/wp-content/uploads/2024/01/FitN2020_Group_Ex_Square_1.png
END:VEVENT
BEGIN:VEVENT
DTSTART;TZID=America/Chicago:20250730T170000
DTEND;TZID=America/Chicago:20250730T210000
DTSTAMP:20260423T132906
CREATED:20250624T125049Z
LAST-MODIFIED:20250624T125049Z
UID:10003111-1753894800-1753909200@www.gurneeparkdistrict.com
SUMMARY:FitNation Pickleball - Reservations Required
DESCRIPTION:1) Pickleball is reserved for FitNation members only.\n2) Masks are not required within FitNation or any Gurnee Park District Facility.\n3) All pickleball players must check-in at the front desk prior to entering the Flex Studio.\n4) Reservations for pickleball play must be made online via our website and will only be held for 15 minutes past the start time of the reservation. The court will be released if the players don’t show by that time.\n5) Reservations made can be no longer than 1 hour per person/group. Multiple people in the same group cannot reserve the court for each person for 1 hour\n6) All group members need to be listed when the reservation is made.\n7) Paddles must be checked out from the front desk and a photo id is required in exchange for the equipment.\n8) Inappropriate language and fighting are prohibited at all times.
URL:https://www.gurneeparkdistrict.com/event/fitnation-pickleball-reservations-required-715/
LOCATION:FitNation\, 1655 Nations Drive\, Gurnee\, IL\, 60031\, United States
CATEGORIES:FitNation Pickleball
ATTACH;FMTTYPE=image/png:https://www.gurneeparkdistrict.com/wp-content/uploads/2024/04/FN-Pickleball_1.png
END:VEVENT
BEGIN:VEVENT
DTSTART;TZID=America/Chicago:20250730T173000
DTEND;TZID=America/Chicago:20250730T181500
DTSTAMP:20260423T132906
CREATED:20250624T135749Z
LAST-MODIFIED:20250624T135749Z
UID:10003356-1753896600-1753899300@www.gurneeparkdistrict.com
SUMMARY:FREE Group Ex Week for ALL FitNation Members 7/27-8/2 - LIIT Gold with Ilona
DESCRIPTION:LOW INTENSITY INTERVAL TRAINING!  A fun\, non-impact\, fitness class designed for the active older adult\, someone new to exercise or someone just getting back into exercise and wants to ease back in.  A low intensity interval cardio and strength workout consisting of blocks of work followed by periods of rest.  All different equipment and modalities will be utilized for an all over body workout.\nFREE Group Ex Week for ALL FitNation Members 7/27-8/2
URL:https://www.gurneeparkdistrict.com/event/free-group-ex-week-for-all-fitnation-members-7-27-8-2-liit-gold-with-ilona/
LOCATION:FitNation\, 1655 Nations Drive\, Gurnee\, IL\, 60031\, United States
CATEGORIES:Group Exercise
ATTACH;FMTTYPE=image/png:https://www.gurneeparkdistrict.com/wp-content/uploads/2024/01/FitN2020_Group_Ex_Square_1.png
END:VEVENT
BEGIN:VEVENT
DTSTART;TZID=America/Chicago:20250730T173000
DTEND;TZID=America/Chicago:20250730T193000
DTSTAMP:20260423T132907
CREATED:20250423T151143Z
LAST-MODIFIED:20250730T201124Z
UID:10002186-1753896600-1753903800@www.gurneeparkdistrict.com
SUMMARY:CANCELED Neighborhood Nights - Betty Russell Park
DESCRIPTION:CANCELED due to inclement weather.\n \nJoin us at Betty Russell Park for FREE family fun close to home!\nThere will be games & crafts for ages 4-10 years old! In addition\, our friends from Warren-Newport Public Library will be onsite with the Bookmobile!\nWednesday\, July 305:30-7:30 pm\nRemember to check Rainout Line for inclement weather updates.
URL:https://www.gurneeparkdistrict.com/event/neighborhood-nights-betty-russell-park-2/
LOCATION:Betty Russell Park\, 5300 Pinewood Road\, Gurnee\, IL\, 60031\, United States
CATEGORIES:Special Events
ATTACH;FMTTYPE=image/png:https://www.gurneeparkdistrict.com/wp-content/uploads/2025/04/GPD2025_Neighborhood-Nights_Social_Calendar-1080-x-1080.png
END:VEVENT
BEGIN:VEVENT
DTSTART;TZID=America/Chicago:20250730T174500
DTEND;TZID=America/Chicago:20250730T184500
DTSTAMP:20260423T132907
CREATED:20250624T135749Z
LAST-MODIFIED:20250624T135749Z
UID:10003357-1753897500-1753901100@www.gurneeparkdistrict.com
SUMMARY:FREE Group Ex Week for ALL FitNation Members 7/27-8/2 - Body Combat with Elizabeth
DESCRIPTION:This fiercely energetic cardio program is inspired by martial arts and draws from a wide array of disciplines such as Karate\, Tae Kwon Do\, Tai Chi and Muay Thai\, supported by powerful music.\nFREE Group Ex Week for ALL FitNation Members 7/27-8/2
URL:https://www.gurneeparkdistrict.com/event/free-group-ex-week-for-all-fitnation-members-7-27-8-2-body-combat-with-elizabeth-3/
LOCATION:FitNation\, 1655 Nations Drive\, Gurnee\, IL\, 60031\, United States
CATEGORIES:Group Exercise
ATTACH;FMTTYPE=image/png:https://www.gurneeparkdistrict.com/wp-content/uploads/2024/01/FitN2020_Group_Ex_Square_1.png
END:VEVENT
BEGIN:VEVENT
DTSTART;TZID=America/Chicago:20250730T180000
DTEND;TZID=America/Chicago:20250730T193000
DTSTAMP:20260423T132907
CREATED:20250506T202609Z
LAST-MODIFIED:20250514T192218Z
UID:10002657-1753898400-1753903800@www.gurneeparkdistrict.com
SUMMARY:Charcuterie Class (18+)
DESCRIPTION:Have you always wanted to learn how to make a salami rose? Now is your chance! An instructor from “Babs Boards” will teach participants techniques to make a salami rose and other tricks to design the perfect Charcuterie Board! All supplies and guidance needed for each participant to make an individual charcuterie board to bring home to share with family and friends are included in this hands-on interactive class.  \nAbout Babs Boards: After a successful 25-year corporate career\, Babs followed her lifelong passion for entertaining and founded Babs Boards in 2021. Her expertise in charcuterie and hospitality quickly earned her recognition as a go-to entertaining expert. She has taught over 150 Charcuterie & Girls Who Grill classes\, designed stunning custom grazing tables for a variety of events\, and mentored aspiring culinary talents. Her career highlights include appearances on WGN\, Fox\, and CBS\, as well as leading a charcuterie class at the iconic Wrigley Field. In 2025\, Babs expanded her offerings with the launch of Babs Entertains\, where she continues to inspire and teach others how to host unforgettable gatherings in their own homes. \nWednesday\, July 30\n6:00-7:30pm\nViking Park Community Center
URL:https://www.gurneeparkdistrict.com/event/charcuterie-class-18/
LOCATION:IL
CATEGORIES:Special Events
ATTACH;FMTTYPE=image/png:https://www.gurneeparkdistrict.com/wp-content/uploads/2025/05/GPD2025_New-Adult-Programming_Calendar-1080-x-1080-copy-2.png
END:VEVENT
BEGIN:VEVENT
DTSTART;TZID=America/Chicago:20250730T183000
DTEND;TZID=America/Chicago:20250730T193000
DTSTAMP:20260423T132907
CREATED:20250624T135750Z
LAST-MODIFIED:20250624T135750Z
UID:10003358-1753900200-1753903800@www.gurneeparkdistrict.com
SUMMARY:FREE Group Ex Week for ALL FitNation Members 7/27-8/2 - Yoga with Amy
DESCRIPTION:In this class\, postures are practiced to align\, strengthen and promote flexibility. Breathing and meditation are also integrated. Emphasis on simplicity\, repetition\, and ease of movement. Full-body relaxation and balance are the goals\, as we make a full circuit of the bodyâ€™s range of motion with standing postures\, twists\, forward folds\, and hip openers. Unless otherwise speci-fied\, yoga classes will follow Hatha format. Vinyasa- Smooth transitions from pose to pose.  The body moves in sync with the breath. Gentle and Yin Yoga:  Slower  paced and more meditation held for 3-5 minutes.  Please bring a Yoga mat with you to class.\nFREE Group Ex Week for ALL FitNation Members 7/27-8/2
URL:https://www.gurneeparkdistrict.com/event/free-group-ex-week-for-all-fitnation-members-7-27-8-2-yoga-with-amy/
LOCATION:FitNation\, 1655 Nations Drive\, Gurnee\, IL\, 60031\, United States
CATEGORIES:Group Exercise
ATTACH;FMTTYPE=image/png:https://www.gurneeparkdistrict.com/wp-content/uploads/2024/01/FitN2020_Group_Ex_Square_1.png
END:VEVENT
BEGIN:VEVENT
DTSTART;TZID=America/Chicago:20250730T190000
DTEND;TZID=America/Chicago:20250730T213000
DTSTAMP:20260423T132907
CREATED:20250630T173305Z
LAST-MODIFIED:20250630T173305Z
UID:10003455-1753902000-1753911000@www.gurneeparkdistrict.com
SUMMARY:Member Lap Swim
DESCRIPTION:Reserved for FitNation members or day pass visitors. Lifeguards WILL NOT be on duty during member lap swim. View FitNation Pool Rules and Regulations
URL:https://www.gurneeparkdistrict.com/event/member-lap-swim-1021/
LOCATION:FitNation\, 1655 Nations Drive\, Gurnee\, IL\, 60031\, United States
CATEGORIES:FitNation Lap Swim
ATTACH;FMTTYPE=image/png:https://www.gurneeparkdistrict.com/wp-content/uploads/2024/02/Lap-Swim.png
END:VEVENT
BEGIN:VEVENT
DTSTART;TZID=America/Chicago:20250730T210000
DTEND;TZID=America/Chicago:20250730T220000
DTSTAMP:20260423T132907
CREATED:20250624T125049Z
LAST-MODIFIED:20250624T125049Z
UID:10003112-1753909200-1753912800@www.gurneeparkdistrict.com
SUMMARY:FitNation Pickleball - Reservations Required
DESCRIPTION:1) Pickleball is reserved for FitNation members only.\n2) Masks are not required within FitNation or any Gurnee Park District Facility.\n3) All pickleball players must check-in at the front desk prior to entering the Flex Studio.\n4) Reservations for pickleball play must be made online via our website and will only be held for 15 minutes past the start time of the reservation. The court will be released if the players don’t show by that time.\n5) Reservations made can be no longer than 1 hour per person/group. Multiple people in the same group cannot reserve the court for each person for 1 hour\n6) All group members need to be listed when the reservation is made.\n7) Paddles must be checked out from the front desk and a photo id is required in exchange for the equipment.\n8) Inappropriate language and fighting are prohibited at all times.
URL:https://www.gurneeparkdistrict.com/event/fitnation-pickleball-reservations-required-716/
LOCATION:FitNation\, 1655 Nations Drive\, Gurnee\, IL\, 60031\, United States
CATEGORIES:FitNation Pickleball
ATTACH;FMTTYPE=image/png:https://www.gurneeparkdistrict.com/wp-content/uploads/2024/04/FN-Pickleball_1.png
END:VEVENT
END:VCALENDAR