BEGIN:VCALENDAR
VERSION:2.0
PRODID:-//Gurnee Park District - ECPv6.15.20//NONSGML v1.0//EN
CALSCALE:GREGORIAN
METHOD:PUBLISH
X-WR-CALNAME:Gurnee Park District
X-ORIGINAL-URL:https://www.gurneeparkdistrict.com
X-WR-CALDESC:Events for Gurnee Park District
REFRESH-INTERVAL;VALUE=DURATION:PT1H
X-Robots-Tag:noindex
X-PUBLISHED-TTL:PT1H
BEGIN:VTIMEZONE
TZID:America/Chicago
BEGIN:DAYLIGHT
TZOFFSETFROM:-0600
TZOFFSETTO:-0500
TZNAME:CDT
DTSTART:20240310T080000
END:DAYLIGHT
BEGIN:STANDARD
TZOFFSETFROM:-0500
TZOFFSETTO:-0600
TZNAME:CST
DTSTART:20241103T070000
END:STANDARD
BEGIN:DAYLIGHT
TZOFFSETFROM:-0600
TZOFFSETTO:-0500
TZNAME:CDT
DTSTART:20250309T080000
END:DAYLIGHT
BEGIN:STANDARD
TZOFFSETFROM:-0500
TZOFFSETTO:-0600
TZNAME:CST
DTSTART:20251102T070000
END:STANDARD
BEGIN:DAYLIGHT
TZOFFSETFROM:-0600
TZOFFSETTO:-0500
TZNAME:CDT
DTSTART:20260308T080000
END:DAYLIGHT
BEGIN:STANDARD
TZOFFSETFROM:-0500
TZOFFSETTO:-0600
TZNAME:CST
DTSTART:20261101T070000
END:STANDARD
END:VTIMEZONE
BEGIN:VEVENT
DTSTART;TZID=America/Chicago:20250713T090000
DTEND;TZID=America/Chicago:20250713T103000
DTSTAMP:20260425T214800
CREATED:20250506T193040Z
LAST-MODIFIED:20250506T193040Z
UID:10002652-1752397200-1752402600@www.gurneeparkdistrict.com
SUMMARY:GO Gurnee Walking & Wagging
DESCRIPTION:Join us for a FREE GO Gurnee “Walking and Wagging” event on Sunday\, July 13!\n \nBring your four-legged best friend for a guided 1.5 mile walk around the trails of Southridge Park! Attendees will receive FREE pet-friendly GO Gurnee gifts (while supplies last).\n \nSunday\, July 13\n9:00-10:30am\nSouthridge Park | Southridge Drive\, Gurnee\n \nThis is a FREE event\, but please make sure to register!
URL:https://www.gurneeparkdistrict.com/event/go-gurnee-walking-wagging-2/
LOCATION:South Ridge Park\, 285 Southridge Drive\, Gurnee\, IL\, 60031\, United States
CATEGORIES:GO Gurnee,Special Events
ATTACH;FMTTYPE=image/png:https://www.gurneeparkdistrict.com/wp-content/uploads/2025/02/GPD-2024-GO-Gurnee-Walking-Wagging-September_Calendar-1080-x-1080.png
END:VEVENT
END:VCALENDAR