BEGIN:VCALENDAR
VERSION:2.0
PRODID:-//Gurnee Park District - ECPv6.15.20//NONSGML v1.0//EN
CALSCALE:GREGORIAN
METHOD:PUBLISH
X-WR-CALNAME:Gurnee Park District
X-ORIGINAL-URL:https://www.gurneeparkdistrict.com
X-WR-CALDESC:Events for Gurnee Park District
REFRESH-INTERVAL;VALUE=DURATION:PT1H
X-Robots-Tag:noindex
X-PUBLISHED-TTL:PT1H
BEGIN:VTIMEZONE
TZID:America/Chicago
BEGIN:DAYLIGHT
TZOFFSETFROM:-0600
TZOFFSETTO:-0500
TZNAME:CDT
DTSTART:20240310T080000
END:DAYLIGHT
BEGIN:STANDARD
TZOFFSETFROM:-0500
TZOFFSETTO:-0600
TZNAME:CST
DTSTART:20241103T070000
END:STANDARD
BEGIN:DAYLIGHT
TZOFFSETFROM:-0600
TZOFFSETTO:-0500
TZNAME:CDT
DTSTART:20250309T080000
END:DAYLIGHT
BEGIN:STANDARD
TZOFFSETFROM:-0500
TZOFFSETTO:-0600
TZNAME:CST
DTSTART:20251102T070000
END:STANDARD
BEGIN:DAYLIGHT
TZOFFSETFROM:-0600
TZOFFSETTO:-0500
TZNAME:CDT
DTSTART:20260308T080000
END:DAYLIGHT
BEGIN:STANDARD
TZOFFSETFROM:-0500
TZOFFSETTO:-0600
TZNAME:CST
DTSTART:20261101T070000
END:STANDARD
END:VTIMEZONE
BEGIN:VEVENT
DTSTART;TZID=America/Chicago:20250626T190000
DTEND;TZID=America/Chicago:20250626T203000
DTSTAMP:20260425T221041
CREATED:20250415T191046Z
LAST-MODIFIED:20250415T191046Z
UID:10002124-1750964400-1750969800@www.gurneeparkdistrict.com
SUMMARY:Sounds of Summer Concert - "Billy Elton" (FREE)
DESCRIPTION:Join us for Sounds of Summer\, our FREE summer concert series! “Billy Elton” will be performing!\n \nThursday\, June 267:00 – 8:30pmViking Park Band Shell | 4374 Old Grand Avenue\, GurneeAll ages welcome!FREE!\n \nBe sure to bring blankets or chairs. Concessions will be available for purchase\, courtesy of the Exchange Club of Gurnee. Dogs are welcome and should be well-behaved and remain on a leash at all times.\n \nRemember to check Rainout Line for inclement weather updates: https://rainoutline.com/gurneeparkdistrict
URL:https://www.gurneeparkdistrict.com/event/sounds-of-summer-concert-billy-elton-free/
LOCATION:Viking Park\, 4374 Old Grand Avenue\, Gurnee\, IL\, 60031\, United States
CATEGORIES:Special Events
ATTACH;FMTTYPE=image/png:https://www.gurneeparkdistrict.com/wp-content/uploads/2025/04/GPD2025_Sounds-of-Summer_Adult_Social-Campaign_Calendar-2-1080-x-1080.png
END:VEVENT
END:VCALENDAR