BEGIN:VCALENDAR
VERSION:2.0
PRODID:-//Gurnee Park District - ECPv6.15.20//NONSGML v1.0//EN
CALSCALE:GREGORIAN
METHOD:PUBLISH
X-ORIGINAL-URL:https://www.gurneeparkdistrict.com
X-WR-CALDESC:Events for Gurnee Park District
REFRESH-INTERVAL;VALUE=DURATION:PT1H
X-Robots-Tag:noindex
X-PUBLISHED-TTL:PT1H
BEGIN:VTIMEZONE
TZID:America/Chicago
BEGIN:DAYLIGHT
TZOFFSETFROM:-0600
TZOFFSETTO:-0500
TZNAME:CDT
DTSTART:20240310T080000
END:DAYLIGHT
BEGIN:STANDARD
TZOFFSETFROM:-0500
TZOFFSETTO:-0600
TZNAME:CST
DTSTART:20241103T070000
END:STANDARD
BEGIN:DAYLIGHT
TZOFFSETFROM:-0600
TZOFFSETTO:-0500
TZNAME:CDT
DTSTART:20250309T080000
END:DAYLIGHT
BEGIN:STANDARD
TZOFFSETFROM:-0500
TZOFFSETTO:-0600
TZNAME:CST
DTSTART:20251102T070000
END:STANDARD
BEGIN:DAYLIGHT
TZOFFSETFROM:-0600
TZOFFSETTO:-0500
TZNAME:CDT
DTSTART:20260308T080000
END:DAYLIGHT
BEGIN:STANDARD
TZOFFSETFROM:-0500
TZOFFSETTO:-0600
TZNAME:CST
DTSTART:20261101T070000
END:STANDARD
END:VTIMEZONE
BEGIN:VEVENT
DTSTART;TZID=America/Chicago:20250517T070000
DTEND;TZID=America/Chicago:20250517T080000
DTSTAMP:20260419T163154
CREATED:20250425T142302Z
LAST-MODIFIED:20250425T142302Z
UID:10002620-1747465200-1747468800@www.gurneeparkdistrict.com
SUMMARY:FitNation Pickleball - Reservations Required
DESCRIPTION:1) Pickleball is reserved for FitNation members only.\n2) All pickleball players must check-in at the front desk prior to entering the Flex Studio.\n3) Reservations for pickleball play must be made online via our website and will only be held for 15 minutes past the start time of the reservation. The court will be released if the players don’t show by that time.\n4) Reservations made can be no longer than 1 hour per person/group. Multiple people in the same group cannot reserve the court for each person for 1 hour\n5) All group members need to be listed when the reservation is made.\n6) Paddles must be checked out from the front desk and a photo id is required in exchange for the equipment.\n7) Inappropriate language and fighting are prohibited at all times.
URL:https://www.gurneeparkdistrict.com/event/fitnation-pickleball-reservations-required-594/
LOCATION:FitNation\, 1655 Nations Drive\, Gurnee\, IL\, 60031\, United States
CATEGORIES:FitNation Pickleball
ATTACH;FMTTYPE=image/png:https://www.gurneeparkdistrict.com/wp-content/uploads/2024/04/FN-Pickleball_1.png
END:VEVENT
BEGIN:VEVENT
DTSTART;TZID=America/Chicago:20250517T070000
DTEND;TZID=America/Chicago:20250517T090000
DTSTAMP:20260419T163154
CREATED:20250423T173926Z
LAST-MODIFIED:20250423T173926Z
UID:10002201-1747465200-1747472400@www.gurneeparkdistrict.com
SUMMARY:Adult Open Gym
DESCRIPTION:Tuesday Evening & Saturday Morning 19+ 	 \n– FitNation Members Only or 10 visit punch pass user open gym \n1. Payment or proof of FitNation membership must be made at the registration desk\n2. Gym shoes must be worn on the court\n3. Street shoes\, roller shoes\, and Heelys are not permitted\n4. Proper attire must be worn\n5. Bottled water is the only food/beverage permitted\n6. Foul or abusive language attempted confrontation or physical confrontation will result in immediate expulsion from the facility\n7. No person or team can own the court\n8. If only one court is available\, side courts might be required based on age\, skill level and the number of participants\n9.  If two courts are available\, courts might be divided by age\, skill level and the number of participants\n10. Teaching private lessons and conducting team practices are not permitted\n11. Gurnee Park District reserves the right to cancel and/or change this schedule at any time\n12. No dunking\n13. Failure to adhere to any rule can result in expulsion from the facility\, revocation of FitNation membership\, and/or suspension/banning from the open gym
URL:https://www.gurneeparkdistrict.com/event/adult-open-gym-100/
LOCATION:Hunt Club Park Community Center\, 920 North Hunt Club Road\, Gurnee\, IL\, 60031\, United States
CATEGORIES:Hunt Club Open Gym
ATTACH;FMTTYPE=image/png:https://www.gurneeparkdistrict.com/wp-content/uploads/2024/02/HC-Open-Gym.png
END:VEVENT
BEGIN:VEVENT
DTSTART;TZID=America/Chicago:20250517T070000
DTEND;TZID=America/Chicago:20250517T183000
DTSTAMP:20260419T163154
CREATED:20250421T163820Z
LAST-MODIFIED:20250421T163820Z
UID:10002160-1747465200-1747506600@www.gurneeparkdistrict.com
SUMMARY:Member Lap Swim
DESCRIPTION:Reserved for FitNation members or day pass visitors. Lifeguards WILL NOT be on duty during member lap swim. View FitNation Pool Rules and Regulations
URL:https://www.gurneeparkdistrict.com/event/member-lap-swim-881/
LOCATION:FitNation\, 1655 Nations Drive\, Gurnee\, IL\, 60031\, United States
CATEGORIES:FitNation Lap Swim
ATTACH;FMTTYPE=image/png:https://www.gurneeparkdistrict.com/wp-content/uploads/2024/02/Lap-Swim.png
END:VEVENT
BEGIN:VEVENT
DTSTART;TZID=America/Chicago:20250517T073000
DTEND;TZID=America/Chicago:20250517T083000
DTSTAMP:20260419T163154
CREATED:20250423T175321Z
LAST-MODIFIED:20250423T175321Z
UID:10002456-1747467000-1747470600@www.gurneeparkdistrict.com
SUMMARY:Body Pump with Cristina
DESCRIPTION:A choreographed strength and conditioning classes that uses high repetition with lower weights. Fun and inspiring music is used to motivate participants through 10 powerful tracks. (Please note\, express classes will complete less than 10 tracks.)
URL:https://www.gurneeparkdistrict.com/event/body-pump-with-cristina-41/
LOCATION:FitNation\, 1655 Nations Drive\, Gurnee\, IL\, 60031\, United States
CATEGORIES:Group Exercise
ATTACH;FMTTYPE=image/png:https://www.gurneeparkdistrict.com/wp-content/uploads/2024/01/FitN2020_Group_Ex_Square_1.png
END:VEVENT
BEGIN:VEVENT
DTSTART;TZID=America/Chicago:20250517T074500
DTEND;TZID=America/Chicago:20250517T083500
DTSTAMP:20260419T163154
CREATED:20250423T175322Z
LAST-MODIFIED:20250423T175322Z
UID:10002457-1747467900-1747470900@www.gurneeparkdistrict.com
SUMMARY:Cycle with Kevin
DESCRIPTION:An awesome indoor cycling class that provides fun and a challenging cardiovascular workout for all fitness levels. \nDue to limited space\, this class is available to 23 members on a first come\, first serve basis.
URL:https://www.gurneeparkdistrict.com/event/cycle-with-kevin-65/
LOCATION:FitNation\, 1655 Nations Drive\, Gurnee\, IL\, 60031\, United States
CATEGORIES:Group Exercise
ATTACH;FMTTYPE=image/png:https://www.gurneeparkdistrict.com/wp-content/uploads/2024/01/FitN2020_Group_Ex_Square_1.png
END:VEVENT
BEGIN:VEVENT
DTSTART;TZID=America/Chicago:20250517T084500
DTEND;TZID=America/Chicago:20250517T093500
DTSTAMP:20260419T163154
CREATED:20250423T175323Z
LAST-MODIFIED:20250423T175323Z
UID:10002459-1747471500-1747474500@www.gurneeparkdistrict.com
SUMMARY:Cardio Sculpt with Ilona
DESCRIPTION:This low impact aerobic training will use light weight or body weight intervals to tone and strengthen.
URL:https://www.gurneeparkdistrict.com/event/cardio-sculpt-with-ilona-46/
LOCATION:FitNation\, 1655 Nations Drive\, Gurnee\, IL\, 60031\, United States
CATEGORIES:Group Exercise
ATTACH;FMTTYPE=image/png:https://www.gurneeparkdistrict.com/wp-content/uploads/2024/01/FitN2020_Group_Ex_Square_1.png
END:VEVENT
BEGIN:VEVENT
DTSTART;TZID=America/Chicago:20250517T084500
DTEND;TZID=America/Chicago:20250517T094500
DTSTAMP:20260419T163154
CREATED:20250423T175322Z
LAST-MODIFIED:20250423T175322Z
UID:10002458-1747471500-1747475100@www.gurneeparkdistrict.com
SUMMARY:Body Pump with Denise/Amy
DESCRIPTION:A choreographed strength and conditioning classes that uses high repetition with lower weights. Fun and inspiring music is used to motivate participants through 10 powerful tracks. (Please note\, express classes will complete less than 10 tracks.)
URL:https://www.gurneeparkdistrict.com/event/body-pump-with-denise-amy-54/
LOCATION:FitNation\, 1655 Nations Drive\, Gurnee\, IL\, 60031\, United States
CATEGORIES:Group Exercise
ATTACH;FMTTYPE=image/png:https://www.gurneeparkdistrict.com/wp-content/uploads/2024/01/FitN2020_Group_Ex_Square_1.png
END:VEVENT
BEGIN:VEVENT
DTSTART;TZID=America/Chicago:20250517T090000
DTEND;TZID=America/Chicago:20250517T090000
DTSTAMP:20260419T163154
CREATED:20250206T155016Z
LAST-MODIFIED:20250206T155928Z
UID:10001254-1747472400-1747472400@www.gurneeparkdistrict.com
SUMMARY:GO Gurnee Walking Club
DESCRIPTION:Join the GO Gurnee Walking Club at Hastings Lake Forest Preserve (21155 W. Gelden Road\, Lake Villa)! \nView map location here! \nDirections/Walk Details: 2-mile paved path goes around a beautiful lake (an additional 1-mile gravel path available for a very nice 3-mile walk). Limited shade. Pets welcome. Restrooms available. Park by playground (unless full then use the other lot). \nNot a Walking Club member? Join for FREE today!
URL:https://www.gurneeparkdistrict.com/event/go-gurnee-walking-club-71/
LOCATION:Hastings Lake Forest Preserve\, 21155 W. Gelden Road\, Lake Villa\, IL\, 60046\, United States
CATEGORIES:GO Gurnee
ATTACH;FMTTYPE=image/jpeg:https://www.gurneeparkdistrict.com/wp-content/uploads/2024/01/GoGurnee-Spring_Summer_Walks-square.jpg
END:VEVENT
BEGIN:VEVENT
DTSTART;TZID=America/Chicago:20250517T090000
DTEND;TZID=America/Chicago:20250517T103000
DTSTAMP:20260419T163154
CREATED:20250408T143633Z
LAST-MODIFIED:20250408T143633Z
UID:10002113-1747472400-1747477800@www.gurneeparkdistrict.com
SUMMARY:Park Beautification Day
DESCRIPTION:It’s time to grab your gardening gloves and join us to help beautify your community parks! We will be planting flowers\, mulching\, and picking up branches/trash at four Gurnee park locations.\nPlease plan to dress in layers based on the weather – long pants\, old sneakers/shoes\, gardening style gloves\, etc. Additional tools and supplies will be provided.\nAll ages welcome!\n \nPark LocationsHunt Club Park – 900 North Hunt Club RoadO’Plaine Park – O’Plaine Rd. & Russell AvenueRavinia Park – 920 Ravinia DriveViking Park – 4374 Old Grand Avenue\n \nSign-up to volunteer here!
URL:https://www.gurneeparkdistrict.com/event/park-beautification-day/
LOCATION:IL
CATEGORIES:Special Events
ATTACH;FMTTYPE=image/jpeg:https://www.gurneeparkdistrict.com/wp-content/uploads/2025/04/GPD2023-Park-Beautification-square_Insta.jpg
END:VEVENT
BEGIN:VEVENT
DTSTART;TZID=America/Chicago:20250517T100000
DTEND;TZID=America/Chicago:20250517T110000
DTSTAMP:20260419T163154
CREATED:20250423T175323Z
LAST-MODIFIED:20250423T175323Z
UID:10002460-1747476000-1747479600@www.gurneeparkdistrict.com
SUMMARY:Body Attack with Kristin
DESCRIPTION:A high energy\, sports-inspired interval training cardio workout for building strength and endurance. Fun and powerful music help to motivate everyone towards their fitness goals.
URL:https://www.gurneeparkdistrict.com/event/body-attack-with-kristin-59/
LOCATION:FitNation\, 1655 Nations Drive\, Gurnee\, IL\, 60031\, United States
CATEGORIES:Group Exercise
ATTACH;FMTTYPE=image/png:https://www.gurneeparkdistrict.com/wp-content/uploads/2024/01/FitN2020_Group_Ex_Square_1.png
END:VEVENT
BEGIN:VEVENT
DTSTART;TZID=America/Chicago:20250517T100000
DTEND;TZID=America/Chicago:20250517T110000
DTSTAMP:20260419T163154
CREATED:20250423T175324Z
LAST-MODIFIED:20250423T175324Z
UID:10002461-1747476000-1747479600@www.gurneeparkdistrict.com
SUMMARY:Zumba with Erica
DESCRIPTION:A fun\, Latin\, cardio dance class that combines all styles of Latin dance/music.
URL:https://www.gurneeparkdistrict.com/event/zumba-with-erica-63/
LOCATION:FitNation\, 1655 Nations Drive\, Gurnee\, IL\, 60031\, United States
CATEGORIES:Group Exercise
ATTACH;FMTTYPE=image/png:https://www.gurneeparkdistrict.com/wp-content/uploads/2024/01/FitN2020_Group_Ex_Square_1.png
END:VEVENT
BEGIN:VEVENT
DTSTART;TZID=America/Chicago:20250517T120000
DTEND;TZID=America/Chicago:20250517T190000
DTSTAMP:20260419T163154
CREATED:20250425T142302Z
LAST-MODIFIED:20250425T142302Z
UID:10002621-1747483200-1747508400@www.gurneeparkdistrict.com
SUMMARY:FitNation Pickleball - Reservations Required
DESCRIPTION:1) Pickleball is reserved for FitNation members only.\n2) All pickleball players must check-in at the front desk prior to entering the Flex Studio.\n3) Reservations for pickleball play must be made online via our website and will only be held for 15 minutes past the start time of the reservation. The court will be released if the players don’t show by that time.\n4) Reservations made can be no longer than 1 hour per person/group. Multiple people in the same group cannot reserve the court for each person for 1 hour\n5) All group members need to be listed when the reservation is made.\n6) Paddles must be checked out from the front desk and a photo id is required in exchange for the equipment.\n7) Inappropriate language and fighting are prohibited at all times.
URL:https://www.gurneeparkdistrict.com/event/fitnation-pickleball-reservations-required-595/
LOCATION:FitNation\, 1655 Nations Drive\, Gurnee\, IL\, 60031\, United States
CATEGORIES:FitNation Pickleball
ATTACH;FMTTYPE=image/png:https://www.gurneeparkdistrict.com/wp-content/uploads/2024/04/FN-Pickleball_1.png
END:VEVENT
BEGIN:VEVENT
DTSTART;TZID=America/Chicago:20250517T130000
DTEND;TZID=America/Chicago:20250517T150000
DTSTAMP:20260419T163154
CREATED:20250423T173926Z
LAST-MODIFIED:20250423T173926Z
UID:10002202-1747486800-1747494000@www.gurneeparkdistrict.com
SUMMARY:Family Open Gym
DESCRIPTION:Fee: $5.00 | FREE to FitNation Members\nFamilies are invited to open gym.  All ages and ability levels are encouraged to have some fun\, play pick up games or practice skills.\nGurnee Park District requests that guests and FitNation members are aware of the following regulations.  \n1. Children 8 years and under must be accompanied by an adult\n2. Children 9-11 years old must have a parent or guardian present in the facility\n3. Payment or proof of FitNation membership must be made at the registration desk\n4. Gym shoes must be worn on the court\n5. Street shoes\, roller shoes\, and Heelys are not permitted\n6. Proper attire must be worn.\n7. Bottled water is the only food/beverage permitted\n8. Foul or abusive language attempted confrontation or physical confrontation will result in immediate expulsion from the facility\n9. No person or team can own the court.\n10. If only one court is available\, side courts might be required based on age\, skill level and the number of participants\n11.  If two courts are available\, courts might be divided by age\, skill level and the number of participants.\n12. Teaching private lessons and conducting team practices are not permitted.\n13. Gurnee Park District reserves the right to cancel and/or change this schedule at any time\n14. No dunking\n15. Failure to adhere to any rule can result in expulsion from the facility\, revocation of FitNation membership\, and/or suspension/banning from the open gym.
URL:https://www.gurneeparkdistrict.com/event/family-open-gym-55/
LOCATION:Hunt Club Park Community Center\, 920 North Hunt Club Road\, Gurnee\, IL\, 60031\, United States
CATEGORIES:Hunt Club Open Gym
ATTACH;FMTTYPE=image/png:https://www.gurneeparkdistrict.com/wp-content/uploads/2024/02/HC-Open-Gym.png
END:VEVENT
END:VCALENDAR