BEGIN:VCALENDAR
VERSION:2.0
PRODID:-//Gurnee Park District - ECPv6.15.20//NONSGML v1.0//EN
CALSCALE:GREGORIAN
METHOD:PUBLISH
X-ORIGINAL-URL:https://www.gurneeparkdistrict.com
X-WR-CALDESC:Events for Gurnee Park District
REFRESH-INTERVAL;VALUE=DURATION:PT1H
X-Robots-Tag:noindex
X-PUBLISHED-TTL:PT1H
BEGIN:VTIMEZONE
TZID:America/Chicago
BEGIN:DAYLIGHT
TZOFFSETFROM:-0600
TZOFFSETTO:-0500
TZNAME:CDT
DTSTART:20240310T080000
END:DAYLIGHT
BEGIN:STANDARD
TZOFFSETFROM:-0500
TZOFFSETTO:-0600
TZNAME:CST
DTSTART:20241103T070000
END:STANDARD
BEGIN:DAYLIGHT
TZOFFSETFROM:-0600
TZOFFSETTO:-0500
TZNAME:CDT
DTSTART:20250309T080000
END:DAYLIGHT
BEGIN:STANDARD
TZOFFSETFROM:-0500
TZOFFSETTO:-0600
TZNAME:CST
DTSTART:20251102T070000
END:STANDARD
BEGIN:DAYLIGHT
TZOFFSETFROM:-0600
TZOFFSETTO:-0500
TZNAME:CDT
DTSTART:20260308T080000
END:DAYLIGHT
BEGIN:STANDARD
TZOFFSETFROM:-0500
TZOFFSETTO:-0600
TZNAME:CST
DTSTART:20261101T070000
END:STANDARD
END:VTIMEZONE
BEGIN:VEVENT
DTSTART;TZID=America/Chicago:20250116T180000
DTEND;TZID=America/Chicago:20250116T180000
DTSTAMP:20260424T040229
CREATED:20250106T164745Z
LAST-MODIFIED:20250107T150643Z
UID:10000851-1737050400-1737050400@www.gurneeparkdistrict.com
SUMMARY:Viking Park Master Plan Community Input Meeting - Virtual
DESCRIPTION:We want your feedback! The Gurnee Park District is leading an initiative to improve the recreational function and value of Viking Park.   \nA virtual community meeting is being held in January to solicit community input:\nThursday\, January 16 (6:00pm)\n*a Zoom link will be provided day of here: Meetings and Milestones – Viking \n Based on that input\, a Master Plan for Viking Park will be created. Visit the Viking Park master plan webpage for more information. \nWe look forward to hearing from you!
URL:https://www.gurneeparkdistrict.com/event/viking-park-master-plan-community-input-meeting-virtual/
LOCATION:IL
CATEGORIES:Special Events
ATTACH;FMTTYPE=image/png:https://www.gurneeparkdistrict.com/wp-content/uploads/2025/01/Viking-Park-Master-Plan.png
END:VEVENT
END:VCALENDAR