BEGIN:VCALENDAR
VERSION:2.0
PRODID:-//Gurnee Park District - ECPv6.15.20//NONSGML v1.0//EN
CALSCALE:GREGORIAN
METHOD:PUBLISH
X-WR-CALNAME:Gurnee Park District
X-ORIGINAL-URL:https://www.gurneeparkdistrict.com
X-WR-CALDESC:Events for Gurnee Park District
REFRESH-INTERVAL;VALUE=DURATION:PT1H
X-Robots-Tag:noindex
X-PUBLISHED-TTL:PT1H
BEGIN:VTIMEZONE
TZID:America/Chicago
BEGIN:DAYLIGHT
TZOFFSETFROM:-0600
TZOFFSETTO:-0500
TZNAME:CDT
DTSTART:20240310T080000
END:DAYLIGHT
BEGIN:STANDARD
TZOFFSETFROM:-0500
TZOFFSETTO:-0600
TZNAME:CST
DTSTART:20241103T070000
END:STANDARD
BEGIN:DAYLIGHT
TZOFFSETFROM:-0600
TZOFFSETTO:-0500
TZNAME:CDT
DTSTART:20250309T080000
END:DAYLIGHT
BEGIN:STANDARD
TZOFFSETFROM:-0500
TZOFFSETTO:-0600
TZNAME:CST
DTSTART:20251102T070000
END:STANDARD
BEGIN:DAYLIGHT
TZOFFSETFROM:-0600
TZOFFSETTO:-0500
TZNAME:CDT
DTSTART:20260308T080000
END:DAYLIGHT
BEGIN:STANDARD
TZOFFSETFROM:-0500
TZOFFSETTO:-0600
TZNAME:CST
DTSTART:20261101T070000
END:STANDARD
END:VTIMEZONE
BEGIN:VEVENT
DTSTART;TZID=America/Chicago:20250115T180000
DTEND;TZID=America/Chicago:20250115T180000
DTSTAMP:20260424T210214
CREATED:20250103T220527Z
LAST-MODIFIED:20250107T150351Z
UID:10000850-1736964000-1736964000@www.gurneeparkdistrict.com
SUMMARY:Viking Park Master Plan Community Input Meeting
DESCRIPTION:We want your feedback! The Gurnee Park District is leading an initiative to improve the recreational function and value of Viking Park.   \nTwo community meetings are being held in January to solicit community input. \nIn-person – Wednesday\, January 15 at Viking Park (6:00pm)\nVirtual – Thursday\, January 16 (6:00pm) \n*a Zoom link will be provided the day of here: Meetings and Milestones – Viking \n Based on the input provided\, a Master Plan for Viking Park will be created. Visit the Viking Park Master Plan webpage for more information. \nWe look forward to hearing from you! \n 
URL:https://www.gurneeparkdistrict.com/event/viking-park-master-plan-community-input-meeting/
LOCATION:Viking Park\, 4374 Old Grand Avenue\, Gurnee\, IL\, 60031\, United States
CATEGORIES:Special Events
ATTACH;FMTTYPE=image/png:https://www.gurneeparkdistrict.com/wp-content/uploads/2025/01/Viking-Park-Master-Plan.png
END:VEVENT
END:VCALENDAR