BEGIN:VCALENDAR
VERSION:2.0
PRODID:-//Gurnee Park District - ECPv6.15.20//NONSGML v1.0//EN
CALSCALE:GREGORIAN
METHOD:PUBLISH
X-ORIGINAL-URL:https://www.gurneeparkdistrict.com
X-WR-CALDESC:Events for Gurnee Park District
REFRESH-INTERVAL;VALUE=DURATION:PT1H
X-Robots-Tag:noindex
X-PUBLISHED-TTL:PT1H
BEGIN:VTIMEZONE
TZID:America/Chicago
BEGIN:DAYLIGHT
TZOFFSETFROM:-0600
TZOFFSETTO:-0500
TZNAME:CDT
DTSTART:20240310T080000
END:DAYLIGHT
BEGIN:STANDARD
TZOFFSETFROM:-0500
TZOFFSETTO:-0600
TZNAME:CST
DTSTART:20241103T070000
END:STANDARD
BEGIN:DAYLIGHT
TZOFFSETFROM:-0600
TZOFFSETTO:-0500
TZNAME:CDT
DTSTART:20250309T080000
END:DAYLIGHT
BEGIN:STANDARD
TZOFFSETFROM:-0500
TZOFFSETTO:-0600
TZNAME:CST
DTSTART:20251102T070000
END:STANDARD
BEGIN:DAYLIGHT
TZOFFSETFROM:-0600
TZOFFSETTO:-0500
TZNAME:CDT
DTSTART:20260308T080000
END:DAYLIGHT
BEGIN:STANDARD
TZOFFSETFROM:-0500
TZOFFSETTO:-0600
TZNAME:CST
DTSTART:20261101T070000
END:STANDARD
END:VTIMEZONE
BEGIN:VEVENT
DTSTART;TZID=America/Chicago:20250102T063000
DTEND;TZID=America/Chicago:20250102T180000
DTSTAMP:20260424T174329
CREATED:20240710T204853Z
LAST-MODIFIED:20241213T205156Z
UID:10000369-1735799400-1735840800@www.gurneeparkdistrict.com
SUMMARY:Days Off School - Candyland Day (Districts 50/56)
DESCRIPTION:Step into a world of sweetness and delight at our Candyland-themed! Join us for a day filled with colorful treats\, fun games\, and magical adventures. \nAre you looking for something for your child to do on the next day off school? Let us take care of the planning. Registration closes one week prior to the program date. Non- Park district residents who reside in Districts 50 or 56 receive resident rates for that specific program. \nwhat to bring:\n– Lunch\n– Water Bottle\n– Appropriate outerwear as some activities may be held outside.  \nThe program time is 6:30am-6:00pm. Children can be dropped off as early as 6:30am and picked up by 6:00pm. Themed activities will take place between 9:00a-3:00pm. \nThursday\, 
URL:https://www.gurneeparkdistrict.com/event/days-off-school-candyland-day-districts-50-56/
LOCATION:Hunt Club Park Community Center\, 920 North Hunt Club Road\, Gurnee\, IL\, 60031\, United States
CATEGORIES:Special Events
ATTACH;FMTTYPE=image/png:https://www.gurneeparkdistrict.com/wp-content/uploads/2024/07/GPD-2024-Days-Off-School_Calendar-District-50-56-1080-x-1080.png
END:VEVENT
END:VCALENDAR