BEGIN:VCALENDAR
VERSION:2.0
PRODID:-//Gurnee Park District - ECPv6.15.20//NONSGML v1.0//EN
CALSCALE:GREGORIAN
METHOD:PUBLISH
X-ORIGINAL-URL:https://www.gurneeparkdistrict.com
X-WR-CALDESC:Events for Gurnee Park District
REFRESH-INTERVAL;VALUE=DURATION:PT1H
X-Robots-Tag:noindex
X-PUBLISHED-TTL:PT1H
BEGIN:VTIMEZONE
TZID:America/Chicago
BEGIN:DAYLIGHT
TZOFFSETFROM:-0600
TZOFFSETTO:-0500
TZNAME:CDT
DTSTART:20230312T080000
END:DAYLIGHT
BEGIN:STANDARD
TZOFFSETFROM:-0500
TZOFFSETTO:-0600
TZNAME:CST
DTSTART:20231105T070000
END:STANDARD
BEGIN:DAYLIGHT
TZOFFSETFROM:-0600
TZOFFSETTO:-0500
TZNAME:CDT
DTSTART:20240310T080000
END:DAYLIGHT
BEGIN:STANDARD
TZOFFSETFROM:-0500
TZOFFSETTO:-0600
TZNAME:CST
DTSTART:20241103T070000
END:STANDARD
BEGIN:DAYLIGHT
TZOFFSETFROM:-0600
TZOFFSETTO:-0500
TZNAME:CDT
DTSTART:20250309T080000
END:DAYLIGHT
BEGIN:STANDARD
TZOFFSETFROM:-0500
TZOFFSETTO:-0600
TZNAME:CST
DTSTART:20251102T070000
END:STANDARD
END:VTIMEZONE
BEGIN:VEVENT
DTSTART;TZID=America/Chicago:20241231T070000
DTEND;TZID=America/Chicago:20241231T143000
DTSTAMP:20260422T102805
CREATED:20241213T152419Z
LAST-MODIFIED:20241213T152419Z
UID:10000328-1735628400-1735655400@www.gurneeparkdistrict.com
SUMMARY:Member Lap Swim
DESCRIPTION:Reserved for FitNation members or day pass visitors. Lifeguards WILL NOT be on duty during member lap swim. View FitNation Pool Rules and Regulations
URL:https://www.gurneeparkdistrict.com/event/member-lap-swim-577/
LOCATION:FitNation\, 1655 Nations Drive\, Gurnee\, IL\, 60031\, United States
CATEGORIES:FitNation Lap Swim
ATTACH;FMTTYPE=image/png:https://www.gurneeparkdistrict.com/wp-content/uploads/2024/02/Lap-Swim.png
END:VEVENT
BEGIN:VEVENT
DTSTART;TZID=America/Chicago:20241231T070000
DTEND;TZID=America/Chicago:20241231T150000
DTSTAMP:20260422T102805
CREATED:20241213T150100Z
LAST-MODIFIED:20241213T150100Z
UID:10000039-1735628400-1735657200@www.gurneeparkdistrict.com
SUMMARY:FitNation Pickleball - Reservations Required
DESCRIPTION:1) Pickleball is reserved for FitNation members only.\n2) All pickleball players must check-in at the front desk prior to entering the Flex Studio.\n3) Reservations for pickleball play must be made online via our website and will only be held for 15 minutes past the start time of the reservation. The court will be released if the players donâ€™t show by that time.\n4) Reservations made can be no longer than 2 hours per person/group. Multiple people in the same group cannot reserve the court for each person for 2 hours\n5) All group members need to be listed when the reservation is made.\n6) Paddles must be checked out from the front desk and a photo id is required in exchange for the equipment.\n7) Inappropriate language and fighting are prohibited at all times.
URL:https://www.gurneeparkdistrict.com/event/fitnation-pickleball-reservations-required-367/
LOCATION:FitNation\, 1655 Nations Drive\, Gurnee\, IL\, 60031\, United States
CATEGORIES:FitNation Pickleball
ATTACH;FMTTYPE=image/png:https://www.gurneeparkdistrict.com/wp-content/uploads/2024/04/FN-Pickleball_1.png
END:VEVENT
BEGIN:VEVENT
DTSTART;TZID=America/Chicago:20241231T073000
DTEND;TZID=America/Chicago:20241231T082000
DTSTAMP:20260422T102805
CREATED:20241213T150800Z
LAST-MODIFIED:20241213T150800Z
UID:10000255-1735630200-1735633200@www.gurneeparkdistrict.com
SUMMARY:Strong and Lean with Joy
DESCRIPTION:STRONG & LEAN: A challenging strength workout using light and heavy weights and a variety of other equipment to build long\, lean muscles and improve your muscular endurance\n(UBT: Upper Body Toning and Core only) \n*Add Group Exercise to your FitNation membership for an additional $12 per month.
URL:https://www.gurneeparkdistrict.com/event/strong-and-lean-with-joy-21/
LOCATION:FitNation\, 1655 Nations Drive\, Gurnee\, IL\, 60031\, United States
CATEGORIES:Group Exercise
ATTACH;FMTTYPE=image/png:https://www.gurneeparkdistrict.com/wp-content/uploads/2024/01/FitN2020_Group_Ex_Square_1.png
END:VEVENT
BEGIN:VEVENT
DTSTART;TZID=America/Chicago:20241231T083000
DTEND;TZID=America/Chicago:20241231T090000
DTSTAMP:20260422T102805
CREATED:20241213T150800Z
LAST-MODIFIED:20241213T150800Z
UID:10000256-1735633800-1735635600@www.gurneeparkdistrict.com
SUMMARY:Tabata Cardio with Gina
DESCRIPTION:TABATA CARDIO:  An intense HIIT cardio workout with 4 minute sets of work consisting of 8 20 sec rounds per set w/ a 10 sec rest. \n*Add Group Exercise to your FitNation membership for an additional $12 per month.
URL:https://www.gurneeparkdistrict.com/event/tabata-cardio-with-gina-43/
LOCATION:FitNation\, 1655 Nations Drive\, Gurnee\, IL\, 60031\, United States
CATEGORIES:Group Exercise
ATTACH;FMTTYPE=image/png:https://www.gurneeparkdistrict.com/wp-content/uploads/2024/01/FitN2020_Group_Ex_Square_1.png
END:VEVENT
BEGIN:VEVENT
DTSTART;TZID=America/Chicago:20241231T090000
DTEND;TZID=America/Chicago:20241231T094500
DTSTAMP:20260422T102805
CREATED:20241213T150801Z
LAST-MODIFIED:20241213T150801Z
UID:10000257-1735635600-1735638300@www.gurneeparkdistrict.com
SUMMARY:Core and More with Gina
DESCRIPTION:Core & More: 30 or 45 minutes of Core Blast training combined with multi muscular strength moves. \n*Add Group Exercise to your FitNation membership for an additional $12 per month.
URL:https://www.gurneeparkdistrict.com/event/core-and-more-with-gina-39/
LOCATION:FitNation\, 1655 Nations Drive\, Gurnee\, IL\, 60031\, United States
CATEGORIES:Group Exercise
ATTACH;FMTTYPE=image/png:https://www.gurneeparkdistrict.com/wp-content/uploads/2024/01/FitN2020_Group_Ex_Square_1.png
END:VEVENT
BEGIN:VEVENT
DTSTART;TZID=America/Chicago:20241231T090000
DTEND;TZID=America/Chicago:20241231T103000
DTSTAMP:20260422T102805
CREATED:20241219T221434Z
LAST-MODIFIED:20241219T221434Z
UID:10000762-1735635600-1735641000@www.gurneeparkdistrict.com
SUMMARY:Toddler Open Gym
DESCRIPTION:$4 R / $5 NR | children under 12 months are free\n$35 R / $44 NR | 10 count punch pass\nPayment is per child. \nToddler Open Gym is available from November – March. \nGreat opportunity for parents\, guardians\, and children to play in a social environment. We ask that a parent(s)/guardian(s) remain with their child(ren) to supervise play.\nPlease note the following safety requests prior to participating in Toddler Open Gym: \n1. Designed for toddlers 0 – 5 years of age\n2. All children must be accompanied by an adult\n3. Please have payment and proof of residency available for our customer service team\n4. Gym shoes must be worn on the court\n5. Street shoes\, roller shoes\, and Heelys are not permitted\n6. Proper\, active attire must be worn\n7. Bottled water is the only food/beverage permitted\n8. Foul/abusive language\, and attempted or physical confrontation are not permitted\n9. Gurnee Park District reserves the right to cancel and/or change Toddler Open Gym schedule at any time.\n10. Failure to adhere to any rule can result in expulsion from the facility\, revocation of membership\, suspension or banning from Toddler Open Gym
URL:https://www.gurneeparkdistrict.com/event/toddler-open-gym-18/2024-12-31/
LOCATION:Hunt Club Park Community Center\, 920 North Hunt Club Road\, Gurnee\, IL\, 60031\, United States
CATEGORIES:Toddler Open Gym
ATTACH;FMTTYPE=image/png:https://www.gurneeparkdistrict.com/wp-content/uploads/2024/10/GPD24_ToddlerOG.png
END:VEVENT
BEGIN:VEVENT
DTSTART;TZID=America/Chicago:20241231T094500
DTEND;TZID=America/Chicago:20241231T104000
DTSTAMP:20260422T102805
CREATED:20241213T150801Z
LAST-MODIFIED:20241213T150801Z
UID:10000258-1735638300-1735641600@www.gurneeparkdistrict.com
SUMMARY:Body Combat with Elizabeth
DESCRIPTION:BodyCombat – This fiercely energetic program is inspired by martial arts and draws from a wide array of disciplines such as Karate\, Tae Kwon Do\, Tai Chi and Muay Thai supported by driving music. \n*Add Group Exercise to your FitNation membership for an additional $12 per month.
URL:https://www.gurneeparkdistrict.com/event/body-combat-with-elizabeth-169/
LOCATION:FitNation\, 1655 Nations Drive\, Gurnee\, IL\, 60031\, United States
CATEGORIES:Group Exercise
ATTACH;FMTTYPE=image/png:https://www.gurneeparkdistrict.com/wp-content/uploads/2024/01/FitN2020_Group_Ex_Square_1.png
END:VEVENT
BEGIN:VEVENT
DTSTART;TZID=America/Chicago:20241231T094500
DTEND;TZID=America/Chicago:20241231T104500
DTSTAMP:20260422T102805
CREATED:20241213T150802Z
LAST-MODIFIED:20241213T150802Z
UID:10000259-1735638300-1735641900@www.gurneeparkdistrict.com
SUMMARY:Yoga with Sharon
DESCRIPTION:Yoga – In this class\, postures are practiced to align\, strengthen and promote flexibility. Breathing and meditation are also integrated. Emphasis on simplicity\, repetition\, and ease of movement. Full-body relaxation and balance are the goals\, as we make a full circuit of the body’s range of motion with standing postures\, twists\, forward folds\, and hip openers. Unless otherwise speci-fied\, yoga classes will follow Hatha format. Vinyasa- Smooth transitions from pose to pose.  The body moves in sync with the breath. Gentle and Yin Yoga:  Slower  paced and more meditation held for 3-5 minutes.  Please bring a Yoga mat with you to class. \n*Add Group Exercise to your FitNation membership for an additional $12 per month.
URL:https://www.gurneeparkdistrict.com/event/yoga-with-sharon-84/
LOCATION:FitNation\, 1655 Nations Drive\, Gurnee\, IL\, 60031\, United States
CATEGORIES:Group Exercise
ATTACH;FMTTYPE=image/png:https://www.gurneeparkdistrict.com/wp-content/uploads/2024/01/FitN2020_Group_Ex_Square_1.png
END:VEVENT
BEGIN:VEVENT
DTSTART;TZID=America/Chicago:20241231T104500
DTEND;TZID=America/Chicago:20241231T113000
DTSTAMP:20260422T102805
CREATED:20241213T150802Z
LAST-MODIFIED:20241213T150802Z
UID:10000260-1735641900-1735644600@www.gurneeparkdistrict.com
SUMMARY:Zumba with Elizabeth
DESCRIPTION:Zumba – A fun\, Latin\, cardio dance class that combines all styles of Latin dance/music. \n*Add Group Exercise to your FitNation membership for an additional $12 per month.
URL:https://www.gurneeparkdistrict.com/event/zumba-with-elizabeth-43/
LOCATION:FitNation\, 1655 Nations Drive\, Gurnee\, IL\, 60031\, United States
CATEGORIES:Group Exercise
ATTACH;FMTTYPE=image/png:https://www.gurneeparkdistrict.com/wp-content/uploads/2024/01/FitN2020_Group_Ex_Square_1.png
END:VEVENT
END:VCALENDAR