BEGIN:VCALENDAR
VERSION:2.0
PRODID:-//Gurnee Park District - ECPv6.15.20//NONSGML v1.0//EN
CALSCALE:GREGORIAN
METHOD:PUBLISH
X-ORIGINAL-URL:https://www.gurneeparkdistrict.com
X-WR-CALDESC:Events for Gurnee Park District
REFRESH-INTERVAL;VALUE=DURATION:PT1H
X-Robots-Tag:noindex
X-PUBLISHED-TTL:PT1H
BEGIN:VTIMEZONE
TZID:America/Chicago
BEGIN:DAYLIGHT
TZOFFSETFROM:-0600
TZOFFSETTO:-0500
TZNAME:CDT
DTSTART:20230312T080000
END:DAYLIGHT
BEGIN:STANDARD
TZOFFSETFROM:-0500
TZOFFSETTO:-0600
TZNAME:CST
DTSTART:20231105T070000
END:STANDARD
BEGIN:DAYLIGHT
TZOFFSETFROM:-0600
TZOFFSETTO:-0500
TZNAME:CDT
DTSTART:20240310T080000
END:DAYLIGHT
BEGIN:STANDARD
TZOFFSETFROM:-0500
TZOFFSETTO:-0600
TZNAME:CST
DTSTART:20241103T070000
END:STANDARD
BEGIN:DAYLIGHT
TZOFFSETFROM:-0600
TZOFFSETTO:-0500
TZNAME:CDT
DTSTART:20250309T080000
END:DAYLIGHT
BEGIN:STANDARD
TZOFFSETFROM:-0500
TZOFFSETTO:-0600
TZNAME:CST
DTSTART:20251102T070000
END:STANDARD
END:VTIMEZONE
BEGIN:VEVENT
DTSTART;TZID=America/Chicago:20241224T070000
DTEND;TZID=America/Chicago:20241224T113000
DTSTAMP:20260419T220308
CREATED:20241213T152411Z
LAST-MODIFIED:20241213T152411Z
UID:10000314-1735023600-1735039800@www.gurneeparkdistrict.com
SUMMARY:Member Lap Swim
DESCRIPTION:Reserved for FitNation members or day pass visitors. Lifeguards WILL NOT be on duty during member lap swim. View FitNation Pool Rules and Regulations
URL:https://www.gurneeparkdistrict.com/event/member-lap-swim-566/
LOCATION:FitNation\, 1655 Nations Drive\, Gurnee\, IL\, 60031\, United States
CATEGORIES:FitNation Lap Swim
ATTACH;FMTTYPE=image/png:https://www.gurneeparkdistrict.com/wp-content/uploads/2024/02/Lap-Swim.png
END:VEVENT
BEGIN:VEVENT
DTSTART;TZID=America/Chicago:20241224T070000
DTEND;TZID=America/Chicago:20241224T120000
DTSTAMP:20260419T220308
CREATED:20241213T150056Z
LAST-MODIFIED:20241213T150056Z
UID:10000033-1735023600-1735041600@www.gurneeparkdistrict.com
SUMMARY:FitNation Pickleball - Reservations Required
DESCRIPTION:1) Pickleball is reserved for FitNation members only.\n2) All pickleball players must check-in at the front desk prior to entering the Flex Studio.\n3) Reservations for pickleball play must be made online via our website and will only be held for 15 minutes past the start time of the reservation. The court will be released if the players donâ€™t show by that time.\n4) Reservations made can be no longer than 2 hours per person/group. Multiple people in the same group cannot reserve the court for each person for 2 hours\n5) All group members need to be listed when the reservation is made.\n6) Paddles must be checked out from the front desk and a photo id is required in exchange for the equipment.\n7) Inappropriate language and fighting are prohibited at all times.
URL:https://www.gurneeparkdistrict.com/event/fitnation-pickleball-reservations-required-361/
LOCATION:FitNation\, 1655 Nations Drive\, Gurnee\, IL\, 60031\, United States
CATEGORIES:FitNation Pickleball
ATTACH;FMTTYPE=image/png:https://www.gurneeparkdistrict.com/wp-content/uploads/2024/04/FN-Pickleball_1.png
END:VEVENT
BEGIN:VEVENT
DTSTART;TZID=America/Chicago:20241224T080000
DTEND;TZID=America/Chicago:20241224T084500
DTSTAMP:20260419T220308
CREATED:20241213T150741Z
LAST-MODIFIED:20241213T150741Z
UID:10000216-1735027200-1735029900@www.gurneeparkdistrict.com
SUMMARY:Strength and Core with Mandi
DESCRIPTION:Strength – Tighten\, tone and strengthen the entire body using dumbbells\, tubes\, medicine balls\, body bars and your own body weight for resistance. \n*Add Group Exercise to your FitNation membership for an additional $12 per month.
URL:https://www.gurneeparkdistrict.com/event/strength-and-core-with-mandi/
LOCATION:FitNation\, 1655 Nations Drive\, Gurnee\, IL\, 60031\, United States
CATEGORIES:Group Exercise
ATTACH;FMTTYPE=image/png:https://www.gurneeparkdistrict.com/wp-content/uploads/2024/01/FitN2020_Group_Ex_Square_1.png
END:VEVENT
BEGIN:VEVENT
DTSTART;TZID=America/Chicago:20241224T080000
DTEND;TZID=America/Chicago:20241224T085000
DTSTAMP:20260419T220308
CREATED:20241213T150740Z
LAST-MODIFIED:20241213T150740Z
UID:10000215-1735027200-1735030200@www.gurneeparkdistrict.com
SUMMARY:Holiday Ride with Linda
DESCRIPTION:Cycle – An awesome indoor cycling class that provides fun and a challenging cardiovascular workout for all fitness levels. \nThis class is available to 21 members on a first come\, first serve basis. \nPlease note that group exercise protocols are subject to change based on overall experience and demand. \n*Add Group Exercise to your FitNation membership for an additional $12 per month.
URL:https://www.gurneeparkdistrict.com/event/holiday-ride-with-linda/
LOCATION:FitNation\, 1655 Nations Drive\, Gurnee\, IL\, 60031\, United States
CATEGORIES:Group Exercise
ATTACH;FMTTYPE=image/png:https://www.gurneeparkdistrict.com/wp-content/uploads/2024/01/FitN2020_Group_Ex_Square_1.png
END:VEVENT
BEGIN:VEVENT
DTSTART;TZID=America/Chicago:20241224T084500
DTEND;TZID=America/Chicago:20241224T094500
DTSTAMP:20260419T220308
CREATED:20241213T150741Z
LAST-MODIFIED:20241213T150741Z
UID:10000217-1735029900-1735033500@www.gurneeparkdistrict.com
SUMMARY:Body Combat with Elizabeth
DESCRIPTION:BodyCombat – This fiercely energetic program is inspired by martial arts and draws from a wide array of disciplines such as Karate\, Tae Kwon Do\, Tai Chi and Muay Thai supported by driving music. \n*Add Group Exercise to your FitNation membership for an additional $12 per month.
URL:https://www.gurneeparkdistrict.com/event/body-combat-with-elizabeth-167/
LOCATION:FitNation\, 1655 Nations Drive\, Gurnee\, IL\, 60031\, United States
CATEGORIES:Group Exercise
ATTACH;FMTTYPE=image/png:https://www.gurneeparkdistrict.com/wp-content/uploads/2024/01/FitN2020_Group_Ex_Square_1.png
END:VEVENT
BEGIN:VEVENT
DTSTART;TZID=America/Chicago:20241224T090000
DTEND;TZID=America/Chicago:20241224T100000
DTSTAMP:20260419T220308
CREATED:20241213T150741Z
LAST-MODIFIED:20241213T150741Z
UID:10000218-1735030800-1735034400@www.gurneeparkdistrict.com
SUMMARY:HydroFit with Diane
DESCRIPTION:Hydro-Fit – This class uses water’s resistance for an aerobic\, strengthening and ROM workout.  The water allows for less joint impact and an increase in hydrostatic pressure.  \nClasses are available to 30 members on a first come\, first serve basis. \nPlease note that group exercise protocols are subject to change based on overall experience and demand. \n*Add Group Exercise to your FitNation membership for an additional $12 per month.
URL:https://www.gurneeparkdistrict.com/event/hydrofit-with-diane-80/
LOCATION:FitNation\, 1655 Nations Drive\, Gurnee\, IL\, 60031\, United States
CATEGORIES:Group Exercise
ATTACH;FMTTYPE=image/png:https://www.gurneeparkdistrict.com/wp-content/uploads/2024/01/FitN2020_Group_Ex_Square_1.png
END:VEVENT
BEGIN:VEVENT
DTSTART;TZID=America/Chicago:20241224T100000
DTEND;TZID=America/Chicago:20241224T110000
DTSTAMP:20260419T220308
CREATED:20241213T150742Z
LAST-MODIFIED:20241213T150742Z
UID:10000219-1735034400-1735038000@www.gurneeparkdistrict.com
SUMMARY:Restorative Yoga with Rachel
DESCRIPTION:Yoga – In this class\, postures are practiced to align\, strengthen and promote flexibility. Breathing and meditation are also integrated. Emphasis on simplicity\, repetition\, and ease of movement. Full-body relaxation and balance are the goals\, as we make a full circuit of the body’s range of motion with standing postures\, twists\, forward folds\, and hip openers. Unless otherwise speci-fied\, yoga classes will follow Hatha format. Vinyasa- Smooth transitions from pose to pose.  The body moves in sync with the breath. Gentle and Yin Yoga:  Slower  paced and more meditation held for 3-5 minutes.  Please bring a Yoga mat with you to class. \n*Add Group Exercise to your FitNation membership for an additional $12 per month.
URL:https://www.gurneeparkdistrict.com/event/restorative-yoga-with-rachel/
LOCATION:FitNation\, 1655 Nations Drive\, Gurnee\, IL\, 60031\, United States
CATEGORIES:Group Exercise
ATTACH;FMTTYPE=image/png:https://www.gurneeparkdistrict.com/wp-content/uploads/2024/01/FitN2020_Group_Ex_Square_1.png
END:VEVENT
END:VCALENDAR