BEGIN:VCALENDAR
VERSION:2.0
PRODID:-//Gurnee Park District - ECPv6.15.20//NONSGML v1.0//EN
CALSCALE:GREGORIAN
METHOD:PUBLISH
X-ORIGINAL-URL:https://www.gurneeparkdistrict.com
X-WR-CALDESC:Events for Gurnee Park District
REFRESH-INTERVAL;VALUE=DURATION:PT1H
X-Robots-Tag:noindex
X-PUBLISHED-TTL:PT1H
BEGIN:VTIMEZONE
TZID:America/Chicago
BEGIN:DAYLIGHT
TZOFFSETFROM:-0600
TZOFFSETTO:-0500
TZNAME:CDT
DTSTART:20230312T080000
END:DAYLIGHT
BEGIN:STANDARD
TZOFFSETFROM:-0500
TZOFFSETTO:-0600
TZNAME:CST
DTSTART:20231105T070000
END:STANDARD
BEGIN:DAYLIGHT
TZOFFSETFROM:-0600
TZOFFSETTO:-0500
TZNAME:CDT
DTSTART:20240310T080000
END:DAYLIGHT
BEGIN:STANDARD
TZOFFSETFROM:-0500
TZOFFSETTO:-0600
TZNAME:CST
DTSTART:20241103T070000
END:STANDARD
BEGIN:DAYLIGHT
TZOFFSETFROM:-0600
TZOFFSETTO:-0500
TZNAME:CDT
DTSTART:20250309T080000
END:DAYLIGHT
BEGIN:STANDARD
TZOFFSETFROM:-0500
TZOFFSETTO:-0600
TZNAME:CST
DTSTART:20251102T070000
END:STANDARD
END:VTIMEZONE
BEGIN:VEVENT
DTSTART;TZID=America/Chicago:20241217T173000
DTEND;TZID=America/Chicago:20241217T200000
DTSTAMP:20260424T193934
CREATED:20241213T204029Z
LAST-MODIFIED:20241213T204029Z
UID:10000357-1734456600-1734465600@www.gurneeparkdistrict.com
SUMMARY:Chat With Santa
DESCRIPTION:Ring\, ring\, ring…it’s Santa calling! Gurnee Park District residents – save your child’s spot-on Santa’s call list and enjoy seeing them light up with excitement as they share their favorite holiday wishes over the phone! \nTo prepare\, Gurnee Park District staff will email parents/guardians an information form to complete so that Santa has the most current information when on the call.\nPlease note: Santa may have many phone calls to make\, therefore\, he can only chat with children registered for the program (3-5 minutes). \n*This event is for Gurnee Park District residents only \nTuesday\, December 17th from 5:30-8:00pm  \n 
URL:https://www.gurneeparkdistrict.com/event/chat-with-santa-2/
LOCATION:IL
CATEGORIES:Special Events
ATTACH;FMTTYPE=image/png:https://www.gurneeparkdistrict.com/wp-content/uploads/2024/07/GPD-2024-Chat-with-Santa_Calendar-1080-x-1080-1.png
END:VEVENT
END:VCALENDAR