BEGIN:VCALENDAR
VERSION:2.0
PRODID:-//Gurnee Park District - ECPv6.15.20//NONSGML v1.0//EN
CALSCALE:GREGORIAN
METHOD:PUBLISH
X-WR-CALNAME:Gurnee Park District
X-ORIGINAL-URL:https://www.gurneeparkdistrict.com
X-WR-CALDESC:Events for Gurnee Park District
REFRESH-INTERVAL;VALUE=DURATION:PT1H
X-Robots-Tag:noindex
X-PUBLISHED-TTL:PT1H
BEGIN:VTIMEZONE
TZID:America/Chicago
BEGIN:DAYLIGHT
TZOFFSETFROM:-0600
TZOFFSETTO:-0500
TZNAME:CDT
DTSTART:20230312T080000
END:DAYLIGHT
BEGIN:STANDARD
TZOFFSETFROM:-0500
TZOFFSETTO:-0600
TZNAME:CST
DTSTART:20231105T070000
END:STANDARD
BEGIN:DAYLIGHT
TZOFFSETFROM:-0600
TZOFFSETTO:-0500
TZNAME:CDT
DTSTART:20240310T080000
END:DAYLIGHT
BEGIN:STANDARD
TZOFFSETFROM:-0500
TZOFFSETTO:-0600
TZNAME:CST
DTSTART:20241103T070000
END:STANDARD
BEGIN:DAYLIGHT
TZOFFSETFROM:-0600
TZOFFSETTO:-0500
TZNAME:CDT
DTSTART:20250309T080000
END:DAYLIGHT
BEGIN:STANDARD
TZOFFSETFROM:-0500
TZOFFSETTO:-0600
TZNAME:CST
DTSTART:20251102T070000
END:STANDARD
END:VTIMEZONE
BEGIN:VEVENT
DTSTART;TZID=America/Chicago:20241214T070000
DTEND;TZID=America/Chicago:20241214T080000
DTSTAMP:20260419T190222
CREATED:20241213T150049Z
LAST-MODIFIED:20241213T150049Z
UID:10000021-1734159600-1734163200@www.gurneeparkdistrict.com
SUMMARY:FitNation Pickleball - Reservations Required
DESCRIPTION:1) Pickleball is reserved for FitNation members only.\n2) All pickleball players must check-in at the front desk prior to entering the Flex Studio.\n3) Reservations for pickleball play must be made online via our website and will only be held for 15 minutes past the start time of the reservation. The court will be released if the players donâ€™t show by that time.\n4) Reservations made can be no longer than 2 hours per person/group. Multiple people in the same group cannot reserve the court for each person for 2 hours\n5) All group members need to be listed when the reservation is made.\n6) Paddles must be checked out from the front desk and a photo id is required in exchange for the equipment.\n7) Inappropriate language and fighting are prohibited at all times.
URL:https://www.gurneeparkdistrict.com/event/fitnation-pickleball-reservations-required-349/
LOCATION:FitNation\, 1655 Nations Drive\, Gurnee\, IL\, 60031\, United States
CATEGORIES:FitNation Pickleball
ATTACH;FMTTYPE=image/png:https://www.gurneeparkdistrict.com/wp-content/uploads/2024/04/FN-Pickleball_1.png
END:VEVENT
BEGIN:VEVENT
DTSTART;TZID=America/Chicago:20241214T070000
DTEND;TZID=America/Chicago:20241214T080000
DTSTAMP:20260419T190222
CREATED:20241213T152357Z
LAST-MODIFIED:20241213T152357Z
UID:10000291-1734159600-1734163200@www.gurneeparkdistrict.com
SUMMARY:Member Lap Swim
DESCRIPTION:Reserved for FitNation members or day pass visitors. Lifeguards WILL NOT be on duty during member lap swim. View FitNation Pool Rules and Regulations
URL:https://www.gurneeparkdistrict.com/event/member-lap-swim-545/
LOCATION:FitNation\, 1655 Nations Drive\, Gurnee\, IL\, 60031\, United States
CATEGORIES:FitNation Lap Swim
ATTACH;FMTTYPE=image/png:https://www.gurneeparkdistrict.com/wp-content/uploads/2024/02/Lap-Swim.png
END:VEVENT
BEGIN:VEVENT
DTSTART;TZID=America/Chicago:20241214T070000
DTEND;TZID=America/Chicago:20241214T090000
DTSTAMP:20260419T190222
CREATED:20241213T154057Z
LAST-MODIFIED:20241213T154057Z
UID:10000343-1734159600-1734166800@www.gurneeparkdistrict.com
SUMMARY:Adult Open Gym
DESCRIPTION:Tuesday Evening & Saturday Morning 19+ 	 \n– FitNation Members Only or 10 visit punch pass user open gym \n1. Payment or proof of FitNation membership must be made at the registration desk\n2. Gym shoes must be worn on the court\n3. Street shoes\, roller shoes\, and Heelys are not permitted\n4. Proper attire must be worn\n5. Bottled water is the only food/beverage permitted\n6. Foul or abusive language attempted confrontation or physical confrontation will result in immediate expulsion from the facility\n7. No person or team can â€œownâ€ the court\n8. If only one court is available\, side courts might be required based on age\, skill level and the number of participants\n9.  If two courts are available\, courts might be divided by age\, skill level and the number of participants\n10. Teaching private lessons and conducting team practices are not permitted\n11. Gurnee Park District reserves the right to cancel and/or change this schedule at any time\n12. No dunking\n13. Failure to adhere to any rule can result in expulsion from the facility\, revocation of FitNation membership\, and/or suspension/banning from the open gym
URL:https://www.gurneeparkdistrict.com/event/adult-open-gym-59/
LOCATION:Hunt Club Park Community Center\, 920 North Hunt Club Road\, Gurnee\, IL\, 60031\, United States
CATEGORIES:Hunt Club Open Gym
ATTACH;FMTTYPE=image/png:https://www.gurneeparkdistrict.com/wp-content/uploads/2024/02/HC-Open-Gym.png
END:VEVENT
BEGIN:VEVENT
DTSTART;TZID=America/Chicago:20241214T073000
DTEND;TZID=America/Chicago:20241214T083000
DTSTAMP:20260419T190222
CREATED:20241213T150702Z
LAST-MODIFIED:20241213T150702Z
UID:10000141-1734161400-1734165000@www.gurneeparkdistrict.com
SUMMARY:Body Pump with Cristina
DESCRIPTION:BodyPump – A choreographed strength and conditioning classes that uses high repetition with weighted barbells and inspiring music to motivate participants through 10 music tracks. (Please note\, express classes will complete less than 10 tracks.) \n*Add Group Exercise to your FitNation membership for an additional $12 per month.
URL:https://www.gurneeparkdistrict.com/event/body-pump-with-cristina-18/
LOCATION:FitNation\, 1655 Nations Drive\, Gurnee\, IL\, 60031\, United States
CATEGORIES:Group Exercise
ATTACH;FMTTYPE=image/png:https://www.gurneeparkdistrict.com/wp-content/uploads/2024/01/FitN2020_Group_Ex_Square_1.png
END:VEVENT
BEGIN:VEVENT
DTSTART;TZID=America/Chicago:20241214T074500
DTEND;TZID=America/Chicago:20241214T083500
DTSTAMP:20260419T190222
CREATED:20241213T150702Z
LAST-MODIFIED:20241213T150702Z
UID:10000142-1734162300-1734165300@www.gurneeparkdistrict.com
SUMMARY:Cycle with Kevin
DESCRIPTION:Cycle – An awesome indoor cycling class that provides fun and a challenging cardiovascular workout for all fitness levels. \nThis class is available to 21 members on a first come\, first serve basis. \nPlease note that group exercise protocols are subject to change based on overall experience and demand. \n*Add Group Exercise to your FitNation membership for an additional $12 per month.
URL:https://www.gurneeparkdistrict.com/event/cycle-with-kevin-43/
LOCATION:FitNation\, 1655 Nations Drive\, Gurnee\, IL\, 60031\, United States
CATEGORIES:Group Exercise
ATTACH;FMTTYPE=image/png:https://www.gurneeparkdistrict.com/wp-content/uploads/2024/01/FitN2020_Group_Ex_Square_1.png
END:VEVENT
BEGIN:VEVENT
DTSTART;TZID=America/Chicago:20241214T084500
DTEND;TZID=America/Chicago:20241214T093500
DTSTAMP:20260419T190222
CREATED:20241213T150704Z
LAST-MODIFIED:20241213T150704Z
UID:10000144-1734165900-1734168900@www.gurneeparkdistrict.com
SUMMARY:Cardio Sculpt with Ilona
DESCRIPTION:This low impact aerobic training will use light weight or body weight intervals to tone and strengthen.
URL:https://www.gurneeparkdistrict.com/event/cardio-sculpt-with-ilona-24/
LOCATION:FitNation\, 1655 Nations Drive\, Gurnee\, IL\, 60031\, United States
CATEGORIES:Group Exercise
ATTACH;FMTTYPE=image/png:https://www.gurneeparkdistrict.com/wp-content/uploads/2024/01/FitN2020_Group_Ex_Square_1.png
END:VEVENT
BEGIN:VEVENT
DTSTART;TZID=America/Chicago:20241214T084500
DTEND;TZID=America/Chicago:20241214T094500
DTSTAMP:20260419T190222
CREATED:20241213T150703Z
LAST-MODIFIED:20241213T150703Z
UID:10000143-1734165900-1734169500@www.gurneeparkdistrict.com
SUMMARY:Body Pump with Denise/Amy
DESCRIPTION:BodyPump – A choreographed strength and conditioning classes that uses high repetition with weighted barbells and inspiring music to motivate participants through 10 music tracks. (Please note\, express classes will complete less than 10 tracks.) \n*Add Group Exercise to your FitNation membership for an additional $12 per month.
URL:https://www.gurneeparkdistrict.com/event/body-pump-with-denise-amy-32/
LOCATION:FitNation\, 1655 Nations Drive\, Gurnee\, IL\, 60031\, United States
CATEGORIES:Group Exercise
ATTACH;FMTTYPE=image/png:https://www.gurneeparkdistrict.com/wp-content/uploads/2024/01/FitN2020_Group_Ex_Square_1.png
END:VEVENT
BEGIN:VEVENT
DTSTART;TZID=America/Chicago:20241214T090000
DTEND;TZID=America/Chicago:20241214T090000
DTSTAMP:20260419T190222
CREATED:20240716T232304Z
LAST-MODIFIED:20241213T212200Z
UID:10000395-1734166800-1734166800@www.gurneeparkdistrict.com
SUMMARY:GO Gurnee Walking Club
DESCRIPTION:Join the GO Gurnee Walking Club at Fire Station #2 Bike Path. (6581 Dada Drive in Gurnee.) \nView map location here! \nDirections/Walk Details: This is near the Gurnee Jewel. Park in the EAST lot of the fire station. The bike path is behind the station. We’ll walk WEST along the path for roughly 1.5 miles and then turn around. Crushed gravel. Pets allowed. No restrooms. \nNot a Walking Club member? Join for FREE today!
URL:https://www.gurneeparkdistrict.com/event/go-gurnee-walking-club-49/
LOCATION:IL
CATEGORIES:GO Gurnee
ATTACH;FMTTYPE=image/png:https://www.gurneeparkdistrict.com/wp-content/uploads/2024/07/FN2022-Fall-Square.png
END:VEVENT
BEGIN:VEVENT
DTSTART;TZID=America/Chicago:20241214T100000
DTEND;TZID=America/Chicago:20241214T110000
DTSTAMP:20260419T190222
CREATED:20241213T150704Z
LAST-MODIFIED:20241213T150704Z
UID:10000145-1734170400-1734174000@www.gurneeparkdistrict.com
SUMMARY:Body Attack with Kristin
DESCRIPTION:BodyAttack – A high energy\, sports-inspired interval training\, cardio workout for building strength and stamina. Dynamic instructors and powerful music motivate everyone towards his/her fitness goals. BODYATTACK & CORE IT:  BodyAttack tracks with intervals of core training. \n*Add Group Exercise to your FitNation membership for an additional $12 per month.
URL:https://www.gurneeparkdistrict.com/event/body-attack-with-kristin-41/
LOCATION:FitNation\, 1655 Nations Drive\, Gurnee\, IL\, 60031\, United States
CATEGORIES:Group Exercise
ATTACH;FMTTYPE=image/png:https://www.gurneeparkdistrict.com/wp-content/uploads/2024/01/FitN2020_Group_Ex_Square_1.png
END:VEVENT
BEGIN:VEVENT
DTSTART;TZID=America/Chicago:20241214T100000
DTEND;TZID=America/Chicago:20241214T110000
DTSTAMP:20260419T190222
CREATED:20241213T150705Z
LAST-MODIFIED:20241213T150705Z
UID:10000146-1734170400-1734174000@www.gurneeparkdistrict.com
SUMMARY:Zumba with Erica
DESCRIPTION:Zumba – A fun\, Latin\, cardio dance class that combines all styles of Latin dance/music. \n*Add Group Exercise to your FitNation membership for an additional $12 per month.
URL:https://www.gurneeparkdistrict.com/event/zumba-with-erica-41/
LOCATION:FitNation\, 1655 Nations Drive\, Gurnee\, IL\, 60031\, United States
CATEGORIES:Group Exercise
ATTACH;FMTTYPE=image/png:https://www.gurneeparkdistrict.com/wp-content/uploads/2024/01/FitN2020_Group_Ex_Square_1.png
END:VEVENT
BEGIN:VEVENT
DTSTART;TZID=America/Chicago:20241214T113000
DTEND;TZID=America/Chicago:20241214T163000
DTSTAMP:20260419T190222
CREATED:20241213T152358Z
LAST-MODIFIED:20241213T152358Z
UID:10000292-1734175800-1734193800@www.gurneeparkdistrict.com
SUMMARY:Member Lap Swim
DESCRIPTION:Reserved for FitNation members or day pass visitors. Lifeguards WILL NOT be on duty during member lap swim. View FitNation Pool Rules and Regulations
URL:https://www.gurneeparkdistrict.com/event/member-lap-swim-546/
LOCATION:FitNation\, 1655 Nations Drive\, Gurnee\, IL\, 60031\, United States
CATEGORIES:FitNation Lap Swim
ATTACH;FMTTYPE=image/png:https://www.gurneeparkdistrict.com/wp-content/uploads/2024/02/Lap-Swim.png
END:VEVENT
BEGIN:VEVENT
DTSTART;TZID=America/Chicago:20241214T120000
DTEND;TZID=America/Chicago:20241214T170000
DTSTAMP:20260419T190222
CREATED:20241213T150050Z
LAST-MODIFIED:20241213T150050Z
UID:10000022-1734177600-1734195600@www.gurneeparkdistrict.com
SUMMARY:FitNation Pickleball - Reservations Required
DESCRIPTION:1) Pickleball is reserved for FitNation members only.\n2) All pickleball players must check-in at the front desk prior to entering the Flex Studio.\n3) Reservations for pickleball play must be made online via our website and will only be held for 15 minutes past the start time of the reservation. The court will be released if the players donâ€™t show by that time.\n4) Reservations made can be no longer than 2 hours per person/group. Multiple people in the same group cannot reserve the court for each person for 2 hours\n5) All group members need to be listed when the reservation is made.\n6) Paddles must be checked out from the front desk and a photo id is required in exchange for the equipment.\n7) Inappropriate language and fighting are prohibited at all times.
URL:https://www.gurneeparkdistrict.com/event/fitnation-pickleball-reservations-required-350/
LOCATION:FitNation\, 1655 Nations Drive\, Gurnee\, IL\, 60031\, United States
CATEGORIES:FitNation Pickleball
ATTACH;FMTTYPE=image/png:https://www.gurneeparkdistrict.com/wp-content/uploads/2024/04/FN-Pickleball_1.png
END:VEVENT
BEGIN:VEVENT
DTSTART;TZID=America/Chicago:20241214T130000
DTEND;TZID=America/Chicago:20241214T150000
DTSTAMP:20260419T190222
CREATED:20241213T154058Z
LAST-MODIFIED:20241213T154058Z
UID:10000344-1734181200-1734188400@www.gurneeparkdistrict.com
SUMMARY:Family Open Gym
DESCRIPTION:Fee: $5.00 | FREE to FitNation Members\nFamilies are invited to open gym.  All ages and ability levels are encouraged to have some fun\, play pick up games or practice skills.\nGurnee Park District requests that guests and FitNation members are aware of the following regulations.  \n1. Children 8 years and under must be accompanied by an adult\n2. Children 9-11 years old must have a parent or guardian present in the facility\n3. Payment or proof of FitNation membership must be made at the registration desk\n4. Gym shoes must be worn on the court\n5. Street shoes\, roller shoes\, and Heelys are not permitted\n6. Proper attire must be worn.\n7. Bottled water is the only food/beverage permitted\n8. Foul or abusive language attempted confrontation or physical confrontation will result in immediate expulsion from the facility\n9. No person or team can â€œownâ€ the court.\n10. If only one court is available\, side courts might be required based on age\, skill level and the number of participants\n11.  If two courts are available\, courts might be divided by age\, skill level and the number of participants.\n12. Teaching private lessons and conducting team practices are not permitted.\n13. Gurnee Park District reserves the right to cancel and/or change this schedule at any time\n14. No dunking\n15. Failure to adhere to any rule can result in expulsion from the facility\, revocation of FitNation membership\, and/or suspension/banning from the open gym.
URL:https://www.gurneeparkdistrict.com/event/family-open-gym-36/
LOCATION:Hunt Club Park Community Center\, 920 North Hunt Club Road\, Gurnee\, IL\, 60031\, United States
CATEGORIES:Hunt Club Open Gym
ATTACH;FMTTYPE=image/png:https://www.gurneeparkdistrict.com/wp-content/uploads/2024/02/HC-Open-Gym.png
END:VEVENT
BEGIN:VEVENT
DTSTART;TZID=America/Chicago:20241214T155200
DTEND;TZID=America/Chicago:20241214T170000
DTSTAMP:20260419T190223
CREATED:20240709T200332Z
LAST-MODIFIED:20241213T205018Z
UID:10000363-1734191520-1734195600@www.gurneeparkdistrict.com
SUMMARY:Arctic Express
DESCRIPTION:All aboard!!! Inspired by the popular children’s book\, join Gurnee Park District for a magical event that includes a holiday train ride and lots of FUN along the way! Participants will enjoy an interactive story with music\, singing\, dancing\, and many surprises as they make their way to their destination – the “North Pole”! Once there\, Mr. and Mrs. Claus will jump onboard to share a quick visit and hand out one very special gift to each child before everyone makes the journey back home! \nImportant information: All participants will board at the Grayslake Train Station (Lake Street & St. Paul Street\, Grayslake\, IL). When you arrive\, GPD staff will guide you to the boarding locations. Please arrive 15 minutes early to check-in at the station – the train will not wait for latecomers.\nAll children must be accompanied by a paying adult and each person attending must be registered for the event. No “at-the-door” registrations will be accepted. The Gurnee Park District is not responsible for delayed\, cancelled\, or missed trains due to Metra’s scheduling. \nPARENTS: Please check the email we have in your GPD online account and make sure it is correct. We send out information via email prior to the event and we are not responsible for incorrect/old email addresses or emails that go to spam.\nRegistration for residents begins Friday\, November 1\, 2024\, and non-residents Friday\, November 15\, 2024.
URL:https://www.gurneeparkdistrict.com/event/arctic-express-2/2024-12-14/2/
LOCATION:IL
CATEGORIES:Special Events
ATTACH;FMTTYPE=image/png:https://www.gurneeparkdistrict.com/wp-content/uploads/2024/07/GPD-2024-Digital-Campaign-Arctic-Express_Calendar-1080-x-1080.png
END:VEVENT
BEGIN:VEVENT
DTSTART;TZID=America/Chicago:20241214T195200
DTEND;TZID=America/Chicago:20241214T210000
DTSTAMP:20260419T190223
CREATED:20240709T200332Z
LAST-MODIFIED:20241213T205018Z
UID:10000364-1734205920-1734210000@www.gurneeparkdistrict.com
SUMMARY:Arctic Express
DESCRIPTION:All aboard!!! Inspired by the popular children’s book\, join Gurnee Park District for a magical event that includes a holiday train ride and lots of FUN along the way! Participants will enjoy an interactive story with music\, singing\, dancing\, and many surprises as they make their way to their destination – the “North Pole”! Once there\, Mr. and Mrs. Claus will jump onboard to share a quick visit and hand out one very special gift to each child before everyone makes the journey back home! \nImportant information: All participants will board at the Grayslake Train Station (Lake Street & St. Paul Street\, Grayslake\, IL). When you arrive\, GPD staff will guide you to the boarding locations. Please arrive 15 minutes early to check-in at the station – the train will not wait for latecomers.\nAll children must be accompanied by a paying adult and each person attending must be registered for the event. No “at-the-door” registrations will be accepted. The Gurnee Park District is not responsible for delayed\, cancelled\, or missed trains due to Metra’s scheduling. \nPARENTS: Please check the email we have in your GPD online account and make sure it is correct. We send out information via email prior to the event and we are not responsible for incorrect/old email addresses or emails that go to spam.\nRegistration for residents begins Friday\, November 1\, 2024\, and non-residents Friday\, November 15\, 2024.
URL:https://www.gurneeparkdistrict.com/event/arctic-express-2/2024-12-14/3/
LOCATION:IL
CATEGORIES:Special Events
ATTACH;FMTTYPE=image/png:https://www.gurneeparkdistrict.com/wp-content/uploads/2024/07/GPD-2024-Digital-Campaign-Arctic-Express_Calendar-1080-x-1080.png
END:VEVENT
END:VCALENDAR